BEGIN:VCALENDAR
VERSION:2.0
PRODID:-//Old Iron Garage - ECPv6.6.3//NONSGML v1.0//EN
CALSCALE:GREGORIAN
METHOD:PUBLISH
X-WR-CALNAME:Old Iron Garage
X-ORIGINAL-URL:https://oldirongarage.com
X-WR-CALDESC:Events for Old Iron Garage
REFRESH-INTERVAL;VALUE=DURATION:PT1H
X-Robots-Tag:noindex
X-PUBLISHED-TTL:PT1H
BEGIN:VTIMEZONE
TZID:America/Chicago
BEGIN:DAYLIGHT
TZOFFSETFROM:-0600
TZOFFSETTO:-0500
TZNAME:CDT
DTSTART:20240310T080000
END:DAYLIGHT
BEGIN:STANDARD
TZOFFSETFROM:-0500
TZOFFSETTO:-0600
TZNAME:CST
DTSTART:20241103T070000
END:STANDARD
END:VTIMEZONE
BEGIN:VEVENT
DTSTART;TZID=America/Chicago:20241025T090000
DTEND;TZID=America/Chicago:20241025T170000
DTSTAMP:20260425T080055
CREATED:20240522T161320Z
LAST-MODIFIED:20240522T161320Z
UID:10000977-1729846800-1729875600@oldirongarage.com
SUMMARY:Connecticut Antique Machinery Association Museum Annual Fall Festival
DESCRIPTION:Connecticut Antique Machinery Association Museum Annual Fall Festival\nWhen: September 27-29\, 2024\nWhere: 31B Kent-Cornwall Rd (Rt. 7) Kent\, CT\, 06757; 1 Mile North of town center\nContact: John Pawloski\, 860-354-0296; Email: j.a.pawloski@att.net; www.ctamachinery.com\, Facebook: Connecticut Antique Machinery Association
URL:https://oldirongarage.com/event/connecticut-antique-machinery-association-museum-annual-fall-festival-2/2024-10-25/
LOCATION:GA
END:VEVENT
BEGIN:VEVENT
DTSTART;VALUE=DATE:20241026
DTEND;VALUE=DATE:20241027
DTSTAMP:20260425T080055
CREATED:20240813T003859Z
LAST-MODIFIED:20240813T003859Z
UID:10001449-1729900800-1729987199@oldirongarage.com
SUMMARY:29th Annual Brown County Antique Machinery Fall Swap Meet
DESCRIPTION:Contact: Randy Barrett\, 812-325-6722 \nemail: rbarret1967@gmail.com \nFacebook: Brown County Antique Machinery Association
URL:https://oldirongarage.com/event/29th-annual-brown-county-antique-machinery-fall-swap-meet/
LOCATION:Brown County 4-H Fairgrounds\, 868 Memorial Rd\, Nashville\, IN\, 47448\, United States
CATEGORIES:Shows and Festivals
ATTACH;FMTTYPE=image/jpeg:https://oldirongarage.com/wp-content/uploads/2024/08/414843666_849681876955936_6498628236066230225_n.jpg
END:VEVENT
BEGIN:VEVENT
DTSTART;VALUE=DATE:20241026
DTEND;VALUE=DATE:20241027
DTSTAMP:20260425T080055
CREATED:20241001T024404Z
LAST-MODIFIED:20241001T024404Z
UID:10001582-1729900800-1729987199@oldirongarage.com
SUMMARY:EDGE&TA Branch 245 Annual Fall Swap Meet
DESCRIPTION:Contact: Justin Buetow\, 253-350-3409 \nemail: jabuetow@gmail.com \nwww.exhaustfumes.org \nFacebook: Early Days Gas Engine & Tractor Association Branch 245
URL:https://oldirongarage.com/event/edgeta-branch-245-annual-fall-swap-meet/
LOCATION:Old Iron Event Center\, 11 E Johns Creek Dr\, Shelton\, WA\, 98584\, United States
CATEGORIES:Shows and Festivals
ATTACH;FMTTYPE=image/jpeg:https://oldirongarage.com/wp-content/uploads/2024/09/Fallswapmeet.jpg
END:VEVENT
BEGIN:VEVENT
DTSTART;TZID=America/Chicago:20241026T080000
DTEND;TZID=America/Chicago:20241026T200000
DTSTAMP:20260425T080055
CREATED:20240522T145203Z
LAST-MODIFIED:20240522T145203Z
UID:10000642-1729929600-1729972800@oldirongarage.com
SUMMARY:Yesteryear Farm Show
DESCRIPTION:When: August 23-25\, 2024\nWhere: Dougherty Museum\, 8306 N. 107th St Longmont\, CO\, 80504\nContact: Bob McCarty\, 303-776-9859; Facebook: Yesteryear Farm Show\nThe Tractor Above will be auctioned off at the Farm Show!
URL:https://oldirongarage.com/event/yesteryear-farm-show/2024-10-26/
LOCATION:GA
END:VEVENT
BEGIN:VEVENT
DTSTART;TZID=America/Chicago:20241026T090000
DTEND;TZID=America/Chicago:20241026T160000
DTSTAMP:20260425T080055
CREATED:20240521T224543Z
LAST-MODIFIED:20240521T224543Z
UID:10000192-1729933200-1729958400@oldirongarage.com
SUMMARY:Southland Flywheelers' Fall Festival and Harvest Exhibits
DESCRIPTION:Southland Flywheelers’ Fall Festival and Harvest Exhibits\nWhen: October 26\, 2024\nWhere: 1715 AL-36 E\, 1-65 Exit 238\, east 3-1/2 miles\, Showgrounds on right\, sign on right. Alabama 35640\nContact: Larry Lemmond\, 256-566-2737; Email: larrylemmond@aol.com; www.southlandflywheerlers.org
URL:https://oldirongarage.com/event/southland-flywheelers-fall-festival-and-harvest-exhibits-2/
LOCATION:GA
END:VEVENT
BEGIN:VEVENT
DTSTART;TZID=America/Chicago:20241026T090000
DTEND;TZID=America/Chicago:20241026T160000
DTSTAMP:20260425T080056
CREATED:20240522T144554Z
LAST-MODIFIED:20240522T144554Z
UID:10000266-1729933200-1729958400@oldirongarage.com
SUMMARY:Colorado State Fair Antique Equipment Display
DESCRIPTION:Colorado State Fair Antique Equipment Display\nWhen: August 23-September 2\, 2024\nWhere: 1001 Beulah Ave\, Pueblo\, CO 81004\nContact: Steve Stratton\, 719-250-7279; Email: stevestratman@yahoo.com; www\,frapausa.com; Facebook: Front Range Antique Power Assn.
URL:https://oldirongarage.com/event/colorado-state-fair-antique-equipment-display/2024-10-26/
LOCATION:GA
END:VEVENT
BEGIN:VEVENT
DTSTART;TZID=America/Chicago:20241026T090000
DTEND;TZID=America/Chicago:20241026T160000
DTSTAMP:20260425T080056
CREATED:20240606T190342Z
LAST-MODIFIED:20240606T190342Z
UID:10001345-1729933200-1729958400@oldirongarage.com
SUMMARY:Chickamauga Antique Tractor Club Fall Colors Tractors Ride
DESCRIPTION:Chickamauga Antique Tractor Club Fall Colors Tractors Ride\nWhen: October 26\,2024\nWhere: 5146 E Broomtown Road\, Trion\, GA\, 30753\nContact: Michael Wallace 423-316-3708; ihman70@yahoo.com\nMelvin Dawnson 423-991-9637
URL:https://oldirongarage.com/event/chickamauga-antique-tractor-club-fall-colors-tractors-ride/
LOCATION:Chickamauga Antique Tractor\, 5146 E Broomtown Road\, Trion\, Georgia\, 30753
END:VEVENT
BEGIN:VEVENT
DTSTART;TZID=America/Chicago:20241026T090000
DTEND;TZID=America/Chicago:20241026T160000
DTSTAMP:20260425T080056
CREATED:20240611T191647Z
LAST-MODIFIED:20240611T191647Z
UID:10001349-1729933200-1729958400@oldirongarage.com
SUMMARY:Chickamauga Antique Tractor Club Fall Colors Tractor Ride
DESCRIPTION:Chickamauga Antqiue Tractor Club Fall Colors Tractor Ride\nWhen: October 26\, 2024\nWhere: 5146 E Broomtown Road\, Trion\, GA 30753\nContact: Michael Wallace\, 423-316-3708; Email: ihman70@yahoo.com\nMelvin Dawnson\, 423-991-9637
URL:https://oldirongarage.com/event/chickamauga-antique-tractor-club-fall-colors-tractor-ride/
LOCATION:Chickamauga Antique Tractor\, 5146 E Broomtown Road\, Trion\, Georgia\, 30753
END:VEVENT
BEGIN:VEVENT
DTSTART;TZID=America/Chicago:20241026T090000
DTEND;TZID=America/Chicago:20241026T170000
DTSTAMP:20260425T080056
CREATED:20240522T161320Z
LAST-MODIFIED:20240522T161320Z
UID:10000978-1729933200-1729962000@oldirongarage.com
SUMMARY:Connecticut Antique Machinery Association Museum Annual Fall Festival
DESCRIPTION:Connecticut Antique Machinery Association Museum Annual Fall Festival\nWhen: September 27-29\, 2024\nWhere: 31B Kent-Cornwall Rd (Rt. 7) Kent\, CT\, 06757; 1 Mile North of town center\nContact: John Pawloski\, 860-354-0296; Email: j.a.pawloski@att.net; www.ctamachinery.com\, Facebook: Connecticut Antique Machinery Association
URL:https://oldirongarage.com/event/connecticut-antique-machinery-association-museum-annual-fall-festival-2/2024-10-26/
LOCATION:GA
END:VEVENT
BEGIN:VEVENT
DTSTART;TZID=America/Chicago:20241027T080000
DTEND;TZID=America/Chicago:20241027T200000
DTSTAMP:20260425T080056
CREATED:20240522T145203Z
LAST-MODIFIED:20240522T145203Z
UID:10000643-1730016000-1730059200@oldirongarage.com
SUMMARY:Yesteryear Farm Show
DESCRIPTION:When: August 23-25\, 2024\nWhere: Dougherty Museum\, 8306 N. 107th St Longmont\, CO\, 80504\nContact: Bob McCarty\, 303-776-9859; Facebook: Yesteryear Farm Show\nThe Tractor Above will be auctioned off at the Farm Show!
URL:https://oldirongarage.com/event/yesteryear-farm-show/2024-10-27/
LOCATION:GA
END:VEVENT
BEGIN:VEVENT
DTSTART;TZID=America/Chicago:20241027T090000
DTEND;TZID=America/Chicago:20241027T160000
DTSTAMP:20260425T080056
CREATED:20240522T144554Z
LAST-MODIFIED:20240522T144554Z
UID:10000267-1730019600-1730044800@oldirongarage.com
SUMMARY:Colorado State Fair Antique Equipment Display
DESCRIPTION:Colorado State Fair Antique Equipment Display\nWhen: August 23-September 2\, 2024\nWhere: 1001 Beulah Ave\, Pueblo\, CO 81004\nContact: Steve Stratton\, 719-250-7279; Email: stevestratman@yahoo.com; www\,frapausa.com; Facebook: Front Range Antique Power Assn.
URL:https://oldirongarage.com/event/colorado-state-fair-antique-equipment-display/2024-10-27/
LOCATION:GA
END:VEVENT
BEGIN:VEVENT
DTSTART;TZID=America/Chicago:20241027T090000
DTEND;TZID=America/Chicago:20241027T170000
DTSTAMP:20260425T080056
CREATED:20240522T161320Z
LAST-MODIFIED:20240522T161320Z
UID:10000979-1730019600-1730048400@oldirongarage.com
SUMMARY:Connecticut Antique Machinery Association Museum Annual Fall Festival
DESCRIPTION:Connecticut Antique Machinery Association Museum Annual Fall Festival\nWhen: September 27-29\, 2024\nWhere: 31B Kent-Cornwall Rd (Rt. 7) Kent\, CT\, 06757; 1 Mile North of town center\nContact: John Pawloski\, 860-354-0296; Email: j.a.pawloski@att.net; www.ctamachinery.com\, Facebook: Connecticut Antique Machinery Association
URL:https://oldirongarage.com/event/connecticut-antique-machinery-association-museum-annual-fall-festival-2/2024-10-27/
LOCATION:GA
END:VEVENT
BEGIN:VEVENT
DTSTART;TZID=America/Chicago:20241028T080000
DTEND;TZID=America/Chicago:20241028T200000
DTSTAMP:20260425T080056
CREATED:20240522T145203Z
LAST-MODIFIED:20240522T145203Z
UID:10000644-1730102400-1730145600@oldirongarage.com
SUMMARY:Yesteryear Farm Show
DESCRIPTION:When: August 23-25\, 2024\nWhere: Dougherty Museum\, 8306 N. 107th St Longmont\, CO\, 80504\nContact: Bob McCarty\, 303-776-9859; Facebook: Yesteryear Farm Show\nThe Tractor Above will be auctioned off at the Farm Show!
URL:https://oldirongarage.com/event/yesteryear-farm-show/2024-10-28/
LOCATION:GA
END:VEVENT
BEGIN:VEVENT
DTSTART;TZID=America/Chicago:20241028T090000
DTEND;TZID=America/Chicago:20241028T160000
DTSTAMP:20260425T080056
CREATED:20240522T144554Z
LAST-MODIFIED:20240522T144554Z
UID:10000268-1730106000-1730131200@oldirongarage.com
SUMMARY:Colorado State Fair Antique Equipment Display
DESCRIPTION:Colorado State Fair Antique Equipment Display\nWhen: August 23-September 2\, 2024\nWhere: 1001 Beulah Ave\, Pueblo\, CO 81004\nContact: Steve Stratton\, 719-250-7279; Email: stevestratman@yahoo.com; www\,frapausa.com; Facebook: Front Range Antique Power Assn.
URL:https://oldirongarage.com/event/colorado-state-fair-antique-equipment-display/2024-10-28/
LOCATION:GA
END:VEVENT
BEGIN:VEVENT
DTSTART;TZID=America/Chicago:20241028T090000
DTEND;TZID=America/Chicago:20241028T170000
DTSTAMP:20260425T080056
CREATED:20240522T161320Z
LAST-MODIFIED:20240522T161320Z
UID:10000980-1730106000-1730134800@oldirongarage.com
SUMMARY:Connecticut Antique Machinery Association Museum Annual Fall Festival
DESCRIPTION:Connecticut Antique Machinery Association Museum Annual Fall Festival\nWhen: September 27-29\, 2024\nWhere: 31B Kent-Cornwall Rd (Rt. 7) Kent\, CT\, 06757; 1 Mile North of town center\nContact: John Pawloski\, 860-354-0296; Email: j.a.pawloski@att.net; www.ctamachinery.com\, Facebook: Connecticut Antique Machinery Association
URL:https://oldirongarage.com/event/connecticut-antique-machinery-association-museum-annual-fall-festival-2/2024-10-28/
LOCATION:GA
END:VEVENT
BEGIN:VEVENT
DTSTART;TZID=America/Chicago:20241029T080000
DTEND;TZID=America/Chicago:20241029T200000
DTSTAMP:20260425T080056
CREATED:20240522T145203Z
LAST-MODIFIED:20240522T145203Z
UID:10000645-1730188800-1730232000@oldirongarage.com
SUMMARY:Yesteryear Farm Show
DESCRIPTION:When: August 23-25\, 2024\nWhere: Dougherty Museum\, 8306 N. 107th St Longmont\, CO\, 80504\nContact: Bob McCarty\, 303-776-9859; Facebook: Yesteryear Farm Show\nThe Tractor Above will be auctioned off at the Farm Show!
URL:https://oldirongarage.com/event/yesteryear-farm-show/2024-10-29/
LOCATION:GA
END:VEVENT
BEGIN:VEVENT
DTSTART;TZID=America/Chicago:20241029T090000
DTEND;TZID=America/Chicago:20241029T160000
DTSTAMP:20260425T080056
CREATED:20240522T144554Z
LAST-MODIFIED:20240522T144554Z
UID:10000269-1730192400-1730217600@oldirongarage.com
SUMMARY:Colorado State Fair Antique Equipment Display
DESCRIPTION:Colorado State Fair Antique Equipment Display\nWhen: August 23-September 2\, 2024\nWhere: 1001 Beulah Ave\, Pueblo\, CO 81004\nContact: Steve Stratton\, 719-250-7279; Email: stevestratman@yahoo.com; www\,frapausa.com; Facebook: Front Range Antique Power Assn.
URL:https://oldirongarage.com/event/colorado-state-fair-antique-equipment-display/2024-10-29/
LOCATION:GA
END:VEVENT
BEGIN:VEVENT
DTSTART;TZID=America/Chicago:20241029T090000
DTEND;TZID=America/Chicago:20241029T170000
DTSTAMP:20260425T080056
CREATED:20240522T161320Z
LAST-MODIFIED:20240522T161320Z
UID:10000981-1730192400-1730221200@oldirongarage.com
SUMMARY:Connecticut Antique Machinery Association Museum Annual Fall Festival
DESCRIPTION:Connecticut Antique Machinery Association Museum Annual Fall Festival\nWhen: September 27-29\, 2024\nWhere: 31B Kent-Cornwall Rd (Rt. 7) Kent\, CT\, 06757; 1 Mile North of town center\nContact: John Pawloski\, 860-354-0296; Email: j.a.pawloski@att.net; www.ctamachinery.com\, Facebook: Connecticut Antique Machinery Association
URL:https://oldirongarage.com/event/connecticut-antique-machinery-association-museum-annual-fall-festival-2/2024-10-29/
LOCATION:GA
END:VEVENT
BEGIN:VEVENT
DTSTART;TZID=America/Chicago:20241030T080000
DTEND;TZID=America/Chicago:20241030T200000
DTSTAMP:20260425T080056
CREATED:20240522T145203Z
LAST-MODIFIED:20240522T145203Z
UID:10000646-1730275200-1730318400@oldirongarage.com
SUMMARY:Yesteryear Farm Show
DESCRIPTION:When: August 23-25\, 2024\nWhere: Dougherty Museum\, 8306 N. 107th St Longmont\, CO\, 80504\nContact: Bob McCarty\, 303-776-9859; Facebook: Yesteryear Farm Show\nThe Tractor Above will be auctioned off at the Farm Show!
URL:https://oldirongarage.com/event/yesteryear-farm-show/2024-10-30/
LOCATION:GA
END:VEVENT
BEGIN:VEVENT
DTSTART;TZID=America/Chicago:20241030T090000
DTEND;TZID=America/Chicago:20241030T160000
DTSTAMP:20260425T080056
CREATED:20240522T144554Z
LAST-MODIFIED:20240522T144554Z
UID:10000270-1730278800-1730304000@oldirongarage.com
SUMMARY:Colorado State Fair Antique Equipment Display
DESCRIPTION:Colorado State Fair Antique Equipment Display\nWhen: August 23-September 2\, 2024\nWhere: 1001 Beulah Ave\, Pueblo\, CO 81004\nContact: Steve Stratton\, 719-250-7279; Email: stevestratman@yahoo.com; www\,frapausa.com; Facebook: Front Range Antique Power Assn.
URL:https://oldirongarage.com/event/colorado-state-fair-antique-equipment-display/2024-10-30/
LOCATION:GA
END:VEVENT
BEGIN:VEVENT
DTSTART;TZID=America/Chicago:20241030T090000
DTEND;TZID=America/Chicago:20241030T170000
DTSTAMP:20260425T080056
CREATED:20240522T161320Z
LAST-MODIFIED:20240522T161320Z
UID:10000982-1730278800-1730307600@oldirongarage.com
SUMMARY:Connecticut Antique Machinery Association Museum Annual Fall Festival
DESCRIPTION:Connecticut Antique Machinery Association Museum Annual Fall Festival\nWhen: September 27-29\, 2024\nWhere: 31B Kent-Cornwall Rd (Rt. 7) Kent\, CT\, 06757; 1 Mile North of town center\nContact: John Pawloski\, 860-354-0296; Email: j.a.pawloski@att.net; www.ctamachinery.com\, Facebook: Connecticut Antique Machinery Association
URL:https://oldirongarage.com/event/connecticut-antique-machinery-association-museum-annual-fall-festival-2/2024-10-30/
LOCATION:GA
END:VEVENT
BEGIN:VEVENT
DTSTART;TZID=America/Chicago:20241031T080000
DTEND;TZID=America/Chicago:20241031T200000
DTSTAMP:20260425T080056
CREATED:20240522T145203Z
LAST-MODIFIED:20240522T145203Z
UID:10000647-1730361600-1730404800@oldirongarage.com
SUMMARY:Yesteryear Farm Show
DESCRIPTION:When: August 23-25\, 2024\nWhere: Dougherty Museum\, 8306 N. 107th St Longmont\, CO\, 80504\nContact: Bob McCarty\, 303-776-9859; Facebook: Yesteryear Farm Show\nThe Tractor Above will be auctioned off at the Farm Show!
URL:https://oldirongarage.com/event/yesteryear-farm-show/2024-10-31/
LOCATION:GA
END:VEVENT
BEGIN:VEVENT
DTSTART;TZID=America/Chicago:20241031T090000
DTEND;TZID=America/Chicago:20241031T160000
DTSTAMP:20260425T080056
CREATED:20240522T144554Z
LAST-MODIFIED:20240522T144554Z
UID:10000271-1730365200-1730390400@oldirongarage.com
SUMMARY:Colorado State Fair Antique Equipment Display
DESCRIPTION:Colorado State Fair Antique Equipment Display\nWhen: August 23-September 2\, 2024\nWhere: 1001 Beulah Ave\, Pueblo\, CO 81004\nContact: Steve Stratton\, 719-250-7279; Email: stevestratman@yahoo.com; www\,frapausa.com; Facebook: Front Range Antique Power Assn.
URL:https://oldirongarage.com/event/colorado-state-fair-antique-equipment-display/2024-10-31/
LOCATION:GA
END:VEVENT
BEGIN:VEVENT
DTSTART;TZID=America/Chicago:20241031T090000
DTEND;TZID=America/Chicago:20241031T170000
DTSTAMP:20260425T080056
CREATED:20240522T161320Z
LAST-MODIFIED:20240522T161320Z
UID:10000983-1730365200-1730394000@oldirongarage.com
SUMMARY:Connecticut Antique Machinery Association Museum Annual Fall Festival
DESCRIPTION:Connecticut Antique Machinery Association Museum Annual Fall Festival\nWhen: September 27-29\, 2024\nWhere: 31B Kent-Cornwall Rd (Rt. 7) Kent\, CT\, 06757; 1 Mile North of town center\nContact: John Pawloski\, 860-354-0296; Email: j.a.pawloski@att.net; www.ctamachinery.com\, Facebook: Connecticut Antique Machinery Association
URL:https://oldirongarage.com/event/connecticut-antique-machinery-association-museum-annual-fall-festival-2/2024-10-31/
LOCATION:GA
END:VEVENT
BEGIN:VEVENT
DTSTART;TZID=America/Chicago:20241101T080000
DTEND;TZID=America/Chicago:20241101T200000
DTSTAMP:20260425T080056
CREATED:20240522T145203Z
LAST-MODIFIED:20240522T145203Z
UID:10000648-1730448000-1730491200@oldirongarage.com
SUMMARY:Yesteryear Farm Show
DESCRIPTION:When: August 23-25\, 2024\nWhere: Dougherty Museum\, 8306 N. 107th St Longmont\, CO\, 80504\nContact: Bob McCarty\, 303-776-9859; Facebook: Yesteryear Farm Show\nThe Tractor Above will be auctioned off at the Farm Show!
URL:https://oldirongarage.com/event/yesteryear-farm-show/2024-11-01/
LOCATION:GA
END:VEVENT
BEGIN:VEVENT
DTSTART;TZID=America/Chicago:20241101T080000
DTEND;TZID=America/Chicago:20241102T170000
DTSTAMP:20260425T080056
CREATED:20240906T012453Z
LAST-MODIFIED:20240906T012454Z
UID:10001508-1730448000-1730566800@oldirongarage.com
SUMMARY:Mississippi Industrial Heritage Museum Soule Live Stream Festival
DESCRIPTION:Features: Soule Spee-d-twin\, Soule Rotary\, Frick\, Watts-Campbell\, Corliss\, Atlas-Imperial\, Memphis Machine Works\, and Manchester locomotive works \nPreserving America’s industrial heritage is important. The 20th Annual Soulé Live Steam Festival in Meridian\, Mississippi gives visitors the opportunity to see how things were made and how hard people worked back in the early 20th century. These workers’ efforts in the past have helped to make our standard of living possible today. This event will be hosted at historic Soulé Steam Feed Works\, America’s last intact steam engine factory. Always held on the first Saturday of November\, this year the festival falls on Friday and Saturday\, November 1-2\, 2024 from 9 a.m. to 4 p.m. The Soulé Steam Museum features an impressive permanent collection of portable and stationary steam engines\, which will operate using “live steam” (not compressed air). Visitors of all ages will experience the sights\, sounds and feel of steam as the steam engines come to life during this event. The belt-driven machine shop will be in operation and other industrial tradesmen will be demonstrating their skills. The Soulé forge will be operated by blacksmiths creating items from raw steel. Food will be available onsite both days. \nContact: Gregory Hatcher\, 601-693-9905 \nemail: soulelivesteam@comcast.net \nwww.industrialheritagemuseum.com \nFacebook: Soule Live Steam Festival \n  \n 
URL:https://oldirongarage.com/event/mississippi-industrial-heritage-museum-soule-live-stream-festival/
LOCATION:Seole\, 1808 4th Street\, Meridian\, MS\, 39301\, United States
CATEGORIES:Shows and Festivals
ATTACH;FMTTYPE=image/jpeg:https://oldirongarage.com/wp-content/uploads/2024/09/452241186_895885702578317_5051112017286779817_n.jpg
END:VEVENT
BEGIN:VEVENT
DTSTART;TZID=America/Chicago:20241101T080000
DTEND;TZID=America/Chicago:20241102T170000
DTSTAMP:20260425T080056
CREATED:20241001T000827Z
LAST-MODIFIED:20241001T000827Z
UID:10001576-1730448000-1730566800@oldirongarage.com
SUMMARY:McKnight/Privett Memorial Antique Tractor & Engine Show
DESCRIPTION:Features: Ford and John Deere \nContact: Gail Privett\, 731-487-0954 \nemail: cellfonelady@gmail.com \nFacebook: McKnight/Privett Memorial Antique Tractor & Engine Show
URL:https://oldirongarage.com/event/mcknight-privett-memorial-antique-tractor-engine-show/
LOCATION:Gibson County Fairgrounds\, 1242 S. Manufacturers Row\, Trenton\, TN\, 38382\, United States
CATEGORIES:Shows and Festivals
END:VEVENT
BEGIN:VEVENT
DTSTART;TZID=America/Chicago:20241101T080000
DTEND;TZID=America/Chicago:20241103T170000
DTSTAMP:20260425T080056
CREATED:20240816T024459Z
LAST-MODIFIED:20240816T024459Z
UID:10001464-1730448000-1730653200@oldirongarage.com
SUMMARY:47th Annual National Farm Toy Show & Auction
DESCRIPTION:Contact: Wendi Larson\, 701-883-5206 \nemail: wlarson@toyfarmer.com \nwww.toyfarmer.com \nFacebook: Toy Farmer
URL:https://oldirongarage.com/event/47th-annual-national-farm-toy-show-auction/
LOCATION:Beckman High School\, 1325 9th St SE\, Dyersville\, IA\, 52040\, United States
CATEGORIES:Auctions,Shows and Festivals
ATTACH;FMTTYPE=image/jpeg:https://oldirongarage.com/wp-content/uploads/2024/08/2024-nfts-banner-ad-commercial_orig.jpg
END:VEVENT
BEGIN:VEVENT
DTSTART;TZID=America/Chicago:20241101T080000
DTEND;TZID=America/Chicago:20241103T170000
DTSTAMP:20260425T080056
CREATED:20240910T004133Z
LAST-MODIFIED:20240910T004133Z
UID:10001526-1730448000-1730653200@oldirongarage.com
SUMMARY:Mideast Railroad Service 19th Annual 100+ Years of Progress
DESCRIPTION:Feature: Oliver \nContact: Patti Eder\, 910-947-1721 \nemail: office@mideastrr.com \nwww.edervillenc.com \nFacebook: Ederville Carthage \n100 + Years of Progress! Come out for the 18th Annual Ederville Carthage Festival Friday\, November 1st-Sunday\, November 3rd! Featuring Antique Trucks this year. Enjoy a weekend with fun for all ages. There will be special demonstrations & shows\, antique tractors & trucks\, vendors\, music and more. Santa will be making special appearances during this year’s event as well! The stores will also be open each day. To view the full schedule of events and to purchase tickets\, follow the website event link provided below. \n 
URL:https://oldirongarage.com/event/mideast-railroad-service-19th-annual-100-years-of-progress/
LOCATION:Ederville\, 644 Niagra Carthage Rd\, Carthage\, NC\, 28327\, United States
CATEGORIES:Shows and Festivals
END:VEVENT
BEGIN:VEVENT
DTSTART;TZID=America/Chicago:20241101T090000
DTEND;TZID=America/Chicago:20241101T160000
DTSTAMP:20260425T080056
CREATED:20240522T144554Z
LAST-MODIFIED:20240522T144554Z
UID:10000272-1730451600-1730476800@oldirongarage.com
SUMMARY:Colorado State Fair Antique Equipment Display
DESCRIPTION:Colorado State Fair Antique Equipment Display\nWhen: August 23-September 2\, 2024\nWhere: 1001 Beulah Ave\, Pueblo\, CO 81004\nContact: Steve Stratton\, 719-250-7279; Email: stevestratman@yahoo.com; www\,frapausa.com; Facebook: Front Range Antique Power Assn.
URL:https://oldirongarage.com/event/colorado-state-fair-antique-equipment-display/2024-11-01/
LOCATION:GA
END:VEVENT
END:VCALENDAR