BEGIN:VCALENDAR
VERSION:2.0
PRODID:-//Old Iron Garage - ECPv6.6.3//NONSGML v1.0//EN
CALSCALE:GREGORIAN
METHOD:PUBLISH
X-WR-CALNAME:Old Iron Garage
X-ORIGINAL-URL:https://oldirongarage.com
X-WR-CALDESC:Events for Old Iron Garage
REFRESH-INTERVAL;VALUE=DURATION:PT1H
X-Robots-Tag:noindex
X-PUBLISHED-TTL:PT1H
BEGIN:VTIMEZONE
TZID:America/Chicago
BEGIN:DAYLIGHT
TZOFFSETFROM:-0600
TZOFFSETTO:-0500
TZNAME:CDT
DTSTART:20240310T080000
END:DAYLIGHT
BEGIN:STANDARD
TZOFFSETFROM:-0500
TZOFFSETTO:-0600
TZNAME:CST
DTSTART:20241103T070000
END:STANDARD
END:VTIMEZONE
BEGIN:VEVENT
DTSTART;TZID=America/Chicago:20241013T090000
DTEND;TZID=America/Chicago:20241013T160000
DTSTAMP:20260421T163835
CREATED:20240522T144554Z
LAST-MODIFIED:20240522T144554Z
UID:10000253-1728810000-1728835200@oldirongarage.com
SUMMARY:Colorado State Fair Antique Equipment Display
DESCRIPTION:Colorado State Fair Antique Equipment Display\nWhen: August 23-September 2\, 2024\nWhere: 1001 Beulah Ave\, Pueblo\, CO 81004\nContact: Steve Stratton\, 719-250-7279; Email: stevestratman@yahoo.com; www\,frapausa.com; Facebook: Front Range Antique Power Assn.
URL:https://oldirongarage.com/event/colorado-state-fair-antique-equipment-display/2024-10-13/
LOCATION:GA
END:VEVENT
BEGIN:VEVENT
DTSTART;TZID=America/Chicago:20241013T090000
DTEND;TZID=America/Chicago:20241013T170000
DTSTAMP:20260421T163835
CREATED:20240522T161320Z
LAST-MODIFIED:20240522T161320Z
UID:10000965-1728810000-1728838800@oldirongarage.com
SUMMARY:Connecticut Antique Machinery Association Museum Annual Fall Festival
DESCRIPTION:Connecticut Antique Machinery Association Museum Annual Fall Festival\nWhen: September 27-29\, 2024\nWhere: 31B Kent-Cornwall Rd (Rt. 7) Kent\, CT\, 06757; 1 Mile North of town center\nContact: John Pawloski\, 860-354-0296; Email: j.a.pawloski@att.net; www.ctamachinery.com\, Facebook: Connecticut Antique Machinery Association
URL:https://oldirongarage.com/event/connecticut-antique-machinery-association-museum-annual-fall-festival-2/2024-10-13/
LOCATION:GA
END:VEVENT
BEGIN:VEVENT
DTSTART;TZID=America/Chicago:20241013T120000
DTEND;TZID=America/Chicago:20241013T160000
DTSTAMP:20260421T163835
CREATED:20240721T025921Z
LAST-MODIFIED:20240721T025921Z
UID:10001415-1728820800-1728835200@oldirongarage.com
SUMMARY:Fall Festival
DESCRIPTION:Features: Caterpillar\, 1916 Avery 5-10 and Peoria-made tractors\nTime: 12:00 pm – 4:00 pm\nLocation: Exhibits and exhibitors will be all throughout our museum campus!\n\n\nFall Festival – one of our most popular days of the season! You’ll love visiting the museum while it is decked out in its best fall and Halloween decor! Enjoy blacksmithing demonstrations\, folk music\, fire equipment (modern and classic)\, ambulance tours\, beekeeping paraphernalia & honey tasting\, hit & miss engines\, corn shelling\, classic cars\, vintage garden tractors\, small special exhibits and demonstrations\, trains\, and so much more!\n\nLight lunch and snacks will be available for purchase! Regular admission rates apply. No charge for members. \nContact: Laura Evancho 309-229-6430 \nemail: laura@wheelsotime.org \nwww.wheelsotime.org
URL:https://oldirongarage.com/event/fall-festival/
LOCATION:Wheels O’ Time Museum\, 1710 W Woodside Drive\, North Peoria\, IL\, 61525\, United States
CATEGORIES:Shows and Festivals
END:VEVENT
BEGIN:VEVENT
DTSTART;TZID=America/Chicago:20241014T080000
DTEND;TZID=America/Chicago:20241014T200000
DTSTAMP:20260421T163835
CREATED:20240522T145203Z
LAST-MODIFIED:20240522T145203Z
UID:10000630-1728892800-1728936000@oldirongarage.com
SUMMARY:Yesteryear Farm Show
DESCRIPTION:When: August 23-25\, 2024\nWhere: Dougherty Museum\, 8306 N. 107th St Longmont\, CO\, 80504\nContact: Bob McCarty\, 303-776-9859; Facebook: Yesteryear Farm Show\nThe Tractor Above will be auctioned off at the Farm Show!
URL:https://oldirongarage.com/event/yesteryear-farm-show/2024-10-14/
LOCATION:GA
END:VEVENT
BEGIN:VEVENT
DTSTART;TZID=America/Chicago:20241014T090000
DTEND;TZID=America/Chicago:20241014T160000
DTSTAMP:20260421T163835
CREATED:20240522T144554Z
LAST-MODIFIED:20240522T144554Z
UID:10000254-1728896400-1728921600@oldirongarage.com
SUMMARY:Colorado State Fair Antique Equipment Display
DESCRIPTION:Colorado State Fair Antique Equipment Display\nWhen: August 23-September 2\, 2024\nWhere: 1001 Beulah Ave\, Pueblo\, CO 81004\nContact: Steve Stratton\, 719-250-7279; Email: stevestratman@yahoo.com; www\,frapausa.com; Facebook: Front Range Antique Power Assn.
URL:https://oldirongarage.com/event/colorado-state-fair-antique-equipment-display/2024-10-14/
LOCATION:GA
END:VEVENT
BEGIN:VEVENT
DTSTART;TZID=America/Chicago:20241014T090000
DTEND;TZID=America/Chicago:20241014T170000
DTSTAMP:20260421T163835
CREATED:20240522T161320Z
LAST-MODIFIED:20240522T161320Z
UID:10000966-1728896400-1728925200@oldirongarage.com
SUMMARY:Connecticut Antique Machinery Association Museum Annual Fall Festival
DESCRIPTION:Connecticut Antique Machinery Association Museum Annual Fall Festival\nWhen: September 27-29\, 2024\nWhere: 31B Kent-Cornwall Rd (Rt. 7) Kent\, CT\, 06757; 1 Mile North of town center\nContact: John Pawloski\, 860-354-0296; Email: j.a.pawloski@att.net; www.ctamachinery.com\, Facebook: Connecticut Antique Machinery Association
URL:https://oldirongarage.com/event/connecticut-antique-machinery-association-museum-annual-fall-festival-2/2024-10-14/
LOCATION:GA
END:VEVENT
BEGIN:VEVENT
DTSTART;TZID=America/Chicago:20241015T080000
DTEND;TZID=America/Chicago:20241015T200000
DTSTAMP:20260421T163835
CREATED:20240522T145203Z
LAST-MODIFIED:20240522T145203Z
UID:10000631-1728979200-1729022400@oldirongarage.com
SUMMARY:Yesteryear Farm Show
DESCRIPTION:When: August 23-25\, 2024\nWhere: Dougherty Museum\, 8306 N. 107th St Longmont\, CO\, 80504\nContact: Bob McCarty\, 303-776-9859; Facebook: Yesteryear Farm Show\nThe Tractor Above will be auctioned off at the Farm Show!
URL:https://oldirongarage.com/event/yesteryear-farm-show/2024-10-15/
LOCATION:GA
END:VEVENT
BEGIN:VEVENT
DTSTART;TZID=America/Chicago:20241015T090000
DTEND;TZID=America/Chicago:20241015T160000
DTSTAMP:20260421T163835
CREATED:20240522T144554Z
LAST-MODIFIED:20240522T144554Z
UID:10000255-1728982800-1729008000@oldirongarage.com
SUMMARY:Colorado State Fair Antique Equipment Display
DESCRIPTION:Colorado State Fair Antique Equipment Display\nWhen: August 23-September 2\, 2024\nWhere: 1001 Beulah Ave\, Pueblo\, CO 81004\nContact: Steve Stratton\, 719-250-7279; Email: stevestratman@yahoo.com; www\,frapausa.com; Facebook: Front Range Antique Power Assn.
URL:https://oldirongarage.com/event/colorado-state-fair-antique-equipment-display/2024-10-15/
LOCATION:GA
END:VEVENT
BEGIN:VEVENT
DTSTART;TZID=America/Chicago:20241015T090000
DTEND;TZID=America/Chicago:20241015T170000
DTSTAMP:20260421T163835
CREATED:20240522T161320Z
LAST-MODIFIED:20240522T161320Z
UID:10000967-1728982800-1729011600@oldirongarage.com
SUMMARY:Connecticut Antique Machinery Association Museum Annual Fall Festival
DESCRIPTION:Connecticut Antique Machinery Association Museum Annual Fall Festival\nWhen: September 27-29\, 2024\nWhere: 31B Kent-Cornwall Rd (Rt. 7) Kent\, CT\, 06757; 1 Mile North of town center\nContact: John Pawloski\, 860-354-0296; Email: j.a.pawloski@att.net; www.ctamachinery.com\, Facebook: Connecticut Antique Machinery Association
URL:https://oldirongarage.com/event/connecticut-antique-machinery-association-museum-annual-fall-festival-2/2024-10-15/
LOCATION:GA
END:VEVENT
BEGIN:VEVENT
DTSTART;TZID=America/Chicago:20241016T080000
DTEND;TZID=America/Chicago:20241016T200000
DTSTAMP:20260421T163835
CREATED:20240522T145203Z
LAST-MODIFIED:20240522T145203Z
UID:10000632-1729065600-1729108800@oldirongarage.com
SUMMARY:Yesteryear Farm Show
DESCRIPTION:When: August 23-25\, 2024\nWhere: Dougherty Museum\, 8306 N. 107th St Longmont\, CO\, 80504\nContact: Bob McCarty\, 303-776-9859; Facebook: Yesteryear Farm Show\nThe Tractor Above will be auctioned off at the Farm Show!
URL:https://oldirongarage.com/event/yesteryear-farm-show/2024-10-16/
LOCATION:GA
END:VEVENT
BEGIN:VEVENT
DTSTART;TZID=America/Chicago:20241016T090000
DTEND;TZID=America/Chicago:20241016T160000
DTSTAMP:20260421T163835
CREATED:20240522T144554Z
LAST-MODIFIED:20240522T144554Z
UID:10000256-1729069200-1729094400@oldirongarage.com
SUMMARY:Colorado State Fair Antique Equipment Display
DESCRIPTION:Colorado State Fair Antique Equipment Display\nWhen: August 23-September 2\, 2024\nWhere: 1001 Beulah Ave\, Pueblo\, CO 81004\nContact: Steve Stratton\, 719-250-7279; Email: stevestratman@yahoo.com; www\,frapausa.com; Facebook: Front Range Antique Power Assn.
URL:https://oldirongarage.com/event/colorado-state-fair-antique-equipment-display/2024-10-16/
LOCATION:GA
END:VEVENT
BEGIN:VEVENT
DTSTART;TZID=America/Chicago:20241016T090000
DTEND;TZID=America/Chicago:20241016T170000
DTSTAMP:20260421T163835
CREATED:20240522T161320Z
LAST-MODIFIED:20240522T161320Z
UID:10000968-1729069200-1729098000@oldirongarage.com
SUMMARY:Connecticut Antique Machinery Association Museum Annual Fall Festival
DESCRIPTION:Connecticut Antique Machinery Association Museum Annual Fall Festival\nWhen: September 27-29\, 2024\nWhere: 31B Kent-Cornwall Rd (Rt. 7) Kent\, CT\, 06757; 1 Mile North of town center\nContact: John Pawloski\, 860-354-0296; Email: j.a.pawloski@att.net; www.ctamachinery.com\, Facebook: Connecticut Antique Machinery Association
URL:https://oldirongarage.com/event/connecticut-antique-machinery-association-museum-annual-fall-festival-2/2024-10-16/
LOCATION:GA
END:VEVENT
BEGIN:VEVENT
DTSTART;TZID=America/Chicago:20241017T080000
DTEND;TZID=America/Chicago:20241017T200000
DTSTAMP:20260421T163835
CREATED:20240522T145203Z
LAST-MODIFIED:20240522T145203Z
UID:10000633-1729152000-1729195200@oldirongarage.com
SUMMARY:Yesteryear Farm Show
DESCRIPTION:When: August 23-25\, 2024\nWhere: Dougherty Museum\, 8306 N. 107th St Longmont\, CO\, 80504\nContact: Bob McCarty\, 303-776-9859; Facebook: Yesteryear Farm Show\nThe Tractor Above will be auctioned off at the Farm Show!
URL:https://oldirongarage.com/event/yesteryear-farm-show/2024-10-17/
LOCATION:GA
END:VEVENT
BEGIN:VEVENT
DTSTART;TZID=America/Chicago:20241017T080000
DTEND;TZID=America/Chicago:20241019T170000
DTSTAMP:20260421T163835
CREATED:20240923T022715Z
LAST-MODIFIED:20240923T022715Z
UID:10001567-1729152000-1729357200@oldirongarage.com
SUMMARY:39th Anniversary Coolspring Power Museum Fall Exposition & Swap Meet
DESCRIPTION:Single-Day Adult Admission – $12 \nThree-Day Adult Admission Pass – $30 \nChildren under 12 years and Members – Free \nSeller’s Fee – $40 \nHours of operation for the Exposition are\n7 a.m. to 8 p.m on October 17 and 18 (Thursday and Friday)\n7 a.m. to 3 p.m. on October 19 (Saturday) \nPrior to the Exposition the museum gate will be open for visitors on October 16 (Wednesday)\nfrom 10 a.m. to 3 p.m. \nContact: Coolspring Power Museum\, 814-849-6883 \nwww.coolspringpowermuseum.org \nFacebook: Coolspring Power Museum
URL:https://oldirongarage.com/event/39th-anniversary-coolspring-power-museum-fall-exposition-swap-meet/
LOCATION:Coolspring Power Museum\, 179 Coolspring Road\, Coolspring\, PA\, 15730\, United States
CATEGORIES:Shows and Festivals
ATTACH;FMTTYPE=image/jpeg:https://oldirongarage.com/wp-content/uploads/2024/09/P01_CPMSign.jpg
END:VEVENT
BEGIN:VEVENT
DTSTART;TZID=America/Chicago:20241017T090000
DTEND;TZID=America/Chicago:20241017T160000
DTSTAMP:20260421T163835
CREATED:20240522T144554Z
LAST-MODIFIED:20240522T144554Z
UID:10000257-1729155600-1729180800@oldirongarage.com
SUMMARY:Colorado State Fair Antique Equipment Display
DESCRIPTION:Colorado State Fair Antique Equipment Display\nWhen: August 23-September 2\, 2024\nWhere: 1001 Beulah Ave\, Pueblo\, CO 81004\nContact: Steve Stratton\, 719-250-7279; Email: stevestratman@yahoo.com; www\,frapausa.com; Facebook: Front Range Antique Power Assn.
URL:https://oldirongarage.com/event/colorado-state-fair-antique-equipment-display/2024-10-17/
LOCATION:GA
END:VEVENT
BEGIN:VEVENT
DTSTART;TZID=America/Chicago:20241017T090000
DTEND;TZID=America/Chicago:20241017T170000
DTSTAMP:20260421T163835
CREATED:20240522T161320Z
LAST-MODIFIED:20240522T161320Z
UID:10000969-1729155600-1729184400@oldirongarage.com
SUMMARY:Connecticut Antique Machinery Association Museum Annual Fall Festival
DESCRIPTION:Connecticut Antique Machinery Association Museum Annual Fall Festival\nWhen: September 27-29\, 2024\nWhere: 31B Kent-Cornwall Rd (Rt. 7) Kent\, CT\, 06757; 1 Mile North of town center\nContact: John Pawloski\, 860-354-0296; Email: j.a.pawloski@att.net; www.ctamachinery.com\, Facebook: Connecticut Antique Machinery Association
URL:https://oldirongarage.com/event/connecticut-antique-machinery-association-museum-annual-fall-festival-2/2024-10-17/
LOCATION:GA
END:VEVENT
BEGIN:VEVENT
DTSTART;VALUE=DATE:20241018
DTEND;VALUE=DATE:20241021
DTSTAMP:20260421T163835
CREATED:20240721T030701Z
LAST-MODIFIED:20240721T030701Z
UID:10001416-1729209600-1729468799@oldirongarage.com
SUMMARY:37th Annual American Thresherman Assoc. Fall Festival
DESCRIPTION:Come join us again on October 20th-22nd for another fantastic Fall Festival! Lots of demonstrations\, train rides\, apple butter\, and cider will be available. Our general store will also be open for all of your Fall favorites! Like and Share! We’d love to see you and your family! \nContact: David Logsdon 618-318-0745 \nemail: americanthresherman@gmail.com \nwww.americanthresherman.com \nFacebook: American Thresherman Association
URL:https://oldirongarage.com/event/37th-annual-american-thresherman-assoc-fall-festival/
LOCATION:American Thresherman Society\, 711 Fairground Road\, Pinckneyville\, IL\, 62274\, United States
CATEGORIES:Shows and Festivals
ORGANIZER;CN="American Thresherman Association":MAILTO:americanthresherman@gmail.com
END:VEVENT
BEGIN:VEVENT
DTSTART;TZID=America/Chicago:20241018T080000
DTEND;TZID=America/Chicago:20241018T170000
DTSTAMP:20260421T163835
CREATED:20240606T185829Z
LAST-MODIFIED:20240606T185829Z
UID:10001343-1729238400-1729270800@oldirongarage.com
SUMMARY:18th Annual Gordon County Antique Engine & Tractor Show
DESCRIPTION:18th Annual Gordon County Antique Engine & Tractor Show\nWhen: October 18-19\, 2024\nWhere: Cherokee Capital Fairgrounds 1060 Liberty RD\, Calhoun\, GA\, 30701\nFeatures: Allis Chalmers Tractors and all brands of Engines\nContact: Ricky Matthews 770-527-5346\nKim Primmer 770-629-7227; kwprimmer1@mindspring.com\nWebsite/ Facebook: www.gtaeatc.com ; Facebook- gcaeatc
URL:https://oldirongarage.com/event/18th-annual-gordon-county-antique-engine-tractor-show/2024-10-18/
LOCATION:Cherokee Capital  Fairgrounds\, 1060 Liberty Road S.W.\, Calhoun\, GA\, 30120\, United States
END:VEVENT
BEGIN:VEVENT
DTSTART;TZID=America/Chicago:20241018T080000
DTEND;TZID=America/Chicago:20241018T200000
DTSTAMP:20260421T163835
CREATED:20240522T145203Z
LAST-MODIFIED:20240522T145203Z
UID:10000634-1729238400-1729281600@oldirongarage.com
SUMMARY:Yesteryear Farm Show
DESCRIPTION:When: August 23-25\, 2024\nWhere: Dougherty Museum\, 8306 N. 107th St Longmont\, CO\, 80504\nContact: Bob McCarty\, 303-776-9859; Facebook: Yesteryear Farm Show\nThe Tractor Above will be auctioned off at the Farm Show!
URL:https://oldirongarage.com/event/yesteryear-farm-show/2024-10-18/
LOCATION:GA
END:VEVENT
BEGIN:VEVENT
DTSTART;TZID=America/Chicago:20241018T080000
DTEND;TZID=America/Chicago:20241019T170000
DTSTAMP:20260421T163835
CREATED:20240828T001904Z
LAST-MODIFIED:20240828T001904Z
UID:10001483-1729238400-1729357200@oldirongarage.com
SUMMARY:18th Annual Clifty Tractor & Car Show
DESCRIPTION:Contact: Darrell Keeling\, 270-604-2804 \nemail: lakelillies@yahoo.com \n 
URL:https://oldirongarage.com/event/18th-annual-clifty-tractor-car-show/
LOCATION:Clifty School Park\, 13609 Greenville Road\, Clifty\, KY\, 42220\, United States
CATEGORIES:Shows and Festivals
END:VEVENT
BEGIN:VEVENT
DTSTART;TZID=America/Chicago:20241018T080000
DTEND;TZID=America/Chicago:20241019T170000
DTSTAMP:20260421T163835
CREATED:20240906T031405Z
LAST-MODIFIED:20240906T031405Z
UID:10001514-1729238400-1729357200@oldirongarage.com
SUMMARY:Miner Hill October Swap Meet/Flea Market
DESCRIPTION:Miner Hill\, LLC is an established flea market entering it’s ninth season in Marceline\, MO at 1310 North Missouri Ave (Right along HWY 5). Join us the 4th Friday and following Saturday each month\, April through June. Closed July & August. Select September & October dates. \nContact: Loren Niemeier\, 660-375-1212 \nemail: minerhillllc@yahoo.com \nwww.minerhill.com \nFacebook: Miner Hill LLC \n  \n 
URL:https://oldirongarage.com/event/miner-hill-october-swap-meet-flea-market/
LOCATION:Miner Hill\, 1310 N Missouri Ave\, Marceline\, MO\, 64658\, United States
CATEGORIES:Shows and Festivals
ATTACH;FMTTYPE=image/jpeg:https://oldirongarage.com/wp-content/uploads/2024/09/Miner-Hill.jpg
END:VEVENT
BEGIN:VEVENT
DTSTART;TZID=America/Chicago:20241018T080000
DTEND;TZID=America/Chicago:20241020T160000
DTSTAMP:20260421T163835
CREATED:20240108T165531Z
LAST-MODIFIED:20240108T165949Z
UID:10000178-1729238400-1729440000@oldirongarage.com
SUMMARY:Grease Steam &Rust Association
DESCRIPTION:Demonstration with the steam engines. Such as sawmill and threshing oats. During throughout the weekend. Truck and Semi pulls on Friday evening. Tractor and Steam Engine pulls Saturday night and Sunday morning. Making apple cider as well. Lots flea markets on the grounds and a barn full of farm toys on hand as well. For more information visit: https://www.gsandr.com/
URL:https://oldirongarage.com/event/grease-steam-rust-association/
LOCATION:Fulton County Fairgrounds\, 888 Lincoln Way E\, McConellsburg\, PA\, 17233\, United States
CATEGORIES:Shows and Festivals
ATTACH;FMTTYPE=image/jpeg:https://oldirongarage.com/wp-content/uploads/2024/01/gsr.jpg
END:VEVENT
BEGIN:VEVENT
DTSTART;TZID=America/Chicago:20241018T080000
DTEND;TZID=America/Chicago:20241020T170000
DTSTAMP:20260421T163835
CREATED:20240917T023412Z
LAST-MODIFIED:20240917T023412Z
UID:10001540-1729238400-1729443600@oldirongarage.com
SUMMARY:25th Annual Carroll County Antique Collectors Power Show
DESCRIPTION:Features: Allis-Chalmers\, Simplicity\, and Maytag \nContact: Orlo Brown\, 330-312-5830 \nemail: brownor@hotmail.com \nMelvin Rheil\, 330-933-5130 \nhttps://ccaccweb.wixsite.com \nFacebook: Carroll County Antique Collectors Club
URL:https://oldirongarage.com/event/25th-annual-carroll-county-antique-collectors-power-show/
LOCATION:Carroll County Fairgrounds\, 160 Kensington Road NE\, Carrollton\, OH\, 44615\, United States
CATEGORIES:Shows and Festivals
ATTACH;FMTTYPE=image/jpeg:https://oldirongarage.com/wp-content/uploads/2024/09/457591887_911696904331371_3504295741251117709_n.jpg
END:VEVENT
BEGIN:VEVENT
DTSTART;TZID=America/Chicago:20241018T080000
DTEND;TZID=America/Chicago:20241020T170000
DTSTAMP:20260421T163835
CREATED:20240917T024722Z
LAST-MODIFIED:20240917T024722Z
UID:10001541-1729238400-1729443600@oldirongarage.com
SUMMARY:Paint Valley Antique Machinery Fall Festival of Leaves Bainbridge Show
DESCRIPTION:Contact: Jim Forsythe\, 270-792-8417 \nemail: teepeefroggy@aol.com
URL:https://oldirongarage.com/event/paint-valley-antique-machinery-fall-festival-of-leaves-bainbridge-show/
LOCATION:Bainbridge\, 102 N Maple Street\, Bainbridge\, OH\, 45612\, United States
CATEGORIES:Shows and Festivals
ATTACH;FMTTYPE=image/jpeg:https://oldirongarage.com/wp-content/uploads/2024/09/old-tractor-rural-setting-antiquelooking-photo_716843-200.jpg
END:VEVENT
BEGIN:VEVENT
DTSTART;TZID=America/Chicago:20241018T080000
DTEND;TZID=America/Chicago:20241020T170000
DTSTAMP:20260421T163835
CREATED:20240923T024233Z
LAST-MODIFIED:20240923T024233Z
UID:10001568-1729238400-1729443600@oldirongarage.com
SUMMARY:43rd Annual Grease\, Steam\, & Rust Assoc. Antique Tractor & Machinery Show
DESCRIPTION:Friday October 18\, 2024       Semi and 4×4 Truck Pull 7 p.m.   \nSaturday October 19\, 2024   Parade 10:30 a.m. \n                                                   Clash Of The Axeman 12:30 p.m. \n                                                   Farm Stock Tractor Pull 6 p.m. \n                                                   Steam Engine Spark Show  9 p.m. \nSunday October 20\,2024     Modern\, Classic\, and Antique Tractor Pull 10 a.m. \nFeature: International Harvester \nContact: Matt Keller\, 717-816-8969 \nemail: dirtfarmer163@yahoo.com \nwww.gsandr.com \nFacebook: Grease\, Steam\, Rust Association\, Inc.
URL:https://oldirongarage.com/event/43rd-annual-grease-steam-rust-assoc-antique-tractor-machinery-show/
LOCATION:Fulton County Fairgrounds\, 888 Lincoln Way E\, McConellsburg\, PA\, 17233\, United States
CATEGORIES:Shows and Festivals
ATTACH;FMTTYPE=image/jpeg:https://oldirongarage.com/wp-content/uploads/2024/09/gsr.jpg
END:VEVENT
BEGIN:VEVENT
DTSTART;TZID=America/Chicago:20241018T090000
DTEND;TZID=America/Chicago:20241018T160000
DTSTAMP:20260421T163835
CREATED:20240522T144554Z
LAST-MODIFIED:20240522T144554Z
UID:10000258-1729242000-1729267200@oldirongarage.com
SUMMARY:Colorado State Fair Antique Equipment Display
DESCRIPTION:Colorado State Fair Antique Equipment Display\nWhen: August 23-September 2\, 2024\nWhere: 1001 Beulah Ave\, Pueblo\, CO 81004\nContact: Steve Stratton\, 719-250-7279; Email: stevestratman@yahoo.com; www\,frapausa.com; Facebook: Front Range Antique Power Assn.
URL:https://oldirongarage.com/event/colorado-state-fair-antique-equipment-display/2024-10-18/
LOCATION:GA
END:VEVENT
BEGIN:VEVENT
DTSTART;TZID=America/Chicago:20241018T090000
DTEND;TZID=America/Chicago:20241018T170000
DTSTAMP:20260421T163835
CREATED:20240522T161320Z
LAST-MODIFIED:20240522T161320Z
UID:10000970-1729242000-1729270800@oldirongarage.com
SUMMARY:Connecticut Antique Machinery Association Museum Annual Fall Festival
DESCRIPTION:Connecticut Antique Machinery Association Museum Annual Fall Festival\nWhen: September 27-29\, 2024\nWhere: 31B Kent-Cornwall Rd (Rt. 7) Kent\, CT\, 06757; 1 Mile North of town center\nContact: John Pawloski\, 860-354-0296; Email: j.a.pawloski@att.net; www.ctamachinery.com\, Facebook: Connecticut Antique Machinery Association
URL:https://oldirongarage.com/event/connecticut-antique-machinery-association-museum-annual-fall-festival-2/2024-10-18/
LOCATION:GA
END:VEVENT
BEGIN:VEVENT
DTSTART;VALUE=DATE:20241019
DTEND;VALUE=DATE:20241020
DTSTAMP:20260421T163835
CREATED:20240828T002251Z
LAST-MODIFIED:20240828T002251Z
UID:10001484-1729296000-1729382399@oldirongarage.com
SUMMARY:Bluegrass Antique Machinery Assoc. Harvest Days
DESCRIPTION:Contact: Lee Wallace\, 859-983-0532 \n502-857-2712 \nFacebook: Bluegrass Antique Machinery Association
URL:https://oldirongarage.com/event/bluegrass-antique-machinery-assoc-harvest-days/
LOCATION:Allen Finch Farm\, 6062 Paris Road\, Georgetown\, KY\, 40324\, United States
CATEGORIES:Shows and Festivals
ATTACH;FMTTYPE=image/jpeg:https://oldirongarage.com/wp-content/uploads/2024/08/428709074_854794496448133_2601524102201833686_n.jpg
END:VEVENT
BEGIN:VEVENT
DTSTART;VALUE=DATE:20241019
DTEND;VALUE=DATE:20241020
DTSTAMP:20260421T163835
CREATED:20240917T025316Z
LAST-MODIFIED:20240917T025316Z
UID:10001542-1729296000-1729382399@oldirongarage.com
SUMMARY:Pioneer Antique Power Assoc. Fall Plow Day
DESCRIPTION:Contact: John Lemon Jr.\, 304-483-4015 \nemail: tractorguy399@gmail.com \nJesse Lemon\, 304-966-5529
URL:https://oldirongarage.com/event/pioneer-antique-power-assoc-fall-plow-day/
LOCATION:Beverly\, St Rt 60\, Beverly\, OH\, 45715\, United States
CATEGORIES:Shows and Festivals
END:VEVENT
BEGIN:VEVENT
DTSTART;TZID=America/Chicago:20241019T080000
DTEND;TZID=America/Chicago:20241019T170000
DTSTAMP:20260421T163835
CREATED:20240606T185829Z
LAST-MODIFIED:20240606T185829Z
UID:10001344-1729324800-1729357200@oldirongarage.com
SUMMARY:18th Annual Gordon County Antique Engine & Tractor Show
DESCRIPTION:18th Annual Gordon County Antique Engine & Tractor Show\nWhen: October 18-19\, 2024\nWhere: Cherokee Capital Fairgrounds 1060 Liberty RD\, Calhoun\, GA\, 30701\nFeatures: Allis Chalmers Tractors and all brands of Engines\nContact: Ricky Matthews 770-527-5346\nKim Primmer 770-629-7227; kwprimmer1@mindspring.com\nWebsite/ Facebook: www.gtaeatc.com ; Facebook- gcaeatc
URL:https://oldirongarage.com/event/18th-annual-gordon-county-antique-engine-tractor-show/2024-10-19/
LOCATION:Cherokee Capital  Fairgrounds\, 1060 Liberty Road S.W.\, Calhoun\, GA\, 30120\, United States
END:VEVENT
END:VCALENDAR