BEGIN:VCALENDAR
VERSION:2.0
PRODID:-//Old Iron Garage - ECPv6.6.3//NONSGML v1.0//EN
CALSCALE:GREGORIAN
METHOD:PUBLISH
X-WR-CALNAME:Old Iron Garage
X-ORIGINAL-URL:https://oldirongarage.com
X-WR-CALDESC:Events for Old Iron Garage
REFRESH-INTERVAL;VALUE=DURATION:PT1H
X-Robots-Tag:noindex
X-PUBLISHED-TTL:PT1H
BEGIN:VTIMEZONE
TZID:America/Chicago
BEGIN:DAYLIGHT
TZOFFSETFROM:-0600
TZOFFSETTO:-0500
TZNAME:CDT
DTSTART:20220313T080000
END:DAYLIGHT
BEGIN:STANDARD
TZOFFSETFROM:-0500
TZOFFSETTO:-0600
TZNAME:CST
DTSTART:20221106T070000
END:STANDARD
END:VTIMEZONE
BEGIN:VEVENT
DTSTART;TZID=America/Chicago:20221105T080000
DTEND;TZID=America/Chicago:20221105T170000
DTSTAMP:20260419T085929
CREATED:20220825T200201Z
LAST-MODIFIED:20220825T200201Z
UID:10000104-1667635200-1667667600@oldirongarage.com
SUMMARY:Northern Neck Farm Museum Plow Day
DESCRIPTION:Contact: James R. Simmons \nemail: rsimmons@rivertitleva.com \nwww.thefarmmuseum.org \nFacebook: Northern Neck Farm Museum
URL:https://oldirongarage.com/event/northern-neck-farm-museum-plow-day/
LOCATION:Northern Neck Farm Museum\, 12705 Northumberland Hwy\, Heathsville\, VA\, 22473\, United States
CATEGORIES:Shows and Festivals
END:VEVENT
BEGIN:VEVENT
DTSTART;TZID=America/Chicago:20221109T070000
DTEND;TZID=America/Chicago:20221110T170000
DTSTAMP:20260419T085929
CREATED:20220823T145000Z
LAST-MODIFIED:20220823T145000Z
UID:10000072-1667977200-1668099600@oldirongarage.com
SUMMARY:26th Annual Florida Flywheelers Antique Fall Fuel-Up
DESCRIPTION:Directions: \n8 miles southeast of town or 10 miles northwest of Avon Park \nContact: Philip \n863-285-9121 \nemail: ffwadvertise@yahoo.com \nwww.floridaflywheelers.org \nFacebook: Florida Flywheelers Antique Engine Club
URL:https://oldirongarage.com/event/26th-annual-florida-flywheelers-antique-fall-fuel-up/
LOCATION:Branch State Park\, 6239 State Road 21\, Keystone Heights\, FL\, 32656\, United States
CATEGORIES:Shows and Festivals
END:VEVENT
BEGIN:VEVENT
DTSTART;TZID=America/Chicago:20221112T080000
DTEND;TZID=America/Chicago:20221112T170000
DTSTAMP:20260419T085929
CREATED:20220825T180727Z
LAST-MODIFIED:20220825T180727Z
UID:10000099-1668240000-1668272400@oldirongarage.com
SUMMARY:East Texas Antique Tractor and Engine Club Heritage Syrup Festival
DESCRIPTION:Contact: Don Reynolds (903) 657-4304\, (903) 646-3769 \nEmail: dr48jdm@eastex.net \nFor more information visit: \nwww.depotmuseum.com \nFacebook: East Texas Antique Tractor & Engine Club
URL:https://oldirongarage.com/event/east-texas-antique-tractor-and-engine-club-heritage-syrup-festival/
LOCATION:Depot Museum\, 514 N. High Street\, Henderson\, TX\, 75652\, United States
CATEGORIES:Shows and Festivals
END:VEVENT
END:VCALENDAR