BEGIN:VCALENDAR
VERSION:2.0
PRODID:-//Old Iron Garage - ECPv6.6.3//NONSGML v1.0//EN
CALSCALE:GREGORIAN
METHOD:PUBLISH
X-WR-CALNAME:Old Iron Garage
X-ORIGINAL-URL:https://oldirongarage.com
X-WR-CALDESC:Events for Old Iron Garage
REFRESH-INTERVAL;VALUE=DURATION:PT1H
X-Robots-Tag:noindex
X-PUBLISHED-TTL:PT1H
BEGIN:VTIMEZONE
TZID:America/Chicago
BEGIN:DAYLIGHT
TZOFFSETFROM:-0600
TZOFFSETTO:-0500
TZNAME:CDT
DTSTART:20220313T080000
END:DAYLIGHT
BEGIN:STANDARD
TZOFFSETFROM:-0500
TZOFFSETTO:-0600
TZNAME:CST
DTSTART:20221106T070000
END:STANDARD
END:VTIMEZONE
BEGIN:VEVENT
DTSTART;TZID=America/Chicago:20221001T080000
DTEND;TZID=America/Chicago:20221002T170000
DTSTAMP:20260421T072910
CREATED:20220823T141707Z
LAST-MODIFIED:20220823T142138Z
UID:10000069-1664611200-1664730000@oldirongarage.com
SUMMARY:Zagray Farm Museum Fall Festival and Swap Meet
DESCRIPTION:Includes: \n1873 Sawmill demonstrations\, New 17\,600 square foot Tractor Building\, Circa 1930 Farmhouse guided tours\, Antique Tractor pulling\, and so much more! \nDirections: Rt. 85 north\, 1-1/2 miles on right \nContact: Arthur Chester \n860-982-5158 \nEmail: are.chester@rjillc.com \nwww.zagrayfarmmuseum.org
URL:https://oldirongarage.com/event/zagray-farm-museum-fall-festival-and-swap-meet/
LOCATION:Zagray Farm Museum\, 544 Amston Road\, Colchester\, CT\, 06415\, United States
CATEGORIES:Shows and Festivals
END:VEVENT
BEGIN:VEVENT
DTSTART;TZID=America/Chicago:20221001T090000
DTEND;TZID=America/Chicago:20221001T170000
DTSTAMP:20260421T072910
CREATED:20220824T200735Z
LAST-MODIFIED:20220824T200928Z
UID:10000083-1664614800-1664643600@oldirongarage.com
SUMMARY:Linbrook Heritage Estate Museum's Annual Steam Day 2022
DESCRIPTION:Features: 1959 630 All Fuel Standard\, 1957 Model 620 Orchard\, John Deere tractors\, and more \nIncludes live demonstrations\, food\, live music\, and tours! \nAdmission is Free! \nMuseum exhibits are open for touring during the event! \nContact: Allison White (336) 861-6959 \nEmail: info@linbrookheritageestate.com \nFor more information visit: \nhttps://www.linbrookheritageestate.com/steamday
URL:https://oldirongarage.com/event/linbrook-heritage-estate-museums-annual-steam-day-2022/
LOCATION:The Neal Agricultural and Industrial Museum\, 5507 Snyder Country Road\, Trinity\, NC\, 27370\, United States
CATEGORIES:Shows and Festivals
END:VEVENT
BEGIN:VEVENT
DTSTART;TZID=America/Chicago:20221002T080000
DTEND;TZID=America/Chicago:20221002T170000
DTSTAMP:20260421T072910
CREATED:20220825T201805Z
LAST-MODIFIED:20220825T201805Z
UID:10000106-1664697600-1664730000@oldirongarage.com
SUMMARY:Wood County Flywheelers Henderson Hall Antique Engine and Heritage Festival
DESCRIPTION:Contact: Roger Riddle (740) 538-7742 \nemail: roger@ramppco.com \nRandy Modesitt (304) 375-2129 \nhttps://hendersonhallwv.com
URL:https://oldirongarage.com/event/wood-county-flywheelers-henderson-hall-antique-engine-and-heritage-festival/
LOCATION:Wood County\, 517 River Road\, Williamstown\, WV\, 26187\, United States
CATEGORIES:Shows and Festivals
END:VEVENT
BEGIN:VEVENT
DTSTART;TZID=America/Chicago:20221007T080000
DTEND;TZID=America/Chicago:20221008T170000
DTSTAMP:20260421T072910
CREATED:20220825T170656Z
LAST-MODIFIED:20220825T170656Z
UID:10000095-1665129600-1665248400@oldirongarage.com
SUMMARY:Three Rivers Antique Tractor and Engine Show and Pull
DESCRIPTION:Feature: 1935 John Deere B \nContact: Billy Norman (865) 466-4500 \nemail: mrheartbeat1964@netscape.com \nJason Taylor (865) 466-4500 \nFacebook: Three Rivers Antique Tractor Club
URL:https://oldirongarage.com/event/three-rivers-antique-tractor-and-engine-show-and-pull/
LOCATION:Roane State Expo Center\, 276 Patton Lane\, Harriman\, TN\, 37748\, United States
CATEGORIES:Shows and Festivals
END:VEVENT
BEGIN:VEVENT
DTSTART;TZID=America/Chicago:20221007T080000
DTEND;TZID=America/Chicago:20221008T170000
DTSTAMP:20260421T072910
CREATED:20220823T160120Z
LAST-MODIFIED:20220823T160120Z
UID:10000075-1665129600-1665248400@oldirongarage.com
SUMMARY:34th Annual Southeast Kansas Old Time Gas Engine and Tractor Club Tractor and Engine Show
DESCRIPTION:Free General Admission! \nNo Vendor Fee! \nElectricity $5 \nContact: Andy Smith \n620-238-9345 \nwww.sekgasenginetractorclub.com \nFacebook: Southeast Kansas Old Time Gas Engine & Tractor Club
URL:https://oldirongarage.com/event/34th-annual-southeast-kansas-old-time-gas-engine-and-tractor-club-tractor-and-engine-show/
LOCATION:SEK Showgrounds\, 651 S. Hwy 69\, Pittsburg\, KS\, 66743\, United States
CATEGORIES:Shows and Festivals
END:VEVENT
BEGIN:VEVENT
DTSTART;VALUE=DATE:20221008
DTEND;VALUE=DATE:20221009
DTSTAMP:20260421T072910
CREATED:20220823T143000Z
LAST-MODIFIED:20220823T143000Z
UID:10000070-1665187200-1665273599@oldirongarage.com
SUMMARY:1st Annual Scantic Valley Antique Engine Club Fall Foliage Tractor Ride
DESCRIPTION:Directions: \nFrom Rt. 5\, take Scantic Road 2 miles farm will be on your right \nContact: Ralph Winn \n860-623-3906 \nwww.svaec.com \nFacebook: Scantic Valley Antique Engine and Tractor Club
URL:https://oldirongarage.com/event/1st-annual-scantic-valley-antique-engine-club-fall-foliage-tractor-ride/
LOCATION:Shady Maple Farm\, 211 Scantic Rd.\, East Windsor\, CT\, 06016\, United States
CATEGORIES:Shows and Festivals
END:VEVENT
BEGIN:VEVENT
DTSTART;VALUE=DATE:20221008
DTEND;VALUE=DATE:20221009
DTSTAMP:20260421T072910
CREATED:20220613T140229Z
LAST-MODIFIED:20220613T140229Z
UID:10000062-1665187200-1665273599@oldirongarage.com
SUMMARY:Alabama Chapter 23 IH Collectors Jean’s on the River Antique Tractor Show
DESCRIPTION:Oct. 8 Cordova \nFeature: International Harvester. \nDirections: From Hwy 78\, take \nRiver Road S.\, zip code 35550. \nContact: Becky Johnson\, \n205-483-0024; \nemail: shermanihc@yahoo.com
URL:https://oldirongarage.com/event/alabama-chapter-23-ih-collectors-jeans-on-the-river-antique-tractor-show/
LOCATION:WA
CATEGORIES:Shows and Festivals
END:VEVENT
BEGIN:VEVENT
DTSTART;TZID=America/Chicago:20221008T080000
DTEND;TZID=America/Chicago:20221008T170000
DTSTAMP:20260421T072910
CREATED:20220825T171934Z
LAST-MODIFIED:20220825T171934Z
UID:10000096-1665216000-1665248400@oldirongarage.com
SUMMARY:West Tennessee Antique Engine and Tractor Association Fall Show
DESCRIPTION:FREE admission to see lots of tractors\, engines\, and displays \nFlea Market\, Craft Vendors\, Food Vendor on sight\, and more! \nContact: Gail Privett (731) 487-0954 \nemail: cellfonelady@gmail.com \nJeff Oliver (731) 431-7525 \nFacebook: West TN Antique Engine and Tractor Association
URL:https://oldirongarage.com/event/west-tennessee-antique-engine-and-tractor-association-fall-show/
LOCATION:Park\, Intersection of Hwys 70A and 79\, Atwood\, TN\, 38220\, United States
CATEGORIES:Shows and Festivals
END:VEVENT
END:VCALENDAR