BEGIN:VCALENDAR
VERSION:2.0
PRODID:-//Old Iron Garage - ECPv6.6.3//NONSGML v1.0//EN
CALSCALE:GREGORIAN
METHOD:PUBLISH
X-WR-CALNAME:Old Iron Garage
X-ORIGINAL-URL:https://oldirongarage.com
X-WR-CALDESC:Events for Old Iron Garage
REFRESH-INTERVAL;VALUE=DURATION:PT1H
X-Robots-Tag:noindex
X-PUBLISHED-TTL:PT1H
BEGIN:VTIMEZONE
TZID:America/Chicago
BEGIN:DAYLIGHT
TZOFFSETFROM:-0600
TZOFFSETTO:-0500
TZNAME:CDT
DTSTART:20220313T080000
END:DAYLIGHT
BEGIN:STANDARD
TZOFFSETFROM:-0500
TZOFFSETTO:-0600
TZNAME:CST
DTSTART:20221106T070000
END:STANDARD
END:VTIMEZONE
BEGIN:VEVENT
DTSTART;TZID=America/Chicago:20220824T080000
DTEND;TZID=America/Chicago:20220827T170000
DTSTAMP:20260420T005255
CREATED:20220510T164905Z
LAST-MODIFIED:20220822T212953Z
UID:10000057-1661328000-1661619600@oldirongarage.com
SUMMARY:57th Antique Engine & Tractor Show- IN
DESCRIPTION:The World’s Largest Gas Engine and Tractor Show! \nTri-State Gas Engine & Tractor Association\, Inc. presents the 57th Antique Engine & Tractor Show. \nFeaturing: Minneapolis Moline Tractors & Wisconsin Engines \nOver 400 engine & tractor parts dealers & large trading post \nSawmill\, Threshing\, & Antique Construction Equipment in operation Daily! \nAdmission: Adults- $5 \nHigh School Age- $3.00 \nChildren Under 12 – Free \nLocation: 1010 N. Morton St.\nPortland\, IN 47371
URL:https://oldirongarage.com/event/57th-antique-engine-tractor-show-in/
LOCATION:Jay County Fairgrounds\, 1010 N Morton St\, Portland\, IN\, 47371\, United States
CATEGORIES:Shows and Festivals
END:VEVENT
BEGIN:VEVENT
DTSTART;TZID=America/Chicago:20220902T080000
DTEND;TZID=America/Chicago:20220905T170000
DTSTAMP:20260420T005255
CREATED:20220510T165417Z
LAST-MODIFIED:20220822T212141Z
UID:10000058-1662105600-1662397200@oldirongarage.com
SUMMARY:Western Minnesota Steam Threshers Reunion
DESCRIPTION:Featuring: Aultman Taylor & Advance Rumley \nThe Advance Rumely Kerosene Annie will be making an appearance at this years show! \nEvery Labor Day Weekend in Rollag\, MN \nSeptember 2nd – September 5th 2022 \nSeason tickets are only $25.00 per person\, and day passes are $14.00. Kids 14 and under are free with a paid adult \nSince 1954 every Labor Day Weekend generations of Threshermen & women have come together to relive the tradition of the good ole’ days.
URL:https://oldirongarage.com/event/western-minnesota-steam-threshers-reunion/
LOCATION:Western Minnesota Steam Threshers Reunion\, 27512 102nd Ave S\, Hawley\, MN\, 56549\, United States
CATEGORIES:Shows and Festivals
END:VEVENT
BEGIN:VEVENT
DTSTART;TZID=America/Chicago:20220909T080000
DTEND;TZID=America/Chicago:20220910T170000
DTSTAMP:20260420T005255
CREATED:20220613T150114Z
LAST-MODIFIED:20220822T211026Z
UID:10000065-1662710400-1662829200@oldirongarage.com
SUMMARY:Georgia Antique Engine Club Farm Days of Yesteryear
DESCRIPTION:Sept. 9-10 Jasper\, Georgia \nDirections: Lee Newton Park\, \n599 Stegall Drive\, zip code 30143. \nContact: Alan Proudfoot\, 561-723-4119; \nemail: swampones@etcmail.com \nFacebook: Georgia Antique \nEngine Club
URL:https://oldirongarage.com/event/georgia-antique-engine-club-farm-days-of-yesteryear/
LOCATION:Days of Yesteryear\, 500 Stegall Dr.\, Jasper\, GA\, 30143\, United States
CATEGORIES:Shows and Festivals
END:VEVENT
BEGIN:VEVENT
DTSTART;TZID=America/Chicago:20220910T080000
DTEND;TZID=America/Chicago:20220911T170000
DTSTAMP:20260420T005255
CREATED:20220511T154822Z
LAST-MODIFIED:20220822T205752Z
UID:10000060-1662796800-1662915600@oldirongarage.com
SUMMARY:40th Old Trusty Annual Antique & Collectors Show
DESCRIPTION:Threshing\, Shelling\, Plowing\, Ensilage Chopping\, Straw Bailing\, \nBaker Fan\, Blacksmith\, Rope Making\, Wheel Wright\, Saw Mill \nDaily Kids Pedal Pull\, and so much more! \nAntique Tractors & Equipment\, Gas\, Steam\, & Hot Air Engines\, Antique Cars & Trucks. \n  \nLocated: At the Fairgrounds in Clay Center\, NE
URL:https://oldirongarage.com/event/40th-old-trusty-annual-antique-collectors-show/
LOCATION:Clay Center Fairgrounds\, 316 W Glenvil St\, Clay Center\, NE\, 68933\, United States
CATEGORIES:Shows and Festivals
END:VEVENT
BEGIN:VEVENT
DTSTART;TZID=America/Chicago:20220916T080000
DTEND;TZID=America/Chicago:20220918T170000
DTSTAMP:20260420T005255
CREATED:20220510T163150Z
LAST-MODIFIED:20220822T203246Z
UID:10000055-1663315200-1663520400@oldirongarage.com
SUMMARY:61st Antique Engine and Tractor Working Farm Show-IL
DESCRIPTION:This years show will feature John Deere Tractors & Implements and will be held on September 16th\, 17th\, and 18th. \nThis annual shows features corn and bean harvest with mid 1900’s equipment\, threshing oats and wheat\, saw mill\, plowing\, and gas engine demonstrations from the early to mid 1900’s. \nGates Open: 7 am – 5 pm \nDaily Parade on Grounds at 1 pm \nwww.ae-ta.com\n\nGeneral Contacts:\nPhil Jordan:\n(309) 314-5000\nChad Jacobs\n(309) 314-0783
URL:https://oldirongarage.com/event/antique-engine-and-tractor-working-farm-show-il/
LOCATION:Antique Engine & Tractor Association Grounds\, 13451 HWY 92\, Geneseo\, IL\, 61254\, United States
CATEGORIES:Shows and Festivals
END:VEVENT
BEGIN:VEVENT
DTSTART;TZID=America/Chicago:20220923T080000
DTEND;TZID=America/Chicago:20220925T170000
DTSTAMP:20260420T005255
CREATED:20220613T143428Z
LAST-MODIFIED:20220822T200026Z
UID:10000063-1663920000-1664125200@oldirongarage.com
SUMMARY:Connecticut Antique Machinery Association Museum Annual Fall Festival
DESCRIPTION:Sept. 23 -25 \nFeatures; Farmall and John Deere tractors. \nDirections: 31 Kent Cornwall Road \n(Rt. 7)\, zip code 06757 ; 1 mile north of town center. \nContact: John Pawloski\, 8 6 0 -3 5 4 -0 2 9 6 ; \nemail: j.a.pawloski@att.net \nwww.ctamachinery.com \nFacebook; Connecticut Antique \nMachinery Association \nS-2 T -2 E-1 A -4 M-2
URL:https://oldirongarage.com/event/connecticut-antique-machinery-association-museum-annual-fall-festival/
LOCATION:Connecticut Antique Machinery\, 31 Kent Cornwall Rd\, Kent\, CT\, 06757\, United States
CATEGORIES:Shows and Festivals
END:VEVENT
BEGIN:VEVENT
DTSTART;TZID=America/Chicago:20220923T080000
DTEND;TZID=America/Chicago:20220925T170000
DTSTAMP:20260420T005255
CREATED:20220510T163801Z
LAST-MODIFIED:20220822T201435Z
UID:10000056-1663920000-1664125200@oldirongarage.com
SUMMARY:Bos Brothers Fall Harvest Days
DESCRIPTION:Demonstrations Include: \nHarvesting standing crops\, plowing the stalks\, corn shredding and shelling\, baking corn bread\, rock crushing\, saw milling\, blacksmithing\, rug weaving\, and more! \nParking and admission are FREE and food is available on the grounds. \nFriday and Saturday: 8 am – 5 pm \nSunday: 8 am – 3 pm \nChurch service Sunday at 9:30 am- all are welcome! \nLocation: 8105 Springhill RD. Erie\, IL \n 
URL:https://oldirongarage.com/event/bos-brothers-fall-harvest-days/
LOCATION:Bos Brothers Showgrounds\, 8105 Springhill RD\, Erie\, IL\, 61250\, United States
CATEGORIES:Shows and Festivals
END:VEVENT
BEGIN:VEVENT
DTSTART;VALUE=DATE:20220924
DTEND;VALUE=DATE:20220925
DTSTAMP:20260420T005255
CREATED:20220823T141024Z
LAST-MODIFIED:20220823T141024Z
UID:10000068-1663977600-1664063999@oldirongarage.com
SUMMARY:14th Annual Scantic Valley Antique Engine Club's Fall Tractor and Engine Show
DESCRIPTION:In conjunction with Country Butcher Open House \nDirections: From I-84 exit 69\, west on Tolland Stage Road (Rt. 74)\, 2 miles on the left. \nContact: Archie Tanner \n860-818-6601 \nEmail: Archie.tanner@gmail.com \nwww.svaec.com \nFacebook: Scantic Valley Antique Engine and Tractor Club
URL:https://oldirongarage.com/event/14th-annual-scantic-valley-antique-engine-clubs-fall-tractor-and-engine-show/
LOCATION:The Country Butcher\, 1032 Tolland Stage Road\, Tolland\, CT\, 06084\, United States
CATEGORIES:Shows and Festivals
END:VEVENT
END:VCALENDAR