BEGIN:VCALENDAR
VERSION:2.0
PRODID:-//Old Iron Garage - ECPv6.6.3//NONSGML v1.0//EN
CALSCALE:GREGORIAN
METHOD:PUBLISH
X-ORIGINAL-URL:https://oldirongarage.com
X-WR-CALDESC:Events for Old Iron Garage
REFRESH-INTERVAL;VALUE=DURATION:PT1H
X-Robots-Tag:noindex
X-PUBLISHED-TTL:PT1H
BEGIN:VTIMEZONE
TZID:America/Chicago
BEGIN:DAYLIGHT
TZOFFSETFROM:-0600
TZOFFSETTO:-0500
TZNAME:CDT
DTSTART:20240310T080000
END:DAYLIGHT
BEGIN:STANDARD
TZOFFSETFROM:-0500
TZOFFSETTO:-0600
TZNAME:CST
DTSTART:20241103T070000
END:STANDARD
END:VTIMEZONE
BEGIN:VEVENT
DTSTART;TZID=America/Chicago:20241011T080000
DTEND;TZID=America/Chicago:20241013T170000
DTSTAMP:20260420T154946
CREATED:20240917T022655Z
LAST-MODIFIED:20240917T022655Z
UID:10001539-1728633600-1728838800@oldirongarage.com
SUMMARY:53rd Annual Algonquin Mill Fall Festival
DESCRIPTION:53rd Annual Algonquin Mill Fall Festival\nFriday\, Saturday & Sunday\nOctober 11-12-13\, 2024\nAdmission $10 per vehicle\nTour buses welcome\, by pre-arrangement only (call 330-627-5910)\nCamping $20 per night – (Thursday\, Friday & Saturday)\nAll exhibits open 9am-5pm \n\nThe Carroll County Historical Society present the 53rd annual Algonquin Mill Fall Festival at the Mill farm\, five miles south of Carrollton\, Ohio on State Route 332. ATM available on Festival grounds. Festival church service in the schoolhouse on the Mills grounds Sunday 8am. No pets or firearms allowed on the festival grounds at any time!\nContact: David L. George\, 330-771-1121\nemail: dgeorge113@yahoo.com\nwww.carrollcountyhistoricalsociety.com
URL:https://oldirongarage.com/event/53rd-annual-algonquin-mill-fall-festival/
LOCATION:Carrollton\, 234 Autumn Road SW\, Carrollton\, OH\, 44615\, United States
CATEGORIES:Shows and Festivals
ATTACH;FMTTYPE=image/jpeg:https://oldirongarage.com/wp-content/uploads/2024/09/Vendor_3601_logo.jpg
END:VEVENT
BEGIN:VEVENT
DTSTART;TZID=America/Chicago:20241011T080000
DTEND;TZID=America/Chicago:20241013T170000
DTSTAMP:20260420T154946
CREATED:20240923T001545Z
LAST-MODIFIED:20240923T001545Z
UID:10001562-1728633600-1728838800@oldirongarage.com
SUMMARY:38th Annual Sherman's Valley Heritage Days
DESCRIPTION:Admission $2.00 per Adult \nChildren under 12\, FREE! \nSherman’s Valley Heritage Days\, Inc. is a non-profit organization which was founded in 1986. Its purpose is to demonstrate and preserve the role of antique farm equipment\, vehicles\, hand-craftsmanship\, and the heritage of the way things were done in the “Good Old Days”\, and to educate the public about preserving items and practices from the past. \nContact: David Casner\, president\, 717-385-3339 \nemail: 22x36casner@gmail.com \nwww.svheritagedays.com \nFacebook: Sherman’s Valley Heritage Days\, Inc
URL:https://oldirongarage.com/event/38th-annual-shermans-valley-heritage-days/
LOCATION:Perry County\, 532 Picnic Grove Road\, Blain\, PA\, 17006\, United States
CATEGORIES:Shows and Festivals
ATTACH;FMTTYPE=image/jpeg:https://oldirongarage.com/wp-content/uploads/2024/09/1727050319142-3ec7e571-b443-401f-b330-b4c0938a0035_1.jpg
END:VEVENT
BEGIN:VEVENT
DTSTART;TZID=America/Chicago:20241011T080000
DTEND;TZID=America/Chicago:20241013T170000
DTSTAMP:20260420T154946
CREATED:20240923T003317Z
LAST-MODIFIED:20240923T003317Z
UID:10001563-1728633600-1728838800@oldirongarage.com
SUMMARY:58th Annual Tioga County Early Days Fall Festival
DESCRIPTION:Fall festival keeping the past alive. Antique tractor and gas engine displays\, a steam engine powered 1889 sawmill\, tractor pulls\, flea market\, and FFA tractor rodeo. \n\nFeatures: International\, Farmall \nContact: Gary Comfort\, president\, 570-596-2778 \nemail: gcomfort@empireaccess.net \nFacebook: Tioga County Early Days \nwww.tiogacountyfair.com
URL:https://oldirongarage.com/event/58th-annual-tioga-county-early-days-fall-festival/
LOCATION:Tioga County Fairgrounds\, 58 Lewis Street\, Gillett\, PA\, 16925\, United States
CATEGORIES:Shows and Festivals
ATTACH;FMTTYPE=image/jpeg:https://oldirongarage.com/wp-content/uploads/2024/09/Tioga-County-Early-Days-1.jpg
END:VEVENT
BEGIN:VEVENT
DTSTART;TZID=America/Chicago:20241011T080000
DTEND;TZID=America/Chicago:20241013T170000
DTSTAMP:20260420T154946
CREATED:20241001T032611Z
LAST-MODIFIED:20241001T032611Z
UID:10001588-1728633600-1728838800@oldirongarage.com
SUMMARY:Fall Harvest Days at Rumely Acres
DESCRIPTION:Featuring: Oliver and Related Equipment \nField demonstrations\, threshing\, sawmill\, silage cutting\, feed grinding\, shingle mill\, corn shelling\, rope making\, gas engines\, corn husking/shredding\, silent auction\, craft fair\, flea market\, food vendors\, bake sale\, barrel train\, blacksmith\, kid’s activity area\, Cleveland Lions brat fry. \nContact: Aaron Schmidt\, 920-377-6329 \nemail: rumelyacres@gmail.com \nFacebook: Rumely Acres
URL:https://oldirongarage.com/event/fall-harvest-days-at-rumely-acres/
LOCATION:Rumely Acres\, W1545 Co. Road MM\, Cleveland\, WI\, 53015\, United States
CATEGORIES:Shows and Festivals
ATTACH;FMTTYPE=image/jpeg:https://oldirongarage.com/wp-content/uploads/2024/09/459986416_1048289347084709_8930537115718342150_n.jpg
END:VEVENT
BEGIN:VEVENT
DTSTART;TZID=America/Chicago:20241011T090000
DTEND;TZID=America/Chicago:20241011T160000
DTSTAMP:20260420T154946
CREATED:20240522T141833Z
LAST-MODIFIED:20240522T141833Z
UID:10000198-1728637200-1728662400@oldirongarage.com
SUMMARY:North Arkansas Rusty Wheels Old Engine Club Fall Show
DESCRIPTION:North Arkansas Rusty Wheels Old Engine Club Fall Show\nWhen: October 11-12\, 2024\nWhere: 5572 U.S 65 S\, Harrison\, AR\, 72601; 7 Miles south of town on U.S 65 S\nContact: Mickey Jones 870-429-5523; www.rustywheelsusa.com
URL:https://oldirongarage.com/event/north-arkansas-rusty-wheels-old-engine-club-fall-show/2024-10-11/
LOCATION:IA
END:VEVENT
BEGIN:VEVENT
DTSTART;TZID=America/Chicago:20241011T090000
DTEND;TZID=America/Chicago:20241011T160000
DTSTAMP:20260420T154946
CREATED:20240522T144554Z
LAST-MODIFIED:20240522T144554Z
UID:10000251-1728637200-1728662400@oldirongarage.com
SUMMARY:Colorado State Fair Antique Equipment Display
DESCRIPTION:Colorado State Fair Antique Equipment Display\nWhen: August 23-September 2\, 2024\nWhere: 1001 Beulah Ave\, Pueblo\, CO 81004\nContact: Steve Stratton\, 719-250-7279; Email: stevestratman@yahoo.com; www\,frapausa.com; Facebook: Front Range Antique Power Assn.
URL:https://oldirongarage.com/event/colorado-state-fair-antique-equipment-display/2024-10-11/
LOCATION:IA
END:VEVENT
BEGIN:VEVENT
DTSTART;TZID=America/Chicago:20241011T090000
DTEND;TZID=America/Chicago:20241011T170000
DTSTAMP:20260420T154946
CREATED:20240522T161320Z
LAST-MODIFIED:20240522T161320Z
UID:10000963-1728637200-1728666000@oldirongarage.com
SUMMARY:Connecticut Antique Machinery Association Museum Annual Fall Festival
DESCRIPTION:Connecticut Antique Machinery Association Museum Annual Fall Festival\nWhen: September 27-29\, 2024\nWhere: 31B Kent-Cornwall Rd (Rt. 7) Kent\, CT\, 06757; 1 Mile North of town center\nContact: John Pawloski\, 860-354-0296; Email: j.a.pawloski@att.net; www.ctamachinery.com\, Facebook: Connecticut Antique Machinery Association
URL:https://oldirongarage.com/event/connecticut-antique-machinery-association-museum-annual-fall-festival-2/2024-10-11/
LOCATION:IA
END:VEVENT
BEGIN:VEVENT
DTSTART;VALUE=DATE:20241012
DTEND;VALUE=DATE:20241013
DTSTAMP:20260420T154946
CREATED:20240906T004022Z
LAST-MODIFIED:20240906T004022Z
UID:10001506-1728691200-1728777599@oldirongarage.com
SUMMARY:Minnesota Assoc. of Antique Power Shows (MAAPS) Fall Meeting
DESCRIPTION:Contact: Jody Hicks\, president\, 612-940-5588 \nemail:jhicksmn@yahoo.com \nKaren Kahnua\, secretary\, 218-943-5631 \n 
URL:https://oldirongarage.com/event/minnesota-assoc-of-antique-power-shows-maaps-fall-meeting/
LOCATION:Almelund Threshing Show\, 17760 St Croix Trail\, Taylor Falls\, MN\, 55084\, United States
CATEGORIES:Shows and Festivals
END:VEVENT
BEGIN:VEVENT
DTSTART;VALUE=DATE:20241012
DTEND;VALUE=DATE:20241013
DTSTAMP:20260420T154946
CREATED:20240923T015250Z
LAST-MODIFIED:20240923T015250Z
UID:10001564-1728691200-1728777599@oldirongarage.com
SUMMARY:Pioneer Steam & Gas Engine Society of Northwestern Pennsylvania Fall Harvest Show
DESCRIPTION:Saw mill\, threshing\, rock crusher\, gas engines\, oilfield engines\, early machine shop\, blacksmithing\, antique construction equipment\, daily parade of equipment\, music\, flea market\, tractor games\, antique tractor pulls\, models\, kiddie pedal pulls\, pony rides\, women’s building\, food\, ice cream\, much more \nDonation $5.00: under 12 free \nFree Admission & Camping for Exhibitors \nContact: Dave Goodwill\, 814-663-1291 \nemail: daveg@neo.rr.com \nwww.pioneersteamandgas.com \nFacebook: Pioneer Steam and Gas \n 
URL:https://oldirongarage.com/event/pioneer-steam-gas-engine-society-of-northwestern-pennsylvania-fall-harvest-show/
LOCATION:Show grounds\, exit 154 off I-79\, Saegertown\, PA\, 16433\, United States
CATEGORIES:Shows and Festivals
ATTACH;FMTTYPE=image/png:https://oldirongarage.com/wp-content/uploads/2024/09/302088855_486316390171433_1168401173394608917_n.png
END:VEVENT
BEGIN:VEVENT
DTSTART;VALUE=DATE:20241012
DTEND;VALUE=DATE:20241013
DTSTAMP:20260420T154946
CREATED:20241001T002530Z
LAST-MODIFIED:20241001T002530Z
UID:10001577-1728691200-1728777599@oldirongarage.com
SUMMARY:Granbury Flywheelers EDGE&TA Branch 43 Fall Show & Swap Meet
DESCRIPTION:Feature: 1923 Fairbanks-Morse Light Plant \nContact: Patrick Traubert\, 214-799-2836 \nemail: line.shaft.restorations@gmail.com
URL:https://oldirongarage.com/event/granbury-flywheelers-edgeta-branch-43-fall-show-swap-meet/
LOCATION:Lambert Park\, 510 N Brazos St\, Granbury\, TX\, 76048\, United States
CATEGORIES:Shows and Festivals
END:VEVENT
BEGIN:VEVENT
DTSTART;TZID=America/Chicago:20241012T080000
DTEND;TZID=America/Chicago:20241012T200000
DTSTAMP:20260420T154946
CREATED:20240522T145203Z
LAST-MODIFIED:20240522T145203Z
UID:10000628-1728720000-1728763200@oldirongarage.com
SUMMARY:Yesteryear Farm Show
DESCRIPTION:When: August 23-25\, 2024\nWhere: Dougherty Museum\, 8306 N. 107th St Longmont\, CO\, 80504\nContact: Bob McCarty\, 303-776-9859; Facebook: Yesteryear Farm Show\nThe Tractor Above will be auctioned off at the Farm Show!
URL:https://oldirongarage.com/event/yesteryear-farm-show/2024-10-12/
LOCATION:IA
END:VEVENT
BEGIN:VEVENT
DTSTART;TZID=America/Chicago:20241012T080000
DTEND;TZID=America/Chicago:20241013T170000
DTSTAMP:20260420T154946
CREATED:20240827T223525Z
LAST-MODIFIED:20240827T223525Z
UID:10001477-1728720000-1728838800@oldirongarage.com
SUMMARY:24th Annual Santa Fe Trail Center Tied Iron Show
DESCRIPTION:Come out to the museum on Saturday and Sunday\, October 12 and 13 between 9 a.m. and 5 p.m. for our annual Tired Iron Show. Enjoy antiques tractors\, gas engines\, automobiles\, Peddlers Market and much more.  Demonstrations include wheat threshing\, corn shelling\,  steam traction engine plowing\, wood carving\, blacksmithing\, sawmilling\, horse drawn plowing\, and more. \nThere is something for the whole family!! \nContact: Seth McFarland\, 620-285-2054 \nemail: museum@santafetrailcenter.org \nwww.santafetrailcenter.org \nFacebook: Santa Fe Trail Center Tired Iron
URL:https://oldirongarage.com/event/24th-annual-santa-fe-trail-center-tied-iron-show/
LOCATION:Santa Fe Trail Center Museum\, 1349 KS-156\, Larned\, KS\, 67550\, United States
CATEGORIES:Shows and Festivals
ATTACH;FMTTYPE=image/jpeg:https://oldirongarage.com/wp-content/uploads/2024/08/435902011_939654198163195_8626303325400008705_n.jpg
END:VEVENT
BEGIN:VEVENT
DTSTART;TZID=America/Chicago:20241012T080000
DTEND;TZID=America/Chicago:20241013T170000
DTSTAMP:20260420T154946
CREATED:20240829T214040Z
LAST-MODIFIED:20240829T214040Z
UID:10001488-1728720000-1728838800@oldirongarage.com
SUMMARY:33rd Annual Maryland Two-Cylinder Club Antique Tractor Show
DESCRIPTION:Contact: \nHoward M Salan\, 443-677-8928\nFacebook: Maryland Two-Cylinder Club
URL:https://oldirongarage.com/event/33rd-annual-maryland-two-cylinder-club-antique-tractor-show/
LOCATION:Gladhill Tractor Mart\, 5509 Mt Zion Rd\, Frederick\, MD\, 21703\, United States
CATEGORIES:Shows and Festivals
END:VEVENT
BEGIN:VEVENT
DTSTART;TZID=America/Chicago:20241012T080000
DTEND;TZID=America/Chicago:20241013T170000
DTSTAMP:20260420T154946
CREATED:20240909T234739Z
LAST-MODIFIED:20240909T234739Z
UID:10001521-1728720000-1728838800@oldirongarage.com
SUMMARY:The Farmers' Museum Tractor Festival
DESCRIPTION:Contact: Meg Preston\, 607-547-1452 \nemail: m.preston@farmersmuseum.org \nwww.farmersmuseum.org \nFacebook: The Farmers’ Museum \n 
URL:https://oldirongarage.com/event/the-farmers-museum-tractor-festival/
LOCATION:The Farmers’ Museum\, 5775 NY-80\, Cooperstown\, NY\, 13326\, United States
CATEGORIES:Shows and Festivals
ATTACH;FMTTYPE=image/jpeg:https://oldirongarage.com/wp-content/uploads/2024/09/454937156_922031409967033_4535780689049596265_n.jpg
END:VEVENT
BEGIN:VEVENT
DTSTART;TZID=America/Chicago:20241012T080000
DTEND;TZID=America/Chicago:20241013T170000
DTSTAMP:20260420T154946
CREATED:20240923T015811Z
LAST-MODIFIED:20240923T015811Z
UID:10001565-1728720000-1728838800@oldirongarage.com
SUMMARY:Oley Fire Co. Antique Power & Apple Festival
DESCRIPTION:Contact: Jerry Sensenig\, 610-587-4914 \nemail: oleyfire@oleyfirecompany.com \nwww.oleyfirecompany.com \nFacebook: Oley Fire Company
URL:https://oldirongarage.com/event/oley-fire-co-antique-power-apple-festival/
LOCATION:Oley\, 26 Jefferson St\, Oley\, PA\, 19547\, United States
CATEGORIES:Shows and Festivals
ATTACH;FMTTYPE=image/webp:https://oldirongarage.com/wp-content/uploads/2024/09/rsh_500cg_true.webp
END:VEVENT
BEGIN:VEVENT
DTSTART;TZID=America/Chicago:20241012T080000
DTEND;TZID=America/Chicago:20241013T170000
DTSTAMP:20260420T154946
CREATED:20240923T020323Z
LAST-MODIFIED:20240923T020323Z
UID:10001566-1728720000-1728838800@oldirongarage.com
SUMMARY:South Mountain Antique Engine Assoc. in Conjunction with the Apple Harvest Festival
DESCRIPTION:General (12+) – $10\nSeniors (60+) –  $9\nMilitary w/ ID – $9 (at gate)\n​Two-Day Flex Admission (12+) – $17\nKids Under 12 – FREE \nContact: Adam Brown\, president\, 717-752-7381 \nemail: smaeassn@aol.com \nDianne Barrick\, 717-385-3484 \nFacebook: South Mountain Antique Engine Assn. Inc
URL:https://oldirongarage.com/event/south-mountain-antique-engine-assoc-in-conjunction-with-the-apple-harvest-festival/
LOCATION:South Mountain Fairgrounds\, 615 Narrows Road\, Biglerville\, PA\, 17307\, United States
CATEGORIES:Shows and Festivals
END:VEVENT
BEGIN:VEVENT
DTSTART;TZID=America/Chicago:20241012T080000
DTEND;TZID=America/Chicago:20241013T170000
DTSTAMP:20260420T154946
CREATED:20241001T022723Z
LAST-MODIFIED:20241001T023040Z
UID:10001580-1728720000-1728838800@oldirongarage.com
SUMMARY:55th Annual Page County Heritage Festival
DESCRIPTION:The Page County Heritage Festival is one of the oldest festivals in Virginia! \nHeld every year on Columbus Day Weekend in the peak of fall foliage in the Shenandoah Valley\, the Page County Heritage Festival is a family-oriented weekend with fun for the whole family!  The Heritage Festival boasts over a hundred crafters with all-day demonstrations of knitting\, crochet\, apple-butter boiling\, oil painting\, basket making\, wheel-thrown pottery\, blacksmiths\, and more! \nAnd what Fall Festival would be complete without good home-cooking provided by local civic organizations?  While at the Page County Heritage Festival\, you will be surrounded by the smells of BBQ chicken\, pulled pork sandwiches\, brown beans and cornbread\, country ham\, chicken & dumplings\, funnel cakes and a host of other treats! \nThe Heritage Festival also hosts a variety of live entertainment — all of which is indoors with plenty of seating available!  Spencer Hatcher\, Virginia Rain Bluegrass Band\, Isaac Stroupe\, and Lee Blanton Band will all be there.  And let’s not forget about the kids!  Children can enjoy face-painting\, a pedal tractor pull\, maze\, petting zoo\, barrel train ride\, and pony rides and much more! \nFor tractor and engine enthusiasts\, the Page County Heritage Festival’s Steam & Gas Engine Show will be a one-of-a-kind treat for you!  Watch log sawing\, feed grinding\, wheat thrashing\, hay bailing\, and corn husking all powered by steam and antique tractors.  Also\, enjoy the numerous small antique engines\, antique automobiles\, and tractors on display — all in running condition. \nOn Sunday\, there will be an Antique Tractor Pull at 10 AM.  ~Pull What You Bring ~ Bring What You Pull~ \nThe Page County Heritage Festival is held rain or shine!  There are LOTS of free parking and bus groups are always welcome (advanced notice is appreciated).  There are many cabins and bed and breakfasts in the area.  Book early — Columbus Day Weekend is a very busy time in the Shenandoah Valley! \nContact: Todd Harlow\, 540-860-1852 \nemail: festival@pagecountyheritage.com \nKathy Burner (arts & crafts)\, 540-860-8440 \nFacebook: Page County Heritage Association
URL:https://oldirongarage.com/event/55th-annual-page-county-heritage-festival/
LOCATION:Page County Fairgrounds\, 15 Fairlane Drive\, Luray\, VA\, 22835\, United States
CATEGORIES:Shows and Festivals
ATTACH;FMTTYPE=image/jpeg:https://oldirongarage.com/wp-content/uploads/2024/09/460943008_2821658718009208_9145838648836058978_n.jpg
END:VEVENT
BEGIN:VEVENT
DTSTART;TZID=America/Chicago:20241012T080000
DTEND;TZID=America/Chicago:20241013T170000
DTSTAMP:20260420T154946
CREATED:20241001T023734Z
LAST-MODIFIED:20241001T023734Z
UID:10001581-1728720000-1728838800@oldirongarage.com
SUMMARY:Central Washington Agricultural Museum Agri-Copia
DESCRIPTION:Features: Farmall and McCormick-Deering \nGet ready for an unforgettable experience at the 8th Annual AGRI-COPIA this October! This family-friendly event is not only educational but also offers free admission\, with donations greatly appreciated. You’ll experience draft horse plowing demonstrations and enlightening draft horse harnessing demos. Families can delight in horse-drawn wagon rides\, while kids can hop aboard kiddie train. Kids can unleash their creativity with free pumpkin decorating available on both days! As you explore the Central Washington Agricultural Museum\, pick up a free audio tour card and dive into intriguing exhibits like the vintage sawmill\, the Horse & Buggy Building\, Amos Cabin\, Keys Homestead\, Youngs Cabin\, and much more. The Olde Yakima Letterpress Museum will be open to explore. Delicious food options available for purchase on both event days. \nContact: Cheryl Reese\, 509-961-0556 \nemail: cwam.ed.coordinator@gmail.com \nAlan Geho\, 509-985-9135 \nwww.centralwaagmuseum.org \nFacebook: Central Washington Agricultural Museum
URL:https://oldirongarage.com/event/central-washington-agricultural-museum-agri-copia/
LOCATION:Central Washington Agricultural Museum\, 4508 Main St\, Union Gap\, WA\, 98903\, United States
CATEGORIES:Shows and Festivals
ATTACH;FMTTYPE=image/jpeg:https://oldirongarage.com/wp-content/uploads/2024/09/agricopia-2023.jpg
END:VEVENT
BEGIN:VEVENT
DTSTART;TZID=America/Chicago:20241012T080000
DTEND;TZID=America/Chicago:20241013T170000
DTSTAMP:20260420T154946
CREATED:20241001T025309Z
LAST-MODIFIED:20241001T025309Z
UID:10001583-1728720000-1728838800@oldirongarage.com
SUMMARY:L. Norman Dillon Farm Museum Antique Tractor & Gas Engine Fall Show
DESCRIPTION:L. Norman Dillon Farm Museum Fall Festival will be October 14th & 15th from 9 am – 5 pm. \nFree Admission & Parking. \nLive Demonstrations of a working Blacksmith Shop\, wood shop\, saw mill\, small engines and tractors. \nContact: Richard C. Campbell\, 304-671-9079 \nCarol Crisswell\, 681-260-8964 \nwww.dillonfarmmuseum.org
URL:https://oldirongarage.com/event/l-norman-dillon-farm-museum-antique-tractor-gas-engine-fall-show/
LOCATION:Dillon Farm Museum\, 3083 Ridge Road South\, Martinsburg\, WV\, 25403\, United States
CATEGORIES:Shows and Festivals
ATTACH;FMTTYPE=image/jpeg:https://oldirongarage.com/wp-content/uploads/2024/09/1413320812.jpg
END:VEVENT
BEGIN:VEVENT
DTSTART;TZID=America/Chicago:20241012T080000
DTEND;TZID=America/Chicago:20241013T170000
DTSTAMP:20260420T154946
CREATED:20241001T033107Z
LAST-MODIFIED:20241001T033107Z
UID:10001589-1728720000-1728838800@oldirongarage.com
SUMMARY:Pioneer Farm Machinery Club Pioneer Farm Days
DESCRIPTION:Features: Garden tractors and vintage trucks \nPioneer Farm Days is right around the corner! New this year- Car Show too!\nOctoer 12 & 13\, 8am til 5pm\nOur 44th annual show! This year featuring GARDEN TRACTORS and VINTAGE TRUCKS!\nCraft and flea market\, kids events\, food and fun!\nSee the sawmill powered by a real steam tractor\, also tractors engines and other machines. Chainsaw carving and blacksmithing too!\nCar show Saturday ( raindate Sunday).\nAdults $5. Kids under 12 free.\nAmerican Legion Park\n9327 S. Shepard Ave.\nOak Creek\n\nContact: Dave Chvilivek\, 414-218-8783 \nemail: pfmc@wi.rr.com \nwww.pioneerfarmdays.com \nFacebook: Pioneer Farm Days
URL:https://oldirongarage.com/event/pioneer-farm-machinery-club-pioneer-farm-days-2/
LOCATION:American Legion Park\, 9327 S Shepard Ave\, Oak Creek\, WI\, 53154\, United States
CATEGORIES:Shows and Festivals
ATTACH;FMTTYPE=image/jpeg:https://oldirongarage.com/wp-content/uploads/2024/09/459855728_1757103568027458_7666414495412560967_n.jpg
END:VEVENT
BEGIN:VEVENT
DTSTART;TZID=America/Chicago:20241012T090000
DTEND;TZID=America/Chicago:20241012T160000
DTSTAMP:20260420T154946
CREATED:20240522T141833Z
LAST-MODIFIED:20240522T141833Z
UID:10000199-1728723600-1728748800@oldirongarage.com
SUMMARY:North Arkansas Rusty Wheels Old Engine Club Fall Show
DESCRIPTION:North Arkansas Rusty Wheels Old Engine Club Fall Show\nWhen: October 11-12\, 2024\nWhere: 5572 U.S 65 S\, Harrison\, AR\, 72601; 7 Miles south of town on U.S 65 S\nContact: Mickey Jones 870-429-5523; www.rustywheelsusa.com
URL:https://oldirongarage.com/event/north-arkansas-rusty-wheels-old-engine-club-fall-show/2024-10-12/
LOCATION:IA
END:VEVENT
BEGIN:VEVENT
DTSTART;TZID=America/Chicago:20241012T090000
DTEND;TZID=America/Chicago:20241012T160000
DTSTAMP:20260420T154946
CREATED:20240522T144554Z
LAST-MODIFIED:20240522T144554Z
UID:10000252-1728723600-1728748800@oldirongarage.com
SUMMARY:Colorado State Fair Antique Equipment Display
DESCRIPTION:Colorado State Fair Antique Equipment Display\nWhen: August 23-September 2\, 2024\nWhere: 1001 Beulah Ave\, Pueblo\, CO 81004\nContact: Steve Stratton\, 719-250-7279; Email: stevestratman@yahoo.com; www\,frapausa.com; Facebook: Front Range Antique Power Assn.
URL:https://oldirongarage.com/event/colorado-state-fair-antique-equipment-display/2024-10-12/
LOCATION:IA
END:VEVENT
BEGIN:VEVENT
DTSTART;TZID=America/Chicago:20241012T090000
DTEND;TZID=America/Chicago:20241012T170000
DTSTAMP:20260420T154946
CREATED:20240522T161320Z
LAST-MODIFIED:20240522T161320Z
UID:10000964-1728723600-1728752400@oldirongarage.com
SUMMARY:Connecticut Antique Machinery Association Museum Annual Fall Festival
DESCRIPTION:Connecticut Antique Machinery Association Museum Annual Fall Festival\nWhen: September 27-29\, 2024\nWhere: 31B Kent-Cornwall Rd (Rt. 7) Kent\, CT\, 06757; 1 Mile North of town center\nContact: John Pawloski\, 860-354-0296; Email: j.a.pawloski@att.net; www.ctamachinery.com\, Facebook: Connecticut Antique Machinery Association
URL:https://oldirongarage.com/event/connecticut-antique-machinery-association-museum-annual-fall-festival-2/2024-10-12/
LOCATION:IA
END:VEVENT
BEGIN:VEVENT
DTSTART;TZID=America/Chicago:20241013T080000
DTEND;TZID=America/Chicago:20241013T200000
DTSTAMP:20260420T154946
CREATED:20240522T145203Z
LAST-MODIFIED:20240522T145203Z
UID:10000629-1728806400-1728849600@oldirongarage.com
SUMMARY:Yesteryear Farm Show
DESCRIPTION:When: August 23-25\, 2024\nWhere: Dougherty Museum\, 8306 N. 107th St Longmont\, CO\, 80504\nContact: Bob McCarty\, 303-776-9859; Facebook: Yesteryear Farm Show\nThe Tractor Above will be auctioned off at the Farm Show!
URL:https://oldirongarage.com/event/yesteryear-farm-show/2024-10-13/
LOCATION:IA
END:VEVENT
BEGIN:VEVENT
DTSTART;TZID=America/Chicago:20241013T090000
DTEND;TZID=America/Chicago:20241013T160000
DTSTAMP:20260420T154946
CREATED:20240522T144554Z
LAST-MODIFIED:20240522T144554Z
UID:10000253-1728810000-1728835200@oldirongarage.com
SUMMARY:Colorado State Fair Antique Equipment Display
DESCRIPTION:Colorado State Fair Antique Equipment Display\nWhen: August 23-September 2\, 2024\nWhere: 1001 Beulah Ave\, Pueblo\, CO 81004\nContact: Steve Stratton\, 719-250-7279; Email: stevestratman@yahoo.com; www\,frapausa.com; Facebook: Front Range Antique Power Assn.
URL:https://oldirongarage.com/event/colorado-state-fair-antique-equipment-display/2024-10-13/
LOCATION:IA
END:VEVENT
BEGIN:VEVENT
DTSTART;TZID=America/Chicago:20241013T090000
DTEND;TZID=America/Chicago:20241013T170000
DTSTAMP:20260420T154946
CREATED:20240522T161320Z
LAST-MODIFIED:20240522T161320Z
UID:10000965-1728810000-1728838800@oldirongarage.com
SUMMARY:Connecticut Antique Machinery Association Museum Annual Fall Festival
DESCRIPTION:Connecticut Antique Machinery Association Museum Annual Fall Festival\nWhen: September 27-29\, 2024\nWhere: 31B Kent-Cornwall Rd (Rt. 7) Kent\, CT\, 06757; 1 Mile North of town center\nContact: John Pawloski\, 860-354-0296; Email: j.a.pawloski@att.net; www.ctamachinery.com\, Facebook: Connecticut Antique Machinery Association
URL:https://oldirongarage.com/event/connecticut-antique-machinery-association-museum-annual-fall-festival-2/2024-10-13/
LOCATION:IA
END:VEVENT
BEGIN:VEVENT
DTSTART;TZID=America/Chicago:20241013T120000
DTEND;TZID=America/Chicago:20241013T160000
DTSTAMP:20260420T154946
CREATED:20240721T025921Z
LAST-MODIFIED:20240721T025921Z
UID:10001415-1728820800-1728835200@oldirongarage.com
SUMMARY:Fall Festival
DESCRIPTION:Features: Caterpillar\, 1916 Avery 5-10 and Peoria-made tractors\nTime: 12:00 pm – 4:00 pm\nLocation: Exhibits and exhibitors will be all throughout our museum campus!\n\n\nFall Festival – one of our most popular days of the season! You’ll love visiting the museum while it is decked out in its best fall and Halloween decor! Enjoy blacksmithing demonstrations\, folk music\, fire equipment (modern and classic)\, ambulance tours\, beekeeping paraphernalia & honey tasting\, hit & miss engines\, corn shelling\, classic cars\, vintage garden tractors\, small special exhibits and demonstrations\, trains\, and so much more!\n\nLight lunch and snacks will be available for purchase! Regular admission rates apply. No charge for members. \nContact: Laura Evancho 309-229-6430 \nemail: laura@wheelsotime.org \nwww.wheelsotime.org
URL:https://oldirongarage.com/event/fall-festival/
LOCATION:Wheels O’ Time Museum\, 1710 W Woodside Drive\, North Peoria\, IL\, 61525\, United States
CATEGORIES:Shows and Festivals
END:VEVENT
BEGIN:VEVENT
DTSTART;TZID=America/Chicago:20241014T080000
DTEND;TZID=America/Chicago:20241014T200000
DTSTAMP:20260420T154946
CREATED:20240522T145203Z
LAST-MODIFIED:20240522T145203Z
UID:10000630-1728892800-1728936000@oldirongarage.com
SUMMARY:Yesteryear Farm Show
DESCRIPTION:When: August 23-25\, 2024\nWhere: Dougherty Museum\, 8306 N. 107th St Longmont\, CO\, 80504\nContact: Bob McCarty\, 303-776-9859; Facebook: Yesteryear Farm Show\nThe Tractor Above will be auctioned off at the Farm Show!
URL:https://oldirongarage.com/event/yesteryear-farm-show/2024-10-14/
LOCATION:IA
END:VEVENT
BEGIN:VEVENT
DTSTART;TZID=America/Chicago:20241014T090000
DTEND;TZID=America/Chicago:20241014T160000
DTSTAMP:20260420T154946
CREATED:20240522T144554Z
LAST-MODIFIED:20240522T144554Z
UID:10000254-1728896400-1728921600@oldirongarage.com
SUMMARY:Colorado State Fair Antique Equipment Display
DESCRIPTION:Colorado State Fair Antique Equipment Display\nWhen: August 23-September 2\, 2024\nWhere: 1001 Beulah Ave\, Pueblo\, CO 81004\nContact: Steve Stratton\, 719-250-7279; Email: stevestratman@yahoo.com; www\,frapausa.com; Facebook: Front Range Antique Power Assn.
URL:https://oldirongarage.com/event/colorado-state-fair-antique-equipment-display/2024-10-14/
LOCATION:IA
END:VEVENT
BEGIN:VEVENT
DTSTART;TZID=America/Chicago:20241014T090000
DTEND;TZID=America/Chicago:20241014T170000
DTSTAMP:20260420T154946
CREATED:20240522T161320Z
LAST-MODIFIED:20240522T161320Z
UID:10000966-1728896400-1728925200@oldirongarage.com
SUMMARY:Connecticut Antique Machinery Association Museum Annual Fall Festival
DESCRIPTION:Connecticut Antique Machinery Association Museum Annual Fall Festival\nWhen: September 27-29\, 2024\nWhere: 31B Kent-Cornwall Rd (Rt. 7) Kent\, CT\, 06757; 1 Mile North of town center\nContact: John Pawloski\, 860-354-0296; Email: j.a.pawloski@att.net; www.ctamachinery.com\, Facebook: Connecticut Antique Machinery Association
URL:https://oldirongarage.com/event/connecticut-antique-machinery-association-museum-annual-fall-festival-2/2024-10-14/
LOCATION:IA
END:VEVENT
END:VCALENDAR