BEGIN:VCALENDAR
VERSION:2.0
PRODID:-//Old Iron Garage - ECPv6.6.3//NONSGML v1.0//EN
CALSCALE:GREGORIAN
METHOD:PUBLISH
X-WR-CALNAME:Old Iron Garage
X-ORIGINAL-URL:https://oldirongarage.com
X-WR-CALDESC:Events for Old Iron Garage
REFRESH-INTERVAL;VALUE=DURATION:PT1H
X-Robots-Tag:noindex
X-PUBLISHED-TTL:PT1H
BEGIN:VTIMEZONE
TZID:America/Chicago
BEGIN:DAYLIGHT
TZOFFSETFROM:-0600
TZOFFSETTO:-0500
TZNAME:CDT
DTSTART:20230312T080000
END:DAYLIGHT
BEGIN:STANDARD
TZOFFSETFROM:-0500
TZOFFSETTO:-0600
TZNAME:CST
DTSTART:20231105T070000
END:STANDARD
END:VTIMEZONE
BEGIN:VEVENT
DTSTART;TZID=America/Chicago:20230720T090000
DTEND;TZID=America/Chicago:20230722T160000
DTSTAMP:20260420T125339
CREATED:20230309T170321Z
LAST-MODIFIED:20230309T170321Z
UID:10000143-1689843600-1690041600@oldirongarage.com
SUMMARY:Riverbend Steam and Gas Association Annual Show
DESCRIPTION:Riverbend Steam and Gas association annual show. Come on out and see are agricultural heritage on display! Many activities to see like threshing wheat\, corn husking\, corn shelling\, sawmill\, tractor pull’s\, tractor driving school and more!\nFor more information visit:  https://www.riverbendshow.com/directions \n 
URL:https://oldirongarage.com/event/riverbend-steam-and-gas-association-annual-show/
LOCATION:River Bend Show Grounds\, 9853 56th Ave\, Allendale\, MI\, 49401\, United States
CATEGORIES:Shows and Festivals
END:VEVENT
END:VCALENDAR