BEGIN:VCALENDAR
VERSION:2.0
PRODID:-//Old Iron Garage - ECPv6.6.3//NONSGML v1.0//EN
CALSCALE:GREGORIAN
METHOD:PUBLISH
X-ORIGINAL-URL:https://oldirongarage.com
X-WR-CALDESC:Events for Old Iron Garage
REFRESH-INTERVAL;VALUE=DURATION:PT1H
X-Robots-Tag:noindex
X-PUBLISHED-TTL:PT1H
BEGIN:VTIMEZONE
TZID:America/Chicago
BEGIN:DAYLIGHT
TZOFFSETFROM:-0600
TZOFFSETTO:-0500
TZNAME:CDT
DTSTART:20220313T080000
END:DAYLIGHT
BEGIN:STANDARD
TZOFFSETFROM:-0500
TZOFFSETTO:-0600
TZNAME:CST
DTSTART:20221106T070000
END:STANDARD
END:VTIMEZONE
BEGIN:VEVENT
DTSTART;VALUE=DATE:20221104
DTEND;VALUE=DATE:20221107
DTSTAMP:20260419T153144
CREATED:20220824T211448Z
LAST-MODIFIED:20220824T211602Z
UID:10000085-1667520000-1667779199@oldirongarage.com
SUMMARY:Mideast Railroad Service 17th Annual 100+ Years of Progress
DESCRIPTION:Featuring: Hit & Miss Engines \nDaily Spark Shows at Dusk\, tractor pulls\, parade of power\, and more \nAdmission: $15.00/day\, $25.00 for 2 days\, and $35.00 for 3 day pass \nContact: Patricia Eder (919) 708-8665 \nEmail: patti@edervillenc.com \nFacebook: Ederville Carthage \nFor more information visit: https://edervillenc.com/ \n 
URL:https://oldirongarage.com/event/mideast-railroad-service-17th-annual-100-years-of-progress/
LOCATION:Ederville\, 644 Niagra Carthage Rd\, Carthage\, NC\, 28327\, United States
CATEGORIES:Shows and Festivals
END:VEVENT
BEGIN:VEVENT
DTSTART;TZID=America/Chicago:20221104T170000
DTEND;TZID=America/Chicago:20221106T140000
DTSTAMP:20260419T153144
CREATED:20220823T154559Z
LAST-MODIFIED:20220823T155012Z
UID:10000074-1667581200-1667743200@oldirongarage.com
SUMMARY:45th Annual National Farm Toy Show and Auction
DESCRIPTION:National Farm Toy Show\, Beckman High School\, The National Farm Toy Museum\, The Commercial Club Park \nShow hours: \nFri: 5 p.m. to 8 p.m. \nSat: 8 a.m. to 6 p.m. \nSun: 9 a.m. to 2 p.m. \nCommercial Club Park Hours: \nFri: 8 a.m. to 5 p.m. \nSat: 8 a.m. to 5 p.m. \nSun: Opening at 8 am. \nAuction: Sat. at 10 a.m. \nFor more info call (701) 883-5206
URL:https://oldirongarage.com/event/45th-annual-national-farm-toy-show-and-auction/
LOCATION:Beckman Catholic High School\, 1325 9th St SE\, Dyersville\, IA\, 52040\, United States
CATEGORIES:Shows and Festivals
END:VEVENT
END:VCALENDAR