BEGIN:VCALENDAR
VERSION:2.0
PRODID:-//Old Iron Garage - ECPv6.6.3//NONSGML v1.0//EN
CALSCALE:GREGORIAN
METHOD:PUBLISH
X-WR-CALNAME:Old Iron Garage
X-ORIGINAL-URL:https://oldirongarage.com
X-WR-CALDESC:Events for Old Iron Garage
REFRESH-INTERVAL;VALUE=DURATION:PT1H
X-Robots-Tag:noindex
X-PUBLISHED-TTL:PT1H
BEGIN:VTIMEZONE
TZID:America/Chicago
BEGIN:DAYLIGHT
TZOFFSETFROM:-0600
TZOFFSETTO:-0500
TZNAME:CDT
DTSTART:20220313T080000
END:DAYLIGHT
BEGIN:STANDARD
TZOFFSETFROM:-0500
TZOFFSETTO:-0600
TZNAME:CST
DTSTART:20221106T070000
END:STANDARD
END:VTIMEZONE
BEGIN:VEVENT
DTSTART;TZID=America/Chicago:20221021T080000
DTEND;TZID=America/Chicago:20221023T170000
DTSTAMP:20260419T152703
CREATED:20220825T153132Z
LAST-MODIFIED:20220825T153132Z
UID:10000094-1666339200-1666544400@oldirongarage.com
SUMMARY:3rd Annual Williams Grove Historical Steam Engine Fall Fest
DESCRIPTION:Includes train rides\, hayrides\, food\, and much more! \nContact: Brittany Scheib (717) 766-4001 \nEmail: president@wghsea.org \nwww.wghsea.org \nFacebook: Williams Grove Historical Steam Engine Association\, Inc. \n 
URL:https://oldirongarage.com/event/3rd-annual-williams-grove-historical-steam-engine-fall-fest/
LOCATION:3rd Annual Williams Grove Historical Steam Engine Fall Fest\, 1 steam Engine Hill\, Mechanicsburg\, PA\, 17055\, United States
CATEGORIES:Shows and Festivals
END:VEVENT
BEGIN:VEVENT
DTSTART;VALUE=DATE:20221022
DTEND;VALUE=DATE:20221023
DTSTAMP:20260419T152703
CREATED:20220823T135057Z
LAST-MODIFIED:20220823T135149Z
UID:10000067-1666396800-1666483199@oldirongarage.com
SUMMARY:Southland Flywheelers' Fall Festival and Harvest Exhibits
DESCRIPTION:Features: Ford tractors and IHC engines \nDirections: Take I-65 to exit 328 then left on AL36\, go 3-1/2 miles\, the show grounds will be on your right \nContact: Larry Lemmond \n256-566-2737 \nemail: larrylemmond@aol.com \nwww.southlandflywheelers.org
URL:https://oldirongarage.com/event/southland-flywheelers-fall-festival-and-harvest-exhibits/
LOCATION:Southland Showgrounds\, 1715 Hwy 36 E\, Hartselle\, AL\, 35640\, United States
CATEGORIES:Shows and Festivals
END:VEVENT
BEGIN:VEVENT
DTSTART;TZID=America/Chicago:20221022T080000
DTEND;TZID=America/Chicago:20221023T170000
DTSTAMP:20260419T152703
CREATED:20220613T145100Z
LAST-MODIFIED:20220823T145306Z
UID:10000064-1666425600-1666544400@oldirongarage.com
SUMMARY:International Harvester Collectors Club \, Florida Chapter 27\, Lake Wales Pioneer Days
DESCRIPTION:Oct. 22 -23 \nFeatures: International Harvester and John Deere tractors\, and International Harvester and Fairbanks-Morse engines. \nDirections: On the shores of Lake Wales Park: from U.S. 27 in town take West Central Avenue a St for approximately 1 mile directly to the shores of Lake Wales Park. \nContact: Susan Cunningham \, \n8 6 3 -4 3 8 -9 0 5 2 ; \nemail: jerrycunningham 2@hotmail.com \nwww .fl27ihc.com
URL:https://oldirongarage.com/event/international-harvester-collectors-club-florida-chapter-27-lake-wales-pioneer-days/
LOCATION:Lake Whales Park\, 7000 Avon Park Cutoff Road\, Fort Meade\, FL\, 33841\, United States
CATEGORIES:Shows and Festivals
END:VEVENT
END:VCALENDAR