BEGIN:VCALENDAR
VERSION:2.0
PRODID:-//Old Iron Garage - ECPv6.6.3//NONSGML v1.0//EN
CALSCALE:GREGORIAN
METHOD:PUBLISH
X-ORIGINAL-URL:https://oldirongarage.com
X-WR-CALDESC:Events for Old Iron Garage
REFRESH-INTERVAL;VALUE=DURATION:PT1H
X-Robots-Tag:noindex
X-PUBLISHED-TTL:PT1H
BEGIN:VTIMEZONE
TZID:America/Chicago
BEGIN:DAYLIGHT
TZOFFSETFROM:-0600
TZOFFSETTO:-0500
TZNAME:CDT
DTSTART:20220313T080000
END:DAYLIGHT
BEGIN:STANDARD
TZOFFSETFROM:-0500
TZOFFSETTO:-0600
TZNAME:CST
DTSTART:20221106T070000
END:STANDARD
END:VTIMEZONE
BEGIN:VEVENT
DTSTART;VALUE=DATE:20221013
DTEND;VALUE=DATE:20221016
DTSTAMP:20260419T153108
CREATED:20220824T205446Z
LAST-MODIFIED:20220824T205822Z
UID:10000084-1665619200-1665878399@oldirongarage.com
SUMMARY:37th Annual Apple Country Engine and Tractor Fall Harvest Days
DESCRIPTION:Featuring All Day: \nSawmill\, Tractor Parts Vendor\, Working Crafters\, Blacksmithing\, Tractors\, Crafts\, Food Vendors\, and more! \nKids play area on Saturday 9-4pm \nTractor parade daily at 2:00 p.m. \nAdmission $8/day\, kids under 12 are free with a paid adult \nContact: Apple Country Engine and Tractor Associate (828) 435-0413 \nEmail: applecountrync@yahoo.com \nFacebook: Apple country Engine and Tractor Association
URL:https://oldirongarage.com/event/37th-annual-apple-country-engine-and-tractor-fall-harvest-days/
LOCATION:WNC Agriculture Center\, 1301 Fanning Bridge Road\, Asheville\, NC\, 28732\, United States
CATEGORIES:Shows and Festivals
END:VEVENT
BEGIN:VEVENT
DTSTART;VALUE=DATE:20221014
DTEND;VALUE=DATE:20221017
DTSTAMP:20260419T153108
CREATED:20220824T215455Z
LAST-MODIFIED:20220824T215455Z
UID:10000087-1665705600-1665964799@oldirongarage.com
SUMMARY:23rd Annual Carroll County Antique Collectors Power Show
DESCRIPTION:Features: Case and David Brown tractors\, and Wisconsin engines. \nFree Parking and Free Admission \nShow includes tractor pulls\, antique tractor and equipment demonstrations\, Flea market\, and more! \nContact: Robert Fallot (330) 866-2048 \nEmail: bbfallot1@aol.com \nFor more information visit: \nhttps://ccacc.webs.com/
URL:https://oldirongarage.com/event/23rd-annual-carroll-county-antique-collectors-power-show/
LOCATION:Carroll County Fairgrounds\, 160 Kensington Road NE\, Carrollton\, OH\, 44615\, United States
CATEGORIES:Shows and Festivals
END:VEVENT
BEGIN:VEVENT
DTSTART;TZID=America/Chicago:20221014T080000
DTEND;TZID=America/Chicago:20221015T170000
DTSTAMP:20260419T153108
CREATED:20220613T151641Z
LAST-MODIFIED:20220822T194945Z
UID:10000066-1665734400-1665853200@oldirongarage.com
SUMMARY:16th Annual Gordon County Antique Engine and Tractor  Show
DESCRIPTION:Oct. 14-15 \nFeatures: Locally Uncommon – Oliver\, Empire. Cockshutt\, Huber\, and others. \nDirections: Cherokee Capital Fairgrounds \nGA53 west (off Liberty Road S.W.)\, 3 -1 /2 miles west from down town : 4 -1 /8 miles west from 1-75 (exit 312): or 3-3 /4 miles north east from Plainville. \nContact: Ricky Matthews\, 770-527-5346: \nemail: kwprimmerl@mindspring.com \nDennis Elmore\, 770 -773 -6972 . \nwww.gcaeatc.com \nFacebook: gcaeatc
URL:https://oldirongarage.com/event/16th-annual-gordon-county-antique-engine-and-tractor-show/
LOCATION:Cherokee Capital  Fairgrounds\, 1060 Liberty Road S.W.\, Calhoun\, GA\, 30120\, United States
CATEGORIES:Shows and Festivals
END:VEVENT
BEGIN:VEVENT
DTSTART;TZID=America/Chicago:20221014T080000
DTEND;TZID=America/Chicago:20221015T170000
DTSTAMP:20260419T153108
CREATED:20220824T142046Z
LAST-MODIFIED:20220824T142347Z
UID:10000081-1665734400-1665853200@oldirongarage.com
SUMMARY:Ozarks Older Iron Club Spring Show and Tractor Pull
DESCRIPTION:Features: Ford tractors and Sparta engines \nIncludes showing of antique farm equipment\, tractor pull\, steam engines\, plowing\, threshing\, rock crushing\, blacksmith shop\, sawmill\, cotton gin\, kids play area\, and so much more! \nAdmission and parking are free! \nSee some history in action with the whole family! \n 
URL:https://oldirongarage.com/event/ozarks-older-iron-club-spring-show-and-tractor-pull/
LOCATION:Ozarks Older Iron Club Showgrounds\, 310 Cannaday Lane\, Cabool\, MO\, 65689\, United States
CATEGORIES:Shows and Festivals
END:VEVENT
BEGIN:VEVENT
DTSTART;TZID=America/Chicago:20221014T080000
DTEND;TZID=America/Chicago:20221015T170000
DTSTAMP:20260419T153108
CREATED:20220825T173823Z
LAST-MODIFIED:20220825T173823Z
UID:10000097-1665734400-1665853200@oldirongarage.com
SUMMARY:Humphreys County Antique Tractor and Engine Club Three River Fall Festival
DESCRIPTION:Feature: John Deere \nContact: Robin Blue (931) 209-2332 \nEmail: ih1486dt@gmail.com \n 
URL:https://oldirongarage.com/event/humphreys-county-antique-tractor-and-engine-club-three-river-fall-festival/
LOCATION:Humphreys County Showgrounds\, 234 W. Blue Creek Road\, Waverly\, TN\, 37185\, United States
CATEGORIES:Shows and Festivals
END:VEVENT
BEGIN:VEVENT
DTSTART;TZID=America/Chicago:20221014T080000
DTEND;TZID=America/Chicago:20221015T190000
DTSTAMP:20260419T153108
CREATED:20220825T142319Z
LAST-MODIFIED:20220825T142319Z
UID:10000089-1665734400-1665860400@oldirongarage.com
SUMMARY:32nd Annual Route 66 Flywheelers Gas Engine and Tractor Show
DESCRIPTION:Feature: John Deere tractors\, gas engines\, and garden tractors \nTractor Pull Saturday at 10:30 am \nContact: Mike Cartwright \n(918) 231-0135 \nEmail: mike@route66flywheelers.org \nwww.route66flywheelers.org \nFacebook: Route 66 Flywheelers
URL:https://oldirongarage.com/event/32nd-annual-route-66-flywheelers-gas-engine-and-tractor-show/
LOCATION:Rogers Point Park\, U.S. 66 and Verdigris River\, Caloosa\, OK\, 74015\, United States
CATEGORIES:Shows and Festivals
END:VEVENT
BEGIN:VEVENT
DTSTART;TZID=America/Chicago:20221014T080000
DTEND;TZID=America/Chicago:20221016T170000
DTSTAMP:20260419T153108
CREATED:20220825T150236Z
LAST-MODIFIED:20220825T150236Z
UID:10000092-1665734400-1665939600@oldirongarage.com
SUMMARY:41st Annual Grease\, Steam\, and Rust Association Antique Tractor and Machinery Show
DESCRIPTION:Feature: John Deere \nIncludes tractor displays\, steam operated machinery\, threshing\, sawmill\, shingle mill\, stone crusher\, husker shredder\, and apple cider press \nContact: Kevin Bishop (717) 491-4890 \nemail: bishy730@gmail.com \nFor more information visit: \nhttps://www.gsandr.com/index.php?page=show-information
URL:https://oldirongarage.com/event/41st-annual-grease-steam-and-rust-association-antique-tractor-and-machinery-show/
LOCATION:Fulton County Fairgrounds\, 888 Lincoln Way E\, McConellsburg\, PA\, 17233\, United States
CATEGORIES:Shows and Festivals
END:VEVENT
BEGIN:VEVENT
DTSTART;TZID=America/Chicago:20221014T080000
DTEND;TZID=America/Chicago:20221016T170000
DTSTAMP:20260419T153108
CREATED:20220825T152211Z
LAST-MODIFIED:20220825T152211Z
UID:10000093-1665734400-1665939600@oldirongarage.com
SUMMARY:56th Annual Tioga County Early Days Fall Festival
DESCRIPTION:Feature: John Deere \nFREE admission & parking \nOpen 8:00 a.m. Daily \nFeatured Events of the Weekend: \nBlacksmith\, FFA Tractor Rodeo\, Gas Engine Displays\, Pedal Tractor pull\, Chicken BBQ\, Live Music\, 50/50\, and more! \nContact: Gary Comfort\, president\, (570) 835-5634 \nEmail: gcomfort@npacc.net \nFacebook: Tioga County Early Days \n 
URL:https://oldirongarage.com/event/56th-annual-tioga-county-early-days-fall-festival/
LOCATION:Tioga County Fairgrounds\, 58 Lewis Street\, Gillett\, PA\, 16925\, United States
CATEGORIES:Shows and Festivals
END:VEVENT
BEGIN:VEVENT
DTSTART;TZID=America/Chicago:20221015T080000
DTEND;TZID=America/Chicago:20221016T170000
DTSTAMP:20260419T153108
CREATED:20220511T155917Z
LAST-MODIFIED:20220822T194119Z
UID:10000061-1665820800-1665939600@oldirongarage.com
SUMMARY:17th Annual Days of Yesteryear Antique Tractor and Engine Show
DESCRIPTION:Featuring: John Deere \nHammer Mill Demonstration\, Cut-Off Saw Demonstration\, Wood Working\, Blacksmithing\, \nTractor Olympics\, Tractor Push\, Barrel Race\, and so much more! \nFree Admission and Parking! \nLocation: 17900 US 127 Dunlap\, Tennessee 37327 \nNorth of HWY 11
URL:https://oldirongarage.com/event/17th-annual-days-of-yesteryear-antique-tractor-and-engine-show/
LOCATION:Days of Yesteryear\, 17900 US 127\, Dunlap\, TN\, 37327\, United States
CATEGORIES:Shows and Festivals
END:VEVENT
BEGIN:VEVENT
DTSTART;TZID=America/Chicago:20221015T080000
DTEND;TZID=America/Chicago:20221016T170000
DTSTAMP:20260419T153108
CREATED:20220823T170623Z
LAST-MODIFIED:20220823T170951Z
UID:10000077-1665820800-1665939600@oldirongarage.com
SUMMARY:31st Annual Maryland Tow-Cylinder Club Antique Tractor Show
DESCRIPTION:Free Admission \nAll Tractors Welcome! \nFeaturing: Tractor & Garden Tractor Pulling\, Hay Rides\, Tractor Parade\, Kids Barrel Train\, and more! \nContact: Howard M. Salan \n(443) 677-8928 \nemail: mdtwocylinderclub.com \nFacebook: Maryland Two-Cylinder Club
URL:https://oldirongarage.com/event/31st-annual-maryland-tow-cylinder-club-antique-tractor-show/
LOCATION:Gladhill Tractor Mart\, 5509 Mt Zion Rd\, Frederick\, MD\, 21703\, United States
CATEGORIES:Shows and Festivals
END:VEVENT
BEGIN:VEVENT
DTSTART;TZID=America/Chicago:20221015T100000
DTEND;TZID=America/Chicago:20221016T160000
DTSTAMP:20260419T153108
CREATED:20220825T140606Z
LAST-MODIFIED:20220825T140606Z
UID:10000088-1665828000-1665936000@oldirongarage.com
SUMMARY:18th Annual Education of Yesterday Farm Show
DESCRIPTION:Preserving old machinery to teach and show the younger generation how things were done in the past! \nFeatures a large Toy Display on the 2nd floor\, antique tools\, digger\, tractor rides\, train rides\, and more! \nContact: Kendra Moore-Hindel (740) 754-7248 \nEmail: educationofyesterday@gmail.com \nJeff Moore: (740) 754-7248 \nFacebook: Country Crossroads Education of Yesterday
URL:https://oldirongarage.com/event/18th-annual-education-of-yesterday-farm-show-2/
LOCATION:Education of Yesterday 18th Annual Farm Show\, 3685 Cass Irish Ridge\, Dresden\, OH\, 43821\, United States
CATEGORIES:Shows and Festivals
END:VEVENT
BEGIN:VEVENT
DTSTART;TZID=America/Chicago:20221015T110000
DTEND;TZID=America/Chicago:20221015T160000
DTSTAMP:20260419T153108
CREATED:20220823T143820Z
LAST-MODIFIED:20220823T143820Z
UID:10000071-1665831600-1665849600@oldirongarage.com
SUMMARY:7th Annual Double D Living History Farm Fall Tractor Show and Farm Open House
DESCRIPTION:Admission: $5 per car \nFeaturing: \nOver 250 Restored tractors from 1899-1954\, tractor parade\, wagon rides\, gas engines and implements\, farm animals\, activities for the kids\, and so much more! \nDirections: \nTake I-84 to exit 15\, follow 67 to town\, turn right on 317\, take the first left on Painter Hill Road. \nContact: Nikki Hine \n860-354-0649 \nemail: ddlivinghistory@aol.com \nwww.toplandsfarm.com
URL:https://oldirongarage.com/event/7th-annual-double-d-living-history-farm-fall-tractor-show-and-farm-open-house/
LOCATION:Toplands Farm\, 102 Painter Hill Road\, Roxbury\, CT\, 06783\, United States
CATEGORIES:Shows and Festivals
END:VEVENT
END:VCALENDAR