BEGIN:VCALENDAR
VERSION:2.0
PRODID:-//Old Iron Garage - ECPv6.6.3//NONSGML v1.0//EN
CALSCALE:GREGORIAN
METHOD:PUBLISH
X-WR-CALNAME:Old Iron Garage
X-ORIGINAL-URL:https://oldirongarage.com
X-WR-CALDESC:Events for Old Iron Garage
REFRESH-INTERVAL;VALUE=DURATION:PT1H
X-Robots-Tag:noindex
X-PUBLISHED-TTL:PT1H
BEGIN:VTIMEZONE
TZID:America/Chicago
BEGIN:DAYLIGHT
TZOFFSETFROM:-0600
TZOFFSETTO:-0500
TZNAME:CDT
DTSTART:20220313T080000
END:DAYLIGHT
BEGIN:STANDARD
TZOFFSETFROM:-0500
TZOFFSETTO:-0600
TZNAME:CST
DTSTART:20221106T070000
END:STANDARD
END:VTIMEZONE
BEGIN:VEVENT
DTSTART;TZID=America/Chicago:20221007T080000
DTEND;TZID=America/Chicago:20221009T170000
DTSTAMP:20260419T154605
CREATED:20220824T214228Z
LAST-MODIFIED:20220824T214228Z
UID:10000086-1665129600-1665334800@oldirongarage.com
SUMMARY:51st Annual Algonquin Mill Fall Festival
DESCRIPTION:Featuring: Demonstrations\, Old-time Country store\, Pony rides\, farm animals\, mini-train rides\, Steam Powered Flouring Mill and sawmill\, Old Time Print Shop\, Musical Entertainment\, and more! \nContact: David L. George (330) 771-1121 \nEmail: dgeorge113@yahoo.com \nwww.carrollcountyhistoricalsociety.com \nFor more information visit: \nhttp://carrollcountyhistoricalsociety.com/Mill/Millfest.htm
URL:https://oldirongarage.com/event/51st-annual-algonquin-mill-fall-festival/
LOCATION:Carroll County\, Ohio Historical Society\, 234 Autumn Road SW\, Carrollton\, OH\, 44615\, United States
CATEGORIES:Shows and Festivals
END:VEVENT
BEGIN:VEVENT
DTSTART;TZID=America/Chicago:20221007T080000
DTEND;TZID=America/Chicago:20221009T170000
DTSTAMP:20260419T154605
CREATED:20220825T145203Z
LAST-MODIFIED:20220825T145203Z
UID:10000091-1665129600-1665334800@oldirongarage.com
SUMMARY:36th Annual Sherman's Valley Heritage Days
DESCRIPTION:Preserving and demonstrating our Agricultural history \n\nFriday – October 7th\, 2022 \n8:00 AM – 9:00 PM \nSaturday – October 8th\, 2022 \n7:00 AM – 8:30 PM \nSunday – October 9th\, 2022 \n7:00 AM – 3:30 PM \nAdmission: $2/adult \nKids under 12 are FREE! \nContact: David Casner\, president\, (717) 385-3339 \nemail: 22x36casner@gmail.com \nwww.svheritagedays.com \nFacebook: Sherman’s Valley Heritage Days Inc. \n 
URL:https://oldirongarage.com/event/36th-annual-shermans-valley-heritage-days/
LOCATION:Sheman Valley Showgrounds\, 532 Picnic Grove Road\, Blain\, PA\, 17006\, United States
CATEGORIES:Shows and Festivals
END:VEVENT
BEGIN:VEVENT
DTSTART;TZID=America/Chicago:20221007T080000
DTEND;TZID=America/Chicago:20221009T170000
DTSTAMP:20260419T154605
CREATED:20220825T202441Z
LAST-MODIFIED:20220825T202441Z
UID:10000107-1665129600-1665334800@oldirongarage.com
SUMMARY:3rd Annual Wetzel County Autumn Fest Antique Engine and Tractor Show
DESCRIPTION:Directions: East on Rt. 7\, approximately 35 miles south of Wheeling\, 32 miles west of Hundred\, and 52 miles north of Parkersburg \nContact: Billie J. Zimmerman (304) 771-8435 \nEmail: billiezimmerman1972@gmail.com \nRoger Spragg (304) 775-2252 \nFacebook: Wetzel County Autumn Fest
URL:https://oldirongarage.com/event/3rd-annual-wetzel-county-autumn-fest-antique-engine-and-tractor-show/
LOCATION:Wetzel County 4H Grounds\, Route 1\, New Martinsville\, WV\, 26155\, United States
CATEGORIES:Shows and Festivals
END:VEVENT
BEGIN:VEVENT
DTSTART;TZID=America/Chicago:20221008T080000
DTEND;TZID=America/Chicago:20221009T170000
DTSTAMP:20260419T154605
CREATED:20220824T195400Z
LAST-MODIFIED:20220824T195400Z
UID:10000082-1665216000-1665334800@oldirongarage.com
SUMMARY:The Farmers' Museum Tractor Fest
DESCRIPTION:Featuring: Classic tractors\, small engines\, and other machinery \nCome out to the 10th annual Tractor Fest and learn about the world of tractors and their uses through the years! \nContact: Meg Preston (607) 547-1452 \nEmail: m.preston@farmersmuseum.org \nFor more information visit: \nfarmersmuseum.org/event/tractor-fest/2022-10-08/
URL:https://oldirongarage.com/event/the-farmers-museum-tractor-fest/
LOCATION:The Farmers’ Museum\, 5775 State Hwy 80\, Cooperstown\, NY\, 13326\, United States
CATEGORIES:Shows and Festivals
END:VEVENT
BEGIN:VEVENT
DTSTART;TZID=America/Chicago:20221008T080000
DTEND;TZID=America/Chicago:20221009T170000
DTSTAMP:20260419T154605
CREATED:20220825T182417Z
LAST-MODIFIED:20220825T182417Z
UID:10000101-1665216000-1665334800@oldirongarage.com
SUMMARY:53rd Annual Page County Heritage Festival
DESCRIPTION:Feature: Ferguson TO 20 \nSawmill\, Gas Engine & Tractor Display\, Arts & crafts\, Apple Butter Cooking\, Kids Corner\, Live Music\, Kiddie Tractor Pull\, and more! \nContact: Mark Bauserman (540) 742-1893 \nEmail: bausermanma@hotmail.com \nRonnie Kauffman (arts/crafts) (540) 244-9739 \nFor more information visit: www.pagecountyheritage.com \n 
URL:https://oldirongarage.com/event/53rd-annual-page-county-heritage-festival/
LOCATION:Page County Fairgrounds\, 15 Fairlane Drive\, Luray\, VA\, 22835\, United States
CATEGORIES:Shows and Festivals
END:VEVENT
BEGIN:VEVENT
DTSTART;TZID=America/Chicago:20221008T080000
DTEND;TZID=America/Chicago:20221009T170000
DTSTAMP:20260419T154605
CREATED:20220825T212119Z
LAST-MODIFIED:20220825T212119Z
UID:10000059-1665216000-1665334800@oldirongarage.com
SUMMARY:Pioneer Farm Machinery Club Pioneer Farm Days
DESCRIPTION:Feature: John Deere \nAnnual Farm Show of vintage farm tractors\, engines\, and machinery \nDirections: 6 miles south of Milwaukee\, exit I-94 at Ryan Road\, go east 2 miles to Shepard Avenue\, north to the park \nContact: Dave Chvilicek (414) 768-8580 \nEmail: pfmc@wi.rr.com \nwww.pioneerfarmdays.com \nFacebook: Pioneer Farm Days
URL:https://oldirongarage.com/event/pioneer-farm-machinery-club-pioneer-farm-days/
LOCATION:American Legion Park\, 9327 S Shepard Ave\, Oak Creek\, WI\, 53154\, United States
CATEGORIES:Shows and Festivals
END:VEVENT
END:VCALENDAR