BEGIN:VCALENDAR
VERSION:2.0
PRODID:-//Old Iron Garage - ECPv6.6.3//NONSGML v1.0//EN
CALSCALE:GREGORIAN
METHOD:PUBLISH
X-ORIGINAL-URL:https://oldirongarage.com
X-WR-CALDESC:Events for Old Iron Garage
REFRESH-INTERVAL;VALUE=DURATION:PT1H
X-Robots-Tag:noindex
X-PUBLISHED-TTL:PT1H
BEGIN:VTIMEZONE
TZID:America/Chicago
BEGIN:DAYLIGHT
TZOFFSETFROM:-0600
TZOFFSETTO:-0500
TZNAME:CDT
DTSTART:20220313T080000
END:DAYLIGHT
BEGIN:STANDARD
TZOFFSETFROM:-0500
TZOFFSETTO:-0600
TZNAME:CST
DTSTART:20221106T070000
END:STANDARD
END:VTIMEZONE
BEGIN:VEVENT
DTSTART;TZID=America/Chicago:20221001T080000
DTEND;TZID=America/Chicago:20221002T170000
DTSTAMP:20260419T154635
CREATED:20220823T141707Z
LAST-MODIFIED:20220823T142138Z
UID:10000069-1664611200-1664730000@oldirongarage.com
SUMMARY:Zagray Farm Museum Fall Festival and Swap Meet
DESCRIPTION:Includes: \n1873 Sawmill demonstrations\, New 17\,600 square foot Tractor Building\, Circa 1930 Farmhouse guided tours\, Antique Tractor pulling\, and so much more! \nDirections: Rt. 85 north\, 1-1/2 miles on right \nContact: Arthur Chester \n860-982-5158 \nEmail: are.chester@rjillc.com \nwww.zagrayfarmmuseum.org
URL:https://oldirongarage.com/event/zagray-farm-museum-fall-festival-and-swap-meet/
LOCATION:Zagray Farm Museum\, 544 Amston Road\, Colchester\, CT\, 06415\, United States
CATEGORIES:Shows and Festivals
END:VEVENT
BEGIN:VEVENT
DTSTART;TZID=America/Chicago:20221001T080000
DTEND;TZID=America/Chicago:20221002T170000
DTSTAMP:20260419T154635
CREATED:20220823T161307Z
LAST-MODIFIED:20220823T161905Z
UID:10000076-1664611200-1664730000@oldirongarage.com
SUMMARY:36th Annual Kentucky Antique Farm Machinery Association Farm Festival
DESCRIPTION:Features: \nCase tractors and Fairbanks-Morse engines \nIncludes: Power Parade Each Day\, Kiddie Rides\, & Free Admission! \nDirections: Go east from Owensboro on HWY 54\, 2 miles past Philpot to Karns Grove Road\, the follow the signs \nContact: Dennis Hutchinson \n812-660-2192 \nEmail: 31stlnd@gmail.com \nJohn Lampkin : 270-929-5669 \nwww.kyantiquefarmmachineryassociation.com \nFacebook: Kentucky Antique Farm Machinery Association
URL:https://oldirongarage.com/event/36th-annual-kentucky-antique-farm-machinery-association-farm-festival/
LOCATION:Lampkin Farm\, 8284 Short Station Road\, Philpot\, KY\, 42366\, United States
CATEGORIES:Shows and Festivals
END:VEVENT
BEGIN:VEVENT
DTSTART;TZID=America/Chicago:20221001T080000
DTEND;TZID=America/Chicago:20221002T170000
DTSTAMP:20260419T154635
CREATED:20220823T190832Z
LAST-MODIFIED:20220823T190927Z
UID:10000079-1664611200-1664730000@oldirongarage.com
SUMMARY:Scotts Olde Tyme Power and Equipment Harvest Festival
DESCRIPTION:Features: Tractors of the ’40s and Economy engines. \nHayrides to the Pumpkin patch\, corn chocks for sale\, husker shredder\, and more \nContact: Janette (269) 579-4627 \nMike (269) 569-6704 \nwww.sotpea.org
URL:https://oldirongarage.com/event/scotts-olde-tyme-power-and-equipment-harvest-festival/
LOCATION:Scotts Mill Park\, 8451 S. 35th St\, Scotts\, MI\, 49088\, United States
CATEGORIES:Shows and Festivals
END:VEVENT
BEGIN:VEVENT
DTSTART;TZID=America/Chicago:20221001T080000
DTEND;TZID=America/Chicago:20221002T170000
DTSTAMP:20260419T154635
CREATED:20220825T144212Z
LAST-MODIFIED:20220825T144212Z
UID:10000090-1664611200-1664730000@oldirongarage.com
SUMMARY:South Mountain Antique Engine Association in Conjunction with National Apple Harvest Festival
DESCRIPTION:General (12+) – $10\nSeniors (60+) –  $9\n     Military w/ ID – $9 (at gate)\n​Two-Day Flex Admission (12+) – $17\nKids Under 12 – FREE \nActivities include: Antique and classic cars\, antique farm equipment and gas engines\, apple art\, apple jellies\, axe-throwing\, Kettle Korn\, Kid country barn\, open put beef\, and so much more! \nContact: Adam Barrick (717) 385-3484 \nFacebook: South Mountain Antique Engine Assn Inc. \nFor more information visit: \nhttps://www.appleharvest.com/festival-information.html
URL:https://oldirongarage.com/event/south-mountain-antique-engine-association-in-conjunction-with-national-apple-harvest-festival/
LOCATION:South Mountain Fairgrounds\, 615 Narrows Road\, Biglerville\, PA\, 17307\, United States
CATEGORIES:Shows and Festivals
END:VEVENT
BEGIN:VEVENT
DTSTART;TZID=America/Chicago:20221001T080000
DTEND;TZID=America/Chicago:20221002T170000
DTSTAMP:20260419T154635
CREATED:20220825T201048Z
LAST-MODIFIED:20220825T201048Z
UID:10000105-1664611200-1664730000@oldirongarage.com
SUMMARY:West Virginia State Farm Museum Country Fall Festival
DESCRIPTION:Antique Gas Engine Show\, CEOs Quilt Show\, Antique Bottle Show and the Gravely Tractor Club of America Mow-In\, entertainment. \nSaturday only Antique Tractor Pull \nWatch the making of sorghum\, apple butter and apple sider\, and tour over 30 plus buildings on the grounds! \nContact: Tim Kidwell or Jackie Lyons (304) 675-5737 \nEmail: wvsfm@suddenlinkmail.com \nwww.wvfarmmuseum.org
URL:https://oldirongarage.com/event/west-virginia-state-farm-museum-country-fall-festival/
LOCATION:West Virginia State Farm Museum\, 1458 Fairground Road\, Point Pleasant\, WV\, 25550\, United States
CATEGORIES:Shows and Festivals
END:VEVENT
BEGIN:VEVENT
DTSTART;TZID=America/Chicago:20221001T090000
DTEND;TZID=America/Chicago:20221001T170000
DTSTAMP:20260419T154636
CREATED:20220824T200735Z
LAST-MODIFIED:20220824T200928Z
UID:10000083-1664614800-1664643600@oldirongarage.com
SUMMARY:Linbrook Heritage Estate Museum's Annual Steam Day 2022
DESCRIPTION:Features: 1959 630 All Fuel Standard\, 1957 Model 620 Orchard\, John Deere tractors\, and more \nIncludes live demonstrations\, food\, live music\, and tours! \nAdmission is Free! \nMuseum exhibits are open for touring during the event! \nContact: Allison White (336) 861-6959 \nEmail: info@linbrookheritageestate.com \nFor more information visit: \nhttps://www.linbrookheritageestate.com/steamday
URL:https://oldirongarage.com/event/linbrook-heritage-estate-museums-annual-steam-day-2022/
LOCATION:The Neal Agricultural and Industrial Museum\, 5507 Snyder Country Road\, Trinity\, NC\, 27370\, United States
CATEGORIES:Shows and Festivals
END:VEVENT
END:VCALENDAR