BEGIN:VCALENDAR
VERSION:2.0
PRODID:-//Old Iron Garage - ECPv6.6.3//NONSGML v1.0//EN
CALSCALE:GREGORIAN
METHOD:PUBLISH
X-WR-CALNAME:Old Iron Garage
X-ORIGINAL-URL:https://oldirongarage.com
X-WR-CALDESC:Events for Old Iron Garage
REFRESH-INTERVAL;VALUE=DURATION:PT1H
X-Robots-Tag:noindex
X-PUBLISHED-TTL:PT1H
BEGIN:VTIMEZONE
TZID:America/Chicago
BEGIN:DAYLIGHT
TZOFFSETFROM:-0600
TZOFFSETTO:-0500
TZNAME:CDT
DTSTART:20240310T080000
END:DAYLIGHT
BEGIN:STANDARD
TZOFFSETFROM:-0500
TZOFFSETTO:-0600
TZNAME:CST
DTSTART:20241103T070000
END:STANDARD
END:VTIMEZONE
BEGIN:VEVENT
DTSTART;VALUE=DATE:20241019
DTEND;VALUE=DATE:20241020
DTSTAMP:20260423T073430
CREATED:20240917T025316Z
LAST-MODIFIED:20240917T025316Z
UID:23986-1729296000-1729382399@oldirongarage.com
SUMMARY:Pioneer Antique Power Assoc. Fall Plow Day
DESCRIPTION:Contact: John Lemon Jr.\, 304-483-4015 \nemail: tractorguy399@gmail.com \nJesse Lemon\, 304-966-5529
URL:https://oldirongarage.com/event/pioneer-antique-power-assoc-fall-plow-day/
LOCATION:Beverly\, St Rt 60\, Beverly\, OH\, 45715\, United States
CATEGORIES:Shows and Festivals
END:VEVENT
END:VCALENDAR