BEGIN:VCALENDAR
VERSION:2.0
PRODID:-//Old Iron Garage - ECPv6.6.3//NONSGML v1.0//EN
CALSCALE:GREGORIAN
METHOD:PUBLISH
X-WR-CALNAME:Old Iron Garage
X-ORIGINAL-URL:https://oldirongarage.com
X-WR-CALDESC:Events for Old Iron Garage
REFRESH-INTERVAL;VALUE=DURATION:PT1H
X-Robots-Tag:noindex
X-PUBLISHED-TTL:PT1H
BEGIN:VTIMEZONE
TZID:America/Chicago
BEGIN:DAYLIGHT
TZOFFSETFROM:-0600
TZOFFSETTO:-0500
TZNAME:CDT
DTSTART:20240310T080000
END:DAYLIGHT
BEGIN:STANDARD
TZOFFSETFROM:-0500
TZOFFSETTO:-0600
TZNAME:CST
DTSTART:20241103T070000
END:STANDARD
END:VTIMEZONE
BEGIN:VEVENT
DTSTART;TZID=America/Chicago:20240927T080000
DTEND;TZID=America/Chicago:20240929T170000
DTSTAMP:20260420T130046
CREATED:20240927T023549Z
LAST-MODIFIED:20240927T023549Z
UID:24141-1727424000-1727629200@oldirongarage.com
SUMMARY:Coal Springs Antique Club Threshing Bee & Antique Show
DESCRIPTION:Feature: Allis-Chalmers \nThreshing\, blacksmithing\, antique tractors\, horse drawn equipment\, food\, shingle mill\, wagon rides\, kid’s activities\, vendor fair/flea market\, quilt show\, live farm animals\, horseshoeing\, auction\, musical entertainment\, Sunday worship \nAlcohol free event \nContact: Wade Hofer\, 605-788-2854 \nemail: wthofer@hotmail.com \nFacebook: Coal Springs Threshing Bee
URL:https://oldirongarage.com/event/coal-springs-antique-club-threshing-bee-antique-show/
LOCATION:Coal Springs Antique Club\, 13291 SD Highway 73\, Meadow\, SD\, 57644\, United States
CATEGORIES:Shows and Festivals
ATTACH;FMTTYPE=image/jpeg:https://oldirongarage.com/wp-content/uploads/2024/09/457818717_2690457441125560_6619348797566041126_n.jpg
END:VEVENT
END:VCALENDAR