BEGIN:VCALENDAR
VERSION:2.0
PRODID:-//Old Iron Garage - ECPv6.6.3//NONSGML v1.0//EN
CALSCALE:GREGORIAN
METHOD:PUBLISH
X-WR-CALNAME:Old Iron Garage
X-ORIGINAL-URL:https://oldirongarage.com
X-WR-CALDESC:Events for Old Iron Garage
REFRESH-INTERVAL;VALUE=DURATION:PT1H
X-Robots-Tag:noindex
X-PUBLISHED-TTL:PT1H
BEGIN:VTIMEZONE
TZID:America/Chicago
BEGIN:DAYLIGHT
TZOFFSETFROM:-0600
TZOFFSETTO:-0500
TZNAME:CDT
DTSTART:20240310T080000
END:DAYLIGHT
BEGIN:STANDARD
TZOFFSETFROM:-0500
TZOFFSETTO:-0600
TZNAME:CST
DTSTART:20241103T070000
END:STANDARD
END:VTIMEZONE
BEGIN:VEVENT
DTSTART;TZID=America/Chicago:20241012T080000
DTEND;TZID=America/Chicago:20241013T170000
DTSTAMP:20260421T121519
CREATED:20241001T022723Z
LAST-MODIFIED:20241001T023040Z
UID:24179-1728720000-1728838800@oldirongarage.com
SUMMARY:55th Annual Page County Heritage Festival
DESCRIPTION:The Page County Heritage Festival is one of the oldest festivals in Virginia! \nHeld every year on Columbus Day Weekend in the peak of fall foliage in the Shenandoah Valley\, the Page County Heritage Festival is a family-oriented weekend with fun for the whole family!  The Heritage Festival boasts over a hundred crafters with all-day demonstrations of knitting\, crochet\, apple-butter boiling\, oil painting\, basket making\, wheel-thrown pottery\, blacksmiths\, and more! \nAnd what Fall Festival would be complete without good home-cooking provided by local civic organizations?  While at the Page County Heritage Festival\, you will be surrounded by the smells of BBQ chicken\, pulled pork sandwiches\, brown beans and cornbread\, country ham\, chicken & dumplings\, funnel cakes and a host of other treats! \nThe Heritage Festival also hosts a variety of live entertainment — all of which is indoors with plenty of seating available!  Spencer Hatcher\, Virginia Rain Bluegrass Band\, Isaac Stroupe\, and Lee Blanton Band will all be there.  And let’s not forget about the kids!  Children can enjoy face-painting\, a pedal tractor pull\, maze\, petting zoo\, barrel train ride\, and pony rides and much more! \nFor tractor and engine enthusiasts\, the Page County Heritage Festival’s Steam & Gas Engine Show will be a one-of-a-kind treat for you!  Watch log sawing\, feed grinding\, wheat thrashing\, hay bailing\, and corn husking all powered by steam and antique tractors.  Also\, enjoy the numerous small antique engines\, antique automobiles\, and tractors on display — all in running condition. \nOn Sunday\, there will be an Antique Tractor Pull at 10 AM.  ~Pull What You Bring ~ Bring What You Pull~ \nThe Page County Heritage Festival is held rain or shine!  There are LOTS of free parking and bus groups are always welcome (advanced notice is appreciated).  There are many cabins and bed and breakfasts in the area.  Book early — Columbus Day Weekend is a very busy time in the Shenandoah Valley! \nContact: Todd Harlow\, 540-860-1852 \nemail: festival@pagecountyheritage.com \nKathy Burner (arts & crafts)\, 540-860-8440 \nFacebook: Page County Heritage Association
URL:https://oldirongarage.com/event/55th-annual-page-county-heritage-festival/
LOCATION:Page County Fairgrounds\, 15 Fairlane Drive\, Luray\, VA\, 22835\, United States
CATEGORIES:Shows and Festivals
ATTACH;FMTTYPE=image/jpeg:https://oldirongarage.com/wp-content/uploads/2024/09/460943008_2821658718009208_9145838648836058978_n.jpg
END:VEVENT
END:VCALENDAR