BEGIN:VCALENDAR
VERSION:2.0
PRODID:-//Old Iron Garage - ECPv6.6.3//NONSGML v1.0//EN
CALSCALE:GREGORIAN
METHOD:PUBLISH
X-WR-CALNAME:Old Iron Garage
X-ORIGINAL-URL:https://oldirongarage.com
X-WR-CALDESC:Events for Old Iron Garage
REFRESH-INTERVAL;VALUE=DURATION:PT1H
X-Robots-Tag:noindex
X-PUBLISHED-TTL:PT1H
BEGIN:VTIMEZONE
TZID:America/Chicago
BEGIN:DAYLIGHT
TZOFFSETFROM:-0600
TZOFFSETTO:-0500
TZNAME:CDT
DTSTART:20240310T080000
END:DAYLIGHT
BEGIN:STANDARD
TZOFFSETFROM:-0500
TZOFFSETTO:-0600
TZNAME:CST
DTSTART:20241103T070000
END:STANDARD
END:VTIMEZONE
BEGIN:VEVENT
DTSTART;TZID=America/Chicago:20241012T080000
DTEND;TZID=America/Chicago:20241013T170000
DTSTAMP:20260421T010858
CREATED:20240829T214040Z
LAST-MODIFIED:20240829T214040Z
UID:23696-1728720000-1728838800@oldirongarage.com
SUMMARY:33rd Annual Maryland Two-Cylinder Club Antique Tractor Show
DESCRIPTION:Contact: \nHoward M Salan\, 443-677-8928\nFacebook: Maryland Two-Cylinder Club
URL:https://oldirongarage.com/event/33rd-annual-maryland-two-cylinder-club-antique-tractor-show/
LOCATION:Gladhill Tractor Mart\, 5509 Mt Zion Rd\, Frederick\, MD\, 21703\, United States
CATEGORIES:Shows and Festivals
END:VEVENT
END:VCALENDAR