BEGIN:VCALENDAR
VERSION:2.0
PRODID:-//Old Iron Garage - ECPv6.6.3//NONSGML v1.0//EN
CALSCALE:GREGORIAN
METHOD:PUBLISH
X-ORIGINAL-URL:http://oldirongarage.com
X-WR-CALDESC:Events for Old Iron Garage
REFRESH-INTERVAL;VALUE=DURATION:PT1H
X-Robots-Tag:noindex
X-PUBLISHED-TTL:PT1H
BEGIN:VTIMEZONE
TZID:America/Chicago
BEGIN:DAYLIGHT
TZOFFSETFROM:-0600
TZOFFSETTO:-0500
TZNAME:CDT
DTSTART:20250309T080000
END:DAYLIGHT
BEGIN:STANDARD
TZOFFSETFROM:-0500
TZOFFSETTO:-0600
TZNAME:CST
DTSTART:20251102T070000
END:STANDARD
END:VTIMEZONE
BEGIN:VEVENT
DTSTART;TZID=America/Chicago:20250708T090000
DTEND;TZID=America/Chicago:20250708T160000
DTSTAMP:20260422T203740
CREATED:20240522T144554Z
LAST-MODIFIED:20240522T144554Z
UID:10000521-1751965200-1751990400@oldirongarage.com
SUMMARY:Colorado State Fair Antique Equipment Display
DESCRIPTION:Colorado State Fair Antique Equipment Display\nWhen: August 23-September 2\, 2024\nWhere: 1001 Beulah Ave\, Pueblo\, CO 81004\nContact: Steve Stratton\, 719-250-7279; Email: stevestratman@yahoo.com; www\,frapausa.com; Facebook: Front Range Antique Power Assn.
URL:http://oldirongarage.com/event/colorado-state-fair-antique-equipment-display/2025-07-08/
LOCATION:GA
END:VEVENT
BEGIN:VEVENT
DTSTART;TZID=America/Chicago:20250708T090000
DTEND;TZID=America/Chicago:20250708T170000
DTSTAMP:20260422T203740
CREATED:20240522T161320Z
LAST-MODIFIED:20240522T161320Z
UID:10001233-1751965200-1751994000@oldirongarage.com
SUMMARY:Connecticut Antique Machinery Association Museum Annual Fall Festival
DESCRIPTION:Connecticut Antique Machinery Association Museum Annual Fall Festival\nWhen: September 27-29\, 2024\nWhere: 31B Kent-Cornwall Rd (Rt. 7) Kent\, CT\, 06757; 1 Mile North of town center\nContact: John Pawloski\, 860-354-0296; Email: j.a.pawloski@att.net; www.ctamachinery.com\, Facebook: Connecticut Antique Machinery Association
URL:http://oldirongarage.com/event/connecticut-antique-machinery-association-museum-annual-fall-festival-2/2025-07-08/
LOCATION:GA
END:VEVENT
BEGIN:VEVENT
DTSTART;TZID=America/Chicago:20250709T080000
DTEND;TZID=America/Chicago:20250709T200000
DTSTAMP:20260422T203740
CREATED:20240522T145203Z
LAST-MODIFIED:20240522T145203Z
UID:10000898-1752048000-1752091200@oldirongarage.com
SUMMARY:Yesteryear Farm Show
DESCRIPTION:When: August 23-25\, 2024\nWhere: Dougherty Museum\, 8306 N. 107th St Longmont\, CO\, 80504\nContact: Bob McCarty\, 303-776-9859; Facebook: Yesteryear Farm Show\nThe Tractor Above will be auctioned off at the Farm Show!
URL:http://oldirongarage.com/event/yesteryear-farm-show/2025-07-09/
LOCATION:GA
END:VEVENT
BEGIN:VEVENT
DTSTART;TZID=America/Chicago:20250709T090000
DTEND;TZID=America/Chicago:20250709T160000
DTSTAMP:20260422T203740
CREATED:20240522T144554Z
LAST-MODIFIED:20240522T144554Z
UID:10000522-1752051600-1752076800@oldirongarage.com
SUMMARY:Colorado State Fair Antique Equipment Display
DESCRIPTION:Colorado State Fair Antique Equipment Display\nWhen: August 23-September 2\, 2024\nWhere: 1001 Beulah Ave\, Pueblo\, CO 81004\nContact: Steve Stratton\, 719-250-7279; Email: stevestratman@yahoo.com; www\,frapausa.com; Facebook: Front Range Antique Power Assn.
URL:http://oldirongarage.com/event/colorado-state-fair-antique-equipment-display/2025-07-09/
LOCATION:GA
END:VEVENT
BEGIN:VEVENT
DTSTART;TZID=America/Chicago:20250709T090000
DTEND;TZID=America/Chicago:20250709T170000
DTSTAMP:20260422T203740
CREATED:20240522T161320Z
LAST-MODIFIED:20240522T161320Z
UID:10001234-1752051600-1752080400@oldirongarage.com
SUMMARY:Connecticut Antique Machinery Association Museum Annual Fall Festival
DESCRIPTION:Connecticut Antique Machinery Association Museum Annual Fall Festival\nWhen: September 27-29\, 2024\nWhere: 31B Kent-Cornwall Rd (Rt. 7) Kent\, CT\, 06757; 1 Mile North of town center\nContact: John Pawloski\, 860-354-0296; Email: j.a.pawloski@att.net; www.ctamachinery.com\, Facebook: Connecticut Antique Machinery Association
URL:http://oldirongarage.com/event/connecticut-antique-machinery-association-museum-annual-fall-festival-2/2025-07-09/
LOCATION:GA
END:VEVENT
BEGIN:VEVENT
DTSTART;TZID=America/Chicago:20250710T080000
DTEND;TZID=America/Chicago:20250710T200000
DTSTAMP:20260422T203740
CREATED:20240522T145203Z
LAST-MODIFIED:20240522T145203Z
UID:10000899-1752134400-1752177600@oldirongarage.com
SUMMARY:Yesteryear Farm Show
DESCRIPTION:When: August 23-25\, 2024\nWhere: Dougherty Museum\, 8306 N. 107th St Longmont\, CO\, 80504\nContact: Bob McCarty\, 303-776-9859; Facebook: Yesteryear Farm Show\nThe Tractor Above will be auctioned off at the Farm Show!
URL:http://oldirongarage.com/event/yesteryear-farm-show/2025-07-10/
LOCATION:GA
END:VEVENT
BEGIN:VEVENT
DTSTART;TZID=America/Chicago:20250710T080000
DTEND;TZID=America/Chicago:20250712T170000
DTSTAMP:20260422T203740
CREATED:20240909T235312Z
LAST-MODIFIED:20240909T235312Z
UID:10001522-1752134400-1752339600@oldirongarage.com
SUMMARY:New York State Two-Cylinder Expo XV
DESCRIPTION:Feature: Historical Construction equipment \nContact: Kevin Morris\, 607-868-3774 \nemail: nyexpo@frontiernet.net \nJim Stratton\, 607-776-1606 \nwww.newyorkstateexpo.com \n 
URL:http://oldirongarage.com/event/new-york-state-two-cylinder-expo-xv/
LOCATION:New York Steam Engine Assoc. grounds\, 3349 Gehan Road\, Canandaigua\, NY\, 14424\, United States
CATEGORIES:Shows and Festivals
END:VEVENT
BEGIN:VEVENT
DTSTART;TZID=America/Chicago:20250710T090000
DTEND;TZID=America/Chicago:20250710T160000
DTSTAMP:20260422T203740
CREATED:20240522T144554Z
LAST-MODIFIED:20240522T144554Z
UID:10000523-1752138000-1752163200@oldirongarage.com
SUMMARY:Colorado State Fair Antique Equipment Display
DESCRIPTION:Colorado State Fair Antique Equipment Display\nWhen: August 23-September 2\, 2024\nWhere: 1001 Beulah Ave\, Pueblo\, CO 81004\nContact: Steve Stratton\, 719-250-7279; Email: stevestratman@yahoo.com; www\,frapausa.com; Facebook: Front Range Antique Power Assn.
URL:http://oldirongarage.com/event/colorado-state-fair-antique-equipment-display/2025-07-10/
LOCATION:GA
END:VEVENT
BEGIN:VEVENT
DTSTART;TZID=America/Chicago:20250710T090000
DTEND;TZID=America/Chicago:20250710T170000
DTSTAMP:20260422T203740
CREATED:20240522T161320Z
LAST-MODIFIED:20240522T161320Z
UID:10001235-1752138000-1752166800@oldirongarage.com
SUMMARY:Connecticut Antique Machinery Association Museum Annual Fall Festival
DESCRIPTION:Connecticut Antique Machinery Association Museum Annual Fall Festival\nWhen: September 27-29\, 2024\nWhere: 31B Kent-Cornwall Rd (Rt. 7) Kent\, CT\, 06757; 1 Mile North of town center\nContact: John Pawloski\, 860-354-0296; Email: j.a.pawloski@att.net; www.ctamachinery.com\, Facebook: Connecticut Antique Machinery Association
URL:http://oldirongarage.com/event/connecticut-antique-machinery-association-museum-annual-fall-festival-2/2025-07-10/
LOCATION:GA
END:VEVENT
BEGIN:VEVENT
DTSTART;TZID=America/Chicago:20250711T080000
DTEND;TZID=America/Chicago:20250711T200000
DTSTAMP:20260422T203740
CREATED:20240522T145203Z
LAST-MODIFIED:20240522T145203Z
UID:10000900-1752220800-1752264000@oldirongarage.com
SUMMARY:Yesteryear Farm Show
DESCRIPTION:When: August 23-25\, 2024\nWhere: Dougherty Museum\, 8306 N. 107th St Longmont\, CO\, 80504\nContact: Bob McCarty\, 303-776-9859; Facebook: Yesteryear Farm Show\nThe Tractor Above will be auctioned off at the Farm Show!
URL:http://oldirongarage.com/event/yesteryear-farm-show/2025-07-11/
LOCATION:GA
END:VEVENT
BEGIN:VEVENT
DTSTART;TZID=America/Chicago:20250711T090000
DTEND;TZID=America/Chicago:20250711T160000
DTSTAMP:20260422T203740
CREATED:20240522T144554Z
LAST-MODIFIED:20240522T144554Z
UID:10000524-1752224400-1752249600@oldirongarage.com
SUMMARY:Colorado State Fair Antique Equipment Display
DESCRIPTION:Colorado State Fair Antique Equipment Display\nWhen: August 23-September 2\, 2024\nWhere: 1001 Beulah Ave\, Pueblo\, CO 81004\nContact: Steve Stratton\, 719-250-7279; Email: stevestratman@yahoo.com; www\,frapausa.com; Facebook: Front Range Antique Power Assn.
URL:http://oldirongarage.com/event/colorado-state-fair-antique-equipment-display/2025-07-11/
LOCATION:GA
END:VEVENT
BEGIN:VEVENT
DTSTART;TZID=America/Chicago:20250711T090000
DTEND;TZID=America/Chicago:20250711T170000
DTSTAMP:20260422T203740
CREATED:20240522T161320Z
LAST-MODIFIED:20240522T161320Z
UID:10001236-1752224400-1752253200@oldirongarage.com
SUMMARY:Connecticut Antique Machinery Association Museum Annual Fall Festival
DESCRIPTION:Connecticut Antique Machinery Association Museum Annual Fall Festival\nWhen: September 27-29\, 2024\nWhere: 31B Kent-Cornwall Rd (Rt. 7) Kent\, CT\, 06757; 1 Mile North of town center\nContact: John Pawloski\, 860-354-0296; Email: j.a.pawloski@att.net; www.ctamachinery.com\, Facebook: Connecticut Antique Machinery Association
URL:http://oldirongarage.com/event/connecticut-antique-machinery-association-museum-annual-fall-festival-2/2025-07-11/
LOCATION:GA
END:VEVENT
BEGIN:VEVENT
DTSTART;TZID=America/Chicago:20250712T080000
DTEND;TZID=America/Chicago:20250712T200000
DTSTAMP:20260422T203740
CREATED:20240522T145203Z
LAST-MODIFIED:20240522T145203Z
UID:10000901-1752307200-1752350400@oldirongarage.com
SUMMARY:Yesteryear Farm Show
DESCRIPTION:When: August 23-25\, 2024\nWhere: Dougherty Museum\, 8306 N. 107th St Longmont\, CO\, 80504\nContact: Bob McCarty\, 303-776-9859; Facebook: Yesteryear Farm Show\nThe Tractor Above will be auctioned off at the Farm Show!
URL:http://oldirongarage.com/event/yesteryear-farm-show/2025-07-12/
LOCATION:GA
END:VEVENT
BEGIN:VEVENT
DTSTART;TZID=America/Chicago:20250712T080000
DTEND;TZID=America/Chicago:20250713T170000
DTSTAMP:20260422T203740
CREATED:20250702T015335Z
LAST-MODIFIED:20250702T015335Z
UID:10001627-1752307200-1752426000@oldirongarage.com
SUMMARY:25th Massac County Youth Fair Tractor & Farm Machinery Show
DESCRIPTION:Contact: Mary Gray\, 618-309-1105 \nemail: mgfarm3@gmail.com \n 
URL:http://oldirongarage.com/event/25th-massac-county-youth-fair-tractor-farm-machinery-show/
LOCATION:Massac County Youth Fair\, 4476 Korte Road\, Metropolis
CATEGORIES:Shows and Festivals
END:VEVENT
BEGIN:VEVENT
DTSTART;TZID=America/Chicago:20250712T090000
DTEND;TZID=America/Chicago:20250712T160000
DTSTAMP:20260422T203740
CREATED:20240522T144554Z
LAST-MODIFIED:20240522T144554Z
UID:10000525-1752310800-1752336000@oldirongarage.com
SUMMARY:Colorado State Fair Antique Equipment Display
DESCRIPTION:Colorado State Fair Antique Equipment Display\nWhen: August 23-September 2\, 2024\nWhere: 1001 Beulah Ave\, Pueblo\, CO 81004\nContact: Steve Stratton\, 719-250-7279; Email: stevestratman@yahoo.com; www\,frapausa.com; Facebook: Front Range Antique Power Assn.
URL:http://oldirongarage.com/event/colorado-state-fair-antique-equipment-display/2025-07-12/
LOCATION:GA
END:VEVENT
BEGIN:VEVENT
DTSTART;TZID=America/Chicago:20250712T090000
DTEND;TZID=America/Chicago:20250712T170000
DTSTAMP:20260422T203740
CREATED:20240522T161320Z
LAST-MODIFIED:20240522T161320Z
UID:10001237-1752310800-1752339600@oldirongarage.com
SUMMARY:Connecticut Antique Machinery Association Museum Annual Fall Festival
DESCRIPTION:Connecticut Antique Machinery Association Museum Annual Fall Festival\nWhen: September 27-29\, 2024\nWhere: 31B Kent-Cornwall Rd (Rt. 7) Kent\, CT\, 06757; 1 Mile North of town center\nContact: John Pawloski\, 860-354-0296; Email: j.a.pawloski@att.net; www.ctamachinery.com\, Facebook: Connecticut Antique Machinery Association
URL:http://oldirongarage.com/event/connecticut-antique-machinery-association-museum-annual-fall-festival-2/2025-07-12/
LOCATION:GA
END:VEVENT
BEGIN:VEVENT
DTSTART;TZID=America/Chicago:20250713T080000
DTEND;TZID=America/Chicago:20250713T200000
DTSTAMP:20260422T203740
CREATED:20240522T145203Z
LAST-MODIFIED:20240522T145203Z
UID:10000902-1752393600-1752436800@oldirongarage.com
SUMMARY:Yesteryear Farm Show
DESCRIPTION:When: August 23-25\, 2024\nWhere: Dougherty Museum\, 8306 N. 107th St Longmont\, CO\, 80504\nContact: Bob McCarty\, 303-776-9859; Facebook: Yesteryear Farm Show\nThe Tractor Above will be auctioned off at the Farm Show!
URL:http://oldirongarage.com/event/yesteryear-farm-show/2025-07-13/
LOCATION:GA
END:VEVENT
BEGIN:VEVENT
DTSTART;TZID=America/Chicago:20250713T090000
DTEND;TZID=America/Chicago:20250713T160000
DTSTAMP:20260422T203740
CREATED:20240522T144554Z
LAST-MODIFIED:20240522T144554Z
UID:10000526-1752397200-1752422400@oldirongarage.com
SUMMARY:Colorado State Fair Antique Equipment Display
DESCRIPTION:Colorado State Fair Antique Equipment Display\nWhen: August 23-September 2\, 2024\nWhere: 1001 Beulah Ave\, Pueblo\, CO 81004\nContact: Steve Stratton\, 719-250-7279; Email: stevestratman@yahoo.com; www\,frapausa.com; Facebook: Front Range Antique Power Assn.
URL:http://oldirongarage.com/event/colorado-state-fair-antique-equipment-display/2025-07-13/
LOCATION:GA
END:VEVENT
BEGIN:VEVENT
DTSTART;TZID=America/Chicago:20250713T090000
DTEND;TZID=America/Chicago:20250713T170000
DTSTAMP:20260422T203740
CREATED:20240522T161320Z
LAST-MODIFIED:20240522T161320Z
UID:10001238-1752397200-1752426000@oldirongarage.com
SUMMARY:Connecticut Antique Machinery Association Museum Annual Fall Festival
DESCRIPTION:Connecticut Antique Machinery Association Museum Annual Fall Festival\nWhen: September 27-29\, 2024\nWhere: 31B Kent-Cornwall Rd (Rt. 7) Kent\, CT\, 06757; 1 Mile North of town center\nContact: John Pawloski\, 860-354-0296; Email: j.a.pawloski@att.net; www.ctamachinery.com\, Facebook: Connecticut Antique Machinery Association
URL:http://oldirongarage.com/event/connecticut-antique-machinery-association-museum-annual-fall-festival-2/2025-07-13/
LOCATION:GA
END:VEVENT
BEGIN:VEVENT
DTSTART;TZID=America/Chicago:20250714T080000
DTEND;TZID=America/Chicago:20250714T200000
DTSTAMP:20260422T203740
CREATED:20240522T145203Z
LAST-MODIFIED:20240522T145203Z
UID:10000903-1752480000-1752523200@oldirongarage.com
SUMMARY:Yesteryear Farm Show
DESCRIPTION:When: August 23-25\, 2024\nWhere: Dougherty Museum\, 8306 N. 107th St Longmont\, CO\, 80504\nContact: Bob McCarty\, 303-776-9859; Facebook: Yesteryear Farm Show\nThe Tractor Above will be auctioned off at the Farm Show!
URL:http://oldirongarage.com/event/yesteryear-farm-show/2025-07-14/
LOCATION:GA
END:VEVENT
BEGIN:VEVENT
DTSTART;TZID=America/Chicago:20250714T090000
DTEND;TZID=America/Chicago:20250714T160000
DTSTAMP:20260422T203740
CREATED:20240522T144554Z
LAST-MODIFIED:20240522T144554Z
UID:10000527-1752483600-1752508800@oldirongarage.com
SUMMARY:Colorado State Fair Antique Equipment Display
DESCRIPTION:Colorado State Fair Antique Equipment Display\nWhen: August 23-September 2\, 2024\nWhere: 1001 Beulah Ave\, Pueblo\, CO 81004\nContact: Steve Stratton\, 719-250-7279; Email: stevestratman@yahoo.com; www\,frapausa.com; Facebook: Front Range Antique Power Assn.
URL:http://oldirongarage.com/event/colorado-state-fair-antique-equipment-display/2025-07-14/
LOCATION:GA
END:VEVENT
BEGIN:VEVENT
DTSTART;TZID=America/Chicago:20250714T090000
DTEND;TZID=America/Chicago:20250714T170000
DTSTAMP:20260422T203740
CREATED:20240522T161320Z
LAST-MODIFIED:20240522T161320Z
UID:10001239-1752483600-1752512400@oldirongarage.com
SUMMARY:Connecticut Antique Machinery Association Museum Annual Fall Festival
DESCRIPTION:Connecticut Antique Machinery Association Museum Annual Fall Festival\nWhen: September 27-29\, 2024\nWhere: 31B Kent-Cornwall Rd (Rt. 7) Kent\, CT\, 06757; 1 Mile North of town center\nContact: John Pawloski\, 860-354-0296; Email: j.a.pawloski@att.net; www.ctamachinery.com\, Facebook: Connecticut Antique Machinery Association
URL:http://oldirongarage.com/event/connecticut-antique-machinery-association-museum-annual-fall-festival-2/2025-07-14/
LOCATION:GA
END:VEVENT
BEGIN:VEVENT
DTSTART;TZID=America/Chicago:20250715T080000
DTEND;TZID=America/Chicago:20250715T200000
DTSTAMP:20260422T203740
CREATED:20240522T145203Z
LAST-MODIFIED:20240522T145203Z
UID:10000904-1752566400-1752609600@oldirongarage.com
SUMMARY:Yesteryear Farm Show
DESCRIPTION:When: August 23-25\, 2024\nWhere: Dougherty Museum\, 8306 N. 107th St Longmont\, CO\, 80504\nContact: Bob McCarty\, 303-776-9859; Facebook: Yesteryear Farm Show\nThe Tractor Above will be auctioned off at the Farm Show!
URL:http://oldirongarage.com/event/yesteryear-farm-show/2025-07-15/
LOCATION:GA
END:VEVENT
BEGIN:VEVENT
DTSTART;TZID=America/Chicago:20250715T090000
DTEND;TZID=America/Chicago:20250715T160000
DTSTAMP:20260422T203740
CREATED:20240522T144554Z
LAST-MODIFIED:20240522T144554Z
UID:10000528-1752570000-1752595200@oldirongarage.com
SUMMARY:Colorado State Fair Antique Equipment Display
DESCRIPTION:Colorado State Fair Antique Equipment Display\nWhen: August 23-September 2\, 2024\nWhere: 1001 Beulah Ave\, Pueblo\, CO 81004\nContact: Steve Stratton\, 719-250-7279; Email: stevestratman@yahoo.com; www\,frapausa.com; Facebook: Front Range Antique Power Assn.
URL:http://oldirongarage.com/event/colorado-state-fair-antique-equipment-display/2025-07-15/
LOCATION:GA
END:VEVENT
BEGIN:VEVENT
DTSTART;TZID=America/Chicago:20250715T090000
DTEND;TZID=America/Chicago:20250715T170000
DTSTAMP:20260422T203740
CREATED:20240522T161320Z
LAST-MODIFIED:20240522T161320Z
UID:10001240-1752570000-1752598800@oldirongarage.com
SUMMARY:Connecticut Antique Machinery Association Museum Annual Fall Festival
DESCRIPTION:Connecticut Antique Machinery Association Museum Annual Fall Festival\nWhen: September 27-29\, 2024\nWhere: 31B Kent-Cornwall Rd (Rt. 7) Kent\, CT\, 06757; 1 Mile North of town center\nContact: John Pawloski\, 860-354-0296; Email: j.a.pawloski@att.net; www.ctamachinery.com\, Facebook: Connecticut Antique Machinery Association
URL:http://oldirongarage.com/event/connecticut-antique-machinery-association-museum-annual-fall-festival-2/2025-07-15/
LOCATION:GA
END:VEVENT
BEGIN:VEVENT
DTSTART;TZID=America/Chicago:20250716T080000
DTEND;TZID=America/Chicago:20250716T200000
DTSTAMP:20260422T203740
CREATED:20240522T145203Z
LAST-MODIFIED:20240522T145203Z
UID:10000905-1752652800-1752696000@oldirongarage.com
SUMMARY:Yesteryear Farm Show
DESCRIPTION:When: August 23-25\, 2024\nWhere: Dougherty Museum\, 8306 N. 107th St Longmont\, CO\, 80504\nContact: Bob McCarty\, 303-776-9859; Facebook: Yesteryear Farm Show\nThe Tractor Above will be auctioned off at the Farm Show!
URL:http://oldirongarage.com/event/yesteryear-farm-show/2025-07-16/
LOCATION:GA
END:VEVENT
BEGIN:VEVENT
DTSTART;TZID=America/Chicago:20250716T090000
DTEND;TZID=America/Chicago:20250716T160000
DTSTAMP:20260422T203740
CREATED:20240522T144554Z
LAST-MODIFIED:20240522T144554Z
UID:10000529-1752656400-1752681600@oldirongarage.com
SUMMARY:Colorado State Fair Antique Equipment Display
DESCRIPTION:Colorado State Fair Antique Equipment Display\nWhen: August 23-September 2\, 2024\nWhere: 1001 Beulah Ave\, Pueblo\, CO 81004\nContact: Steve Stratton\, 719-250-7279; Email: stevestratman@yahoo.com; www\,frapausa.com; Facebook: Front Range Antique Power Assn.
URL:http://oldirongarage.com/event/colorado-state-fair-antique-equipment-display/2025-07-16/
LOCATION:GA
END:VEVENT
BEGIN:VEVENT
DTSTART;TZID=America/Chicago:20250716T090000
DTEND;TZID=America/Chicago:20250716T170000
DTSTAMP:20260422T203740
CREATED:20240522T161320Z
LAST-MODIFIED:20240522T161320Z
UID:10001241-1752656400-1752685200@oldirongarage.com
SUMMARY:Connecticut Antique Machinery Association Museum Annual Fall Festival
DESCRIPTION:Connecticut Antique Machinery Association Museum Annual Fall Festival\nWhen: September 27-29\, 2024\nWhere: 31B Kent-Cornwall Rd (Rt. 7) Kent\, CT\, 06757; 1 Mile North of town center\nContact: John Pawloski\, 860-354-0296; Email: j.a.pawloski@att.net; www.ctamachinery.com\, Facebook: Connecticut Antique Machinery Association
URL:http://oldirongarage.com/event/connecticut-antique-machinery-association-museum-annual-fall-festival-2/2025-07-16/
LOCATION:GA
END:VEVENT
BEGIN:VEVENT
DTSTART;TZID=America/Chicago:20250717T080000
DTEND;TZID=America/Chicago:20250717T200000
DTSTAMP:20260422T203740
CREATED:20240522T145203Z
LAST-MODIFIED:20240522T145203Z
UID:10000906-1752739200-1752782400@oldirongarage.com
SUMMARY:Yesteryear Farm Show
DESCRIPTION:When: August 23-25\, 2024\nWhere: Dougherty Museum\, 8306 N. 107th St Longmont\, CO\, 80504\nContact: Bob McCarty\, 303-776-9859; Facebook: Yesteryear Farm Show\nThe Tractor Above will be auctioned off at the Farm Show!
URL:http://oldirongarage.com/event/yesteryear-farm-show/2025-07-17/
LOCATION:GA
END:VEVENT
BEGIN:VEVENT
DTSTART;TZID=America/Chicago:20250717T080000
DTEND;TZID=America/Chicago:20250720T170000
DTSTAMP:20260422T203740
CREATED:20250702T015942Z
LAST-MODIFIED:20250702T015942Z
UID:10001628-1752739200-1753030800@oldirongarage.com
SUMMARY:The Will County Threshermen's Assoc. 63rd Annual Reunion
DESCRIPTION:Feature: Caterpillar\, Massey-Harris\, and Massey Ferguson \nContact: Andy Rousonelos\, 815-768-7066 \nemail: willcountythresh@gmail.com \nwww.willcountythresh@gmail.com \nFacebook: Will County Thresh
URL:http://oldirongarage.com/event/the-will-county-threshermens-assoc-63rd-annual-reunion/
LOCATION:Will County Threshermen’s Association Showgrounds\, 13831 West Joliet Road\, Manhattan\, IL\, 60442\, United States
CATEGORIES:Shows and Festivals
ATTACH;FMTTYPE=image/jpeg:http://oldirongarage.com/wp-content/uploads/2025/07/WCTA-2025-FBEvent.jpg
END:VEVENT
END:VCALENDAR