BEGIN:VCALENDAR
VERSION:2.0
PRODID:-//Old Iron Garage - ECPv6.6.3//NONSGML v1.0//EN
CALSCALE:GREGORIAN
METHOD:PUBLISH
X-ORIGINAL-URL:http://oldirongarage.com
X-WR-CALDESC:Events for Old Iron Garage
REFRESH-INTERVAL;VALUE=DURATION:PT1H
X-Robots-Tag:noindex
X-PUBLISHED-TTL:PT1H
BEGIN:VTIMEZONE
TZID:America/Chicago
BEGIN:DAYLIGHT
TZOFFSETFROM:-0600
TZOFFSETTO:-0500
TZNAME:CDT
DTSTART:20250309T080000
END:DAYLIGHT
BEGIN:STANDARD
TZOFFSETFROM:-0500
TZOFFSETTO:-0600
TZNAME:CST
DTSTART:20251102T070000
END:STANDARD
END:VTIMEZONE
BEGIN:VEVENT
DTSTART;TZID=America/Chicago:20250618T090000
DTEND;TZID=America/Chicago:20250618T170000
DTSTAMP:20260421T144301
CREATED:20240522T161320Z
LAST-MODIFIED:20240522T161320Z
UID:10001213-1750237200-1750266000@oldirongarage.com
SUMMARY:Connecticut Antique Machinery Association Museum Annual Fall Festival
DESCRIPTION:Connecticut Antique Machinery Association Museum Annual Fall Festival\nWhen: September 27-29\, 2024\nWhere: 31B Kent-Cornwall Rd (Rt. 7) Kent\, CT\, 06757; 1 Mile North of town center\nContact: John Pawloski\, 860-354-0296; Email: j.a.pawloski@att.net; www.ctamachinery.com\, Facebook: Connecticut Antique Machinery Association
URL:http://oldirongarage.com/event/connecticut-antique-machinery-association-museum-annual-fall-festival-2/2025-06-18/
LOCATION:KY
END:VEVENT
BEGIN:VEVENT
DTSTART;TZID=America/Chicago:20250619T080000
DTEND;TZID=America/Chicago:20250619T200000
DTSTAMP:20260421T144301
CREATED:20240522T145203Z
LAST-MODIFIED:20240522T145203Z
UID:10000878-1750320000-1750363200@oldirongarage.com
SUMMARY:Yesteryear Farm Show
DESCRIPTION:When: August 23-25\, 2024\nWhere: Dougherty Museum\, 8306 N. 107th St Longmont\, CO\, 80504\nContact: Bob McCarty\, 303-776-9859; Facebook: Yesteryear Farm Show\nThe Tractor Above will be auctioned off at the Farm Show!
URL:http://oldirongarage.com/event/yesteryear-farm-show/2025-06-19/
LOCATION:KY
END:VEVENT
BEGIN:VEVENT
DTSTART;TZID=America/Chicago:20250619T090000
DTEND;TZID=America/Chicago:20250619T160000
DTSTAMP:20260421T144301
CREATED:20240522T144554Z
LAST-MODIFIED:20240522T144554Z
UID:10000502-1750323600-1750348800@oldirongarage.com
SUMMARY:Colorado State Fair Antique Equipment Display
DESCRIPTION:Colorado State Fair Antique Equipment Display\nWhen: August 23-September 2\, 2024\nWhere: 1001 Beulah Ave\, Pueblo\, CO 81004\nContact: Steve Stratton\, 719-250-7279; Email: stevestratman@yahoo.com; www\,frapausa.com; Facebook: Front Range Antique Power Assn.
URL:http://oldirongarage.com/event/colorado-state-fair-antique-equipment-display/2025-06-19/
LOCATION:KY
END:VEVENT
BEGIN:VEVENT
DTSTART;TZID=America/Chicago:20250619T090000
DTEND;TZID=America/Chicago:20250619T170000
DTSTAMP:20260421T144301
CREATED:20240522T161320Z
LAST-MODIFIED:20240522T161320Z
UID:10001214-1750323600-1750352400@oldirongarage.com
SUMMARY:Connecticut Antique Machinery Association Museum Annual Fall Festival
DESCRIPTION:Connecticut Antique Machinery Association Museum Annual Fall Festival\nWhen: September 27-29\, 2024\nWhere: 31B Kent-Cornwall Rd (Rt. 7) Kent\, CT\, 06757; 1 Mile North of town center\nContact: John Pawloski\, 860-354-0296; Email: j.a.pawloski@att.net; www.ctamachinery.com\, Facebook: Connecticut Antique Machinery Association
URL:http://oldirongarage.com/event/connecticut-antique-machinery-association-museum-annual-fall-festival-2/2025-06-19/
LOCATION:KY
END:VEVENT
BEGIN:VEVENT
DTSTART;TZID=America/Chicago:20250620T080000
DTEND;TZID=America/Chicago:20250620T200000
DTSTAMP:20260421T144301
CREATED:20240522T145203Z
LAST-MODIFIED:20240522T145203Z
UID:10000879-1750406400-1750449600@oldirongarage.com
SUMMARY:Yesteryear Farm Show
DESCRIPTION:When: August 23-25\, 2024\nWhere: Dougherty Museum\, 8306 N. 107th St Longmont\, CO\, 80504\nContact: Bob McCarty\, 303-776-9859; Facebook: Yesteryear Farm Show\nThe Tractor Above will be auctioned off at the Farm Show!
URL:http://oldirongarage.com/event/yesteryear-farm-show/2025-06-20/
LOCATION:KY
END:VEVENT
BEGIN:VEVENT
DTSTART;TZID=America/Chicago:20250620T090000
DTEND;TZID=America/Chicago:20250620T160000
DTSTAMP:20260421T144301
CREATED:20240522T144554Z
LAST-MODIFIED:20240522T144554Z
UID:10000503-1750410000-1750435200@oldirongarage.com
SUMMARY:Colorado State Fair Antique Equipment Display
DESCRIPTION:Colorado State Fair Antique Equipment Display\nWhen: August 23-September 2\, 2024\nWhere: 1001 Beulah Ave\, Pueblo\, CO 81004\nContact: Steve Stratton\, 719-250-7279; Email: stevestratman@yahoo.com; www\,frapausa.com; Facebook: Front Range Antique Power Assn.
URL:http://oldirongarage.com/event/colorado-state-fair-antique-equipment-display/2025-06-20/
LOCATION:KY
END:VEVENT
BEGIN:VEVENT
DTSTART;TZID=America/Chicago:20250620T090000
DTEND;TZID=America/Chicago:20250620T170000
DTSTAMP:20260421T144301
CREATED:20240522T161320Z
LAST-MODIFIED:20240522T161320Z
UID:10001215-1750410000-1750438800@oldirongarage.com
SUMMARY:Connecticut Antique Machinery Association Museum Annual Fall Festival
DESCRIPTION:Connecticut Antique Machinery Association Museum Annual Fall Festival\nWhen: September 27-29\, 2024\nWhere: 31B Kent-Cornwall Rd (Rt. 7) Kent\, CT\, 06757; 1 Mile North of town center\nContact: John Pawloski\, 860-354-0296; Email: j.a.pawloski@att.net; www.ctamachinery.com\, Facebook: Connecticut Antique Machinery Association
URL:http://oldirongarage.com/event/connecticut-antique-machinery-association-museum-annual-fall-festival-2/2025-06-20/
LOCATION:KY
END:VEVENT
BEGIN:VEVENT
DTSTART;TZID=America/Chicago:20250621T080000
DTEND;TZID=America/Chicago:20250621T200000
DTSTAMP:20260421T144301
CREATED:20240522T145203Z
LAST-MODIFIED:20240522T145203Z
UID:10000880-1750492800-1750536000@oldirongarage.com
SUMMARY:Yesteryear Farm Show
DESCRIPTION:When: August 23-25\, 2024\nWhere: Dougherty Museum\, 8306 N. 107th St Longmont\, CO\, 80504\nContact: Bob McCarty\, 303-776-9859; Facebook: Yesteryear Farm Show\nThe Tractor Above will be auctioned off at the Farm Show!
URL:http://oldirongarage.com/event/yesteryear-farm-show/2025-06-21/
LOCATION:KY
END:VEVENT
BEGIN:VEVENT
DTSTART;TZID=America/Chicago:20250621T090000
DTEND;TZID=America/Chicago:20250621T160000
DTSTAMP:20260421T144301
CREATED:20240522T144554Z
LAST-MODIFIED:20240522T144554Z
UID:10000504-1750496400-1750521600@oldirongarage.com
SUMMARY:Colorado State Fair Antique Equipment Display
DESCRIPTION:Colorado State Fair Antique Equipment Display\nWhen: August 23-September 2\, 2024\nWhere: 1001 Beulah Ave\, Pueblo\, CO 81004\nContact: Steve Stratton\, 719-250-7279; Email: stevestratman@yahoo.com; www\,frapausa.com; Facebook: Front Range Antique Power Assn.
URL:http://oldirongarage.com/event/colorado-state-fair-antique-equipment-display/2025-06-21/
LOCATION:KY
END:VEVENT
BEGIN:VEVENT
DTSTART;TZID=America/Chicago:20250621T090000
DTEND;TZID=America/Chicago:20250621T170000
DTSTAMP:20260421T144301
CREATED:20240522T161320Z
LAST-MODIFIED:20240522T161320Z
UID:10001216-1750496400-1750525200@oldirongarage.com
SUMMARY:Connecticut Antique Machinery Association Museum Annual Fall Festival
DESCRIPTION:Connecticut Antique Machinery Association Museum Annual Fall Festival\nWhen: September 27-29\, 2024\nWhere: 31B Kent-Cornwall Rd (Rt. 7) Kent\, CT\, 06757; 1 Mile North of town center\nContact: John Pawloski\, 860-354-0296; Email: j.a.pawloski@att.net; www.ctamachinery.com\, Facebook: Connecticut Antique Machinery Association
URL:http://oldirongarage.com/event/connecticut-antique-machinery-association-museum-annual-fall-festival-2/2025-06-21/
LOCATION:KY
END:VEVENT
BEGIN:VEVENT
DTSTART;TZID=America/Chicago:20250622T080000
DTEND;TZID=America/Chicago:20250622T200000
DTSTAMP:20260421T144301
CREATED:20240522T145203Z
LAST-MODIFIED:20240522T145203Z
UID:10000881-1750579200-1750622400@oldirongarage.com
SUMMARY:Yesteryear Farm Show
DESCRIPTION:When: August 23-25\, 2024\nWhere: Dougherty Museum\, 8306 N. 107th St Longmont\, CO\, 80504\nContact: Bob McCarty\, 303-776-9859; Facebook: Yesteryear Farm Show\nThe Tractor Above will be auctioned off at the Farm Show!
URL:http://oldirongarage.com/event/yesteryear-farm-show/2025-06-22/
LOCATION:KY
END:VEVENT
BEGIN:VEVENT
DTSTART;TZID=America/Chicago:20250622T090000
DTEND;TZID=America/Chicago:20250622T160000
DTSTAMP:20260421T144301
CREATED:20240522T144554Z
LAST-MODIFIED:20240522T144554Z
UID:10000505-1750582800-1750608000@oldirongarage.com
SUMMARY:Colorado State Fair Antique Equipment Display
DESCRIPTION:Colorado State Fair Antique Equipment Display\nWhen: August 23-September 2\, 2024\nWhere: 1001 Beulah Ave\, Pueblo\, CO 81004\nContact: Steve Stratton\, 719-250-7279; Email: stevestratman@yahoo.com; www\,frapausa.com; Facebook: Front Range Antique Power Assn.
URL:http://oldirongarage.com/event/colorado-state-fair-antique-equipment-display/2025-06-22/
LOCATION:KY
END:VEVENT
BEGIN:VEVENT
DTSTART;TZID=America/Chicago:20250622T090000
DTEND;TZID=America/Chicago:20250622T170000
DTSTAMP:20260421T144301
CREATED:20240522T161320Z
LAST-MODIFIED:20240522T161320Z
UID:10001217-1750582800-1750611600@oldirongarage.com
SUMMARY:Connecticut Antique Machinery Association Museum Annual Fall Festival
DESCRIPTION:Connecticut Antique Machinery Association Museum Annual Fall Festival\nWhen: September 27-29\, 2024\nWhere: 31B Kent-Cornwall Rd (Rt. 7) Kent\, CT\, 06757; 1 Mile North of town center\nContact: John Pawloski\, 860-354-0296; Email: j.a.pawloski@att.net; www.ctamachinery.com\, Facebook: Connecticut Antique Machinery Association
URL:http://oldirongarage.com/event/connecticut-antique-machinery-association-museum-annual-fall-festival-2/2025-06-22/
LOCATION:KY
END:VEVENT
BEGIN:VEVENT
DTSTART;TZID=America/Chicago:20250623T080000
DTEND;TZID=America/Chicago:20250623T200000
DTSTAMP:20260421T144301
CREATED:20240522T145203Z
LAST-MODIFIED:20240522T145203Z
UID:10000882-1750665600-1750708800@oldirongarage.com
SUMMARY:Yesteryear Farm Show
DESCRIPTION:When: August 23-25\, 2024\nWhere: Dougherty Museum\, 8306 N. 107th St Longmont\, CO\, 80504\nContact: Bob McCarty\, 303-776-9859; Facebook: Yesteryear Farm Show\nThe Tractor Above will be auctioned off at the Farm Show!
URL:http://oldirongarage.com/event/yesteryear-farm-show/2025-06-23/
LOCATION:KY
END:VEVENT
BEGIN:VEVENT
DTSTART;TZID=America/Chicago:20250623T090000
DTEND;TZID=America/Chicago:20250623T160000
DTSTAMP:20260421T144301
CREATED:20240522T144554Z
LAST-MODIFIED:20240522T144554Z
UID:10000506-1750669200-1750694400@oldirongarage.com
SUMMARY:Colorado State Fair Antique Equipment Display
DESCRIPTION:Colorado State Fair Antique Equipment Display\nWhen: August 23-September 2\, 2024\nWhere: 1001 Beulah Ave\, Pueblo\, CO 81004\nContact: Steve Stratton\, 719-250-7279; Email: stevestratman@yahoo.com; www\,frapausa.com; Facebook: Front Range Antique Power Assn.
URL:http://oldirongarage.com/event/colorado-state-fair-antique-equipment-display/2025-06-23/
LOCATION:KY
END:VEVENT
BEGIN:VEVENT
DTSTART;TZID=America/Chicago:20250623T090000
DTEND;TZID=America/Chicago:20250623T170000
DTSTAMP:20260421T144301
CREATED:20240522T161320Z
LAST-MODIFIED:20240522T161320Z
UID:10001218-1750669200-1750698000@oldirongarage.com
SUMMARY:Connecticut Antique Machinery Association Museum Annual Fall Festival
DESCRIPTION:Connecticut Antique Machinery Association Museum Annual Fall Festival\nWhen: September 27-29\, 2024\nWhere: 31B Kent-Cornwall Rd (Rt. 7) Kent\, CT\, 06757; 1 Mile North of town center\nContact: John Pawloski\, 860-354-0296; Email: j.a.pawloski@att.net; www.ctamachinery.com\, Facebook: Connecticut Antique Machinery Association
URL:http://oldirongarage.com/event/connecticut-antique-machinery-association-museum-annual-fall-festival-2/2025-06-23/
LOCATION:KY
END:VEVENT
BEGIN:VEVENT
DTSTART;TZID=America/Chicago:20250624T080000
DTEND;TZID=America/Chicago:20250624T200000
DTSTAMP:20260421T144301
CREATED:20240522T145203Z
LAST-MODIFIED:20240522T145203Z
UID:10000883-1750752000-1750795200@oldirongarage.com
SUMMARY:Yesteryear Farm Show
DESCRIPTION:When: August 23-25\, 2024\nWhere: Dougherty Museum\, 8306 N. 107th St Longmont\, CO\, 80504\nContact: Bob McCarty\, 303-776-9859; Facebook: Yesteryear Farm Show\nThe Tractor Above will be auctioned off at the Farm Show!
URL:http://oldirongarage.com/event/yesteryear-farm-show/2025-06-24/
LOCATION:KY
END:VEVENT
BEGIN:VEVENT
DTSTART;TZID=America/Chicago:20250624T090000
DTEND;TZID=America/Chicago:20250624T160000
DTSTAMP:20260421T144301
CREATED:20240522T144554Z
LAST-MODIFIED:20240522T144554Z
UID:10000507-1750755600-1750780800@oldirongarage.com
SUMMARY:Colorado State Fair Antique Equipment Display
DESCRIPTION:Colorado State Fair Antique Equipment Display\nWhen: August 23-September 2\, 2024\nWhere: 1001 Beulah Ave\, Pueblo\, CO 81004\nContact: Steve Stratton\, 719-250-7279; Email: stevestratman@yahoo.com; www\,frapausa.com; Facebook: Front Range Antique Power Assn.
URL:http://oldirongarage.com/event/colorado-state-fair-antique-equipment-display/2025-06-24/
LOCATION:KY
END:VEVENT
BEGIN:VEVENT
DTSTART;TZID=America/Chicago:20250624T090000
DTEND;TZID=America/Chicago:20250624T170000
DTSTAMP:20260421T144301
CREATED:20240522T161320Z
LAST-MODIFIED:20240522T161320Z
UID:10001219-1750755600-1750784400@oldirongarage.com
SUMMARY:Connecticut Antique Machinery Association Museum Annual Fall Festival
DESCRIPTION:Connecticut Antique Machinery Association Museum Annual Fall Festival\nWhen: September 27-29\, 2024\nWhere: 31B Kent-Cornwall Rd (Rt. 7) Kent\, CT\, 06757; 1 Mile North of town center\nContact: John Pawloski\, 860-354-0296; Email: j.a.pawloski@att.net; www.ctamachinery.com\, Facebook: Connecticut Antique Machinery Association
URL:http://oldirongarage.com/event/connecticut-antique-machinery-association-museum-annual-fall-festival-2/2025-06-24/
LOCATION:KY
END:VEVENT
BEGIN:VEVENT
DTSTART;TZID=America/Chicago:20250625T080000
DTEND;TZID=America/Chicago:20250625T200000
DTSTAMP:20260421T144301
CREATED:20240522T145203Z
LAST-MODIFIED:20240522T145203Z
UID:10000884-1750838400-1750881600@oldirongarage.com
SUMMARY:Yesteryear Farm Show
DESCRIPTION:When: August 23-25\, 2024\nWhere: Dougherty Museum\, 8306 N. 107th St Longmont\, CO\, 80504\nContact: Bob McCarty\, 303-776-9859; Facebook: Yesteryear Farm Show\nThe Tractor Above will be auctioned off at the Farm Show!
URL:http://oldirongarage.com/event/yesteryear-farm-show/2025-06-25/
LOCATION:KY
END:VEVENT
BEGIN:VEVENT
DTSTART;TZID=America/Chicago:20250625T090000
DTEND;TZID=America/Chicago:20250625T160000
DTSTAMP:20260421T144301
CREATED:20240522T144554Z
LAST-MODIFIED:20240522T144554Z
UID:10000508-1750842000-1750867200@oldirongarage.com
SUMMARY:Colorado State Fair Antique Equipment Display
DESCRIPTION:Colorado State Fair Antique Equipment Display\nWhen: August 23-September 2\, 2024\nWhere: 1001 Beulah Ave\, Pueblo\, CO 81004\nContact: Steve Stratton\, 719-250-7279; Email: stevestratman@yahoo.com; www\,frapausa.com; Facebook: Front Range Antique Power Assn.
URL:http://oldirongarage.com/event/colorado-state-fair-antique-equipment-display/2025-06-25/
LOCATION:KY
END:VEVENT
BEGIN:VEVENT
DTSTART;TZID=America/Chicago:20250625T090000
DTEND;TZID=America/Chicago:20250625T170000
DTSTAMP:20260421T144302
CREATED:20240522T161320Z
LAST-MODIFIED:20240522T161320Z
UID:10001220-1750842000-1750870800@oldirongarage.com
SUMMARY:Connecticut Antique Machinery Association Museum Annual Fall Festival
DESCRIPTION:Connecticut Antique Machinery Association Museum Annual Fall Festival\nWhen: September 27-29\, 2024\nWhere: 31B Kent-Cornwall Rd (Rt. 7) Kent\, CT\, 06757; 1 Mile North of town center\nContact: John Pawloski\, 860-354-0296; Email: j.a.pawloski@att.net; www.ctamachinery.com\, Facebook: Connecticut Antique Machinery Association
URL:http://oldirongarage.com/event/connecticut-antique-machinery-association-museum-annual-fall-festival-2/2025-06-25/
LOCATION:KY
END:VEVENT
BEGIN:VEVENT
DTSTART;TZID=America/Chicago:20250626T080000
DTEND;TZID=America/Chicago:20250626T200000
DTSTAMP:20260421T144302
CREATED:20240522T145203Z
LAST-MODIFIED:20240522T145203Z
UID:10000885-1750924800-1750968000@oldirongarage.com
SUMMARY:Yesteryear Farm Show
DESCRIPTION:When: August 23-25\, 2024\nWhere: Dougherty Museum\, 8306 N. 107th St Longmont\, CO\, 80504\nContact: Bob McCarty\, 303-776-9859; Facebook: Yesteryear Farm Show\nThe Tractor Above will be auctioned off at the Farm Show!
URL:http://oldirongarage.com/event/yesteryear-farm-show/2025-06-26/
LOCATION:KY
END:VEVENT
BEGIN:VEVENT
DTSTART;TZID=America/Chicago:20250626T090000
DTEND;TZID=America/Chicago:20250626T160000
DTSTAMP:20260421T144302
CREATED:20240522T144554Z
LAST-MODIFIED:20240522T144554Z
UID:10000509-1750928400-1750953600@oldirongarage.com
SUMMARY:Colorado State Fair Antique Equipment Display
DESCRIPTION:Colorado State Fair Antique Equipment Display\nWhen: August 23-September 2\, 2024\nWhere: 1001 Beulah Ave\, Pueblo\, CO 81004\nContact: Steve Stratton\, 719-250-7279; Email: stevestratman@yahoo.com; www\,frapausa.com; Facebook: Front Range Antique Power Assn.
URL:http://oldirongarage.com/event/colorado-state-fair-antique-equipment-display/2025-06-26/
LOCATION:KY
END:VEVENT
BEGIN:VEVENT
DTSTART;TZID=America/Chicago:20250626T090000
DTEND;TZID=America/Chicago:20250626T170000
DTSTAMP:20260421T144302
CREATED:20240522T161320Z
LAST-MODIFIED:20240522T161320Z
UID:10001221-1750928400-1750957200@oldirongarage.com
SUMMARY:Connecticut Antique Machinery Association Museum Annual Fall Festival
DESCRIPTION:Connecticut Antique Machinery Association Museum Annual Fall Festival\nWhen: September 27-29\, 2024\nWhere: 31B Kent-Cornwall Rd (Rt. 7) Kent\, CT\, 06757; 1 Mile North of town center\nContact: John Pawloski\, 860-354-0296; Email: j.a.pawloski@att.net; www.ctamachinery.com\, Facebook: Connecticut Antique Machinery Association
URL:http://oldirongarage.com/event/connecticut-antique-machinery-association-museum-annual-fall-festival-2/2025-06-26/
LOCATION:KY
END:VEVENT
BEGIN:VEVENT
DTSTART;TZID=America/Chicago:20250627T080000
DTEND;TZID=America/Chicago:20250627T200000
DTSTAMP:20260421T144302
CREATED:20240522T145203Z
LAST-MODIFIED:20240522T145203Z
UID:10000886-1751011200-1751054400@oldirongarage.com
SUMMARY:Yesteryear Farm Show
DESCRIPTION:When: August 23-25\, 2024\nWhere: Dougherty Museum\, 8306 N. 107th St Longmont\, CO\, 80504\nContact: Bob McCarty\, 303-776-9859; Facebook: Yesteryear Farm Show\nThe Tractor Above will be auctioned off at the Farm Show!
URL:http://oldirongarage.com/event/yesteryear-farm-show/2025-06-27/
LOCATION:KY
END:VEVENT
BEGIN:VEVENT
DTSTART;TZID=America/Chicago:20250627T090000
DTEND;TZID=America/Chicago:20250627T160000
DTSTAMP:20260421T144302
CREATED:20240522T144554Z
LAST-MODIFIED:20240522T144554Z
UID:10000510-1751014800-1751040000@oldirongarage.com
SUMMARY:Colorado State Fair Antique Equipment Display
DESCRIPTION:Colorado State Fair Antique Equipment Display\nWhen: August 23-September 2\, 2024\nWhere: 1001 Beulah Ave\, Pueblo\, CO 81004\nContact: Steve Stratton\, 719-250-7279; Email: stevestratman@yahoo.com; www\,frapausa.com; Facebook: Front Range Antique Power Assn.
URL:http://oldirongarage.com/event/colorado-state-fair-antique-equipment-display/2025-06-27/
LOCATION:KY
END:VEVENT
BEGIN:VEVENT
DTSTART;TZID=America/Chicago:20250627T090000
DTEND;TZID=America/Chicago:20250627T170000
DTSTAMP:20260421T144302
CREATED:20240522T161320Z
LAST-MODIFIED:20240522T161320Z
UID:10001222-1751014800-1751043600@oldirongarage.com
SUMMARY:Connecticut Antique Machinery Association Museum Annual Fall Festival
DESCRIPTION:Connecticut Antique Machinery Association Museum Annual Fall Festival\nWhen: September 27-29\, 2024\nWhere: 31B Kent-Cornwall Rd (Rt. 7) Kent\, CT\, 06757; 1 Mile North of town center\nContact: John Pawloski\, 860-354-0296; Email: j.a.pawloski@att.net; www.ctamachinery.com\, Facebook: Connecticut Antique Machinery Association
URL:http://oldirongarage.com/event/connecticut-antique-machinery-association-museum-annual-fall-festival-2/2025-06-27/
LOCATION:KY
END:VEVENT
BEGIN:VEVENT
DTSTART;TZID=America/Chicago:20250628T080000
DTEND;TZID=America/Chicago:20250628T200000
DTSTAMP:20260421T144302
CREATED:20240522T145203Z
LAST-MODIFIED:20240522T145203Z
UID:10000887-1751097600-1751140800@oldirongarage.com
SUMMARY:Yesteryear Farm Show
DESCRIPTION:When: August 23-25\, 2024\nWhere: Dougherty Museum\, 8306 N. 107th St Longmont\, CO\, 80504\nContact: Bob McCarty\, 303-776-9859; Facebook: Yesteryear Farm Show\nThe Tractor Above will be auctioned off at the Farm Show!
URL:http://oldirongarage.com/event/yesteryear-farm-show/2025-06-28/
LOCATION:KY
END:VEVENT
BEGIN:VEVENT
DTSTART;TZID=America/Chicago:20250628T090000
DTEND;TZID=America/Chicago:20250628T160000
DTSTAMP:20260421T144302
CREATED:20240522T144554Z
LAST-MODIFIED:20240522T144554Z
UID:10000511-1751101200-1751126400@oldirongarage.com
SUMMARY:Colorado State Fair Antique Equipment Display
DESCRIPTION:Colorado State Fair Antique Equipment Display\nWhen: August 23-September 2\, 2024\nWhere: 1001 Beulah Ave\, Pueblo\, CO 81004\nContact: Steve Stratton\, 719-250-7279; Email: stevestratman@yahoo.com; www\,frapausa.com; Facebook: Front Range Antique Power Assn.
URL:http://oldirongarage.com/event/colorado-state-fair-antique-equipment-display/2025-06-28/
LOCATION:KY
END:VEVENT
END:VCALENDAR