BEGIN:VCALENDAR
VERSION:2.0
PRODID:-//Old Iron Garage - ECPv6.6.3//NONSGML v1.0//EN
CALSCALE:GREGORIAN
METHOD:PUBLISH
X-WR-CALNAME:Old Iron Garage
X-ORIGINAL-URL:http://oldirongarage.com
X-WR-CALDESC:Events for Old Iron Garage
REFRESH-INTERVAL;VALUE=DURATION:PT1H
X-Robots-Tag:noindex
X-PUBLISHED-TTL:PT1H
BEGIN:VTIMEZONE
TZID:America/Chicago
BEGIN:DAYLIGHT
TZOFFSETFROM:-0600
TZOFFSETTO:-0500
TZNAME:CDT
DTSTART:20250309T080000
END:DAYLIGHT
BEGIN:STANDARD
TZOFFSETFROM:-0500
TZOFFSETTO:-0600
TZNAME:CST
DTSTART:20251102T070000
END:STANDARD
END:VTIMEZONE
BEGIN:VEVENT
DTSTART;TZID=America/Chicago:20250905T080000
DTEND;TZID=America/Chicago:20250907T170000
DTSTAMP:20260422T041433
CREATED:20250517T025829Z
LAST-MODIFIED:20250517T025829Z
UID:10001604-1757059200-1757264400@oldirongarage.com
SUMMARY:33rd Annual Tired Iron of the Ozarks EDGE&TA Branch 37 Fall Show Hosting the central States Hammer In & Knife Shwo
DESCRIPTION:Feature: Case tractors and Monitor gas engines \nContact: Jerry Friend\, 479-283-5287 \nemail: jerryfriend848@yahoo.com \nMatt Hyde. 479-685-9623 \nwww.tiredironoftheozarks.com
URL:http://oldirongarage.com/event/33rd-annual-tired-iron-of-the-ozarks-edgeta-branch-37-fall-show-hosting-the-central-states-hammer-in-knife-shwo/
LOCATION:Tired Iron of the Ozarks\, 13344 Taylor Orchard Road\, gentry\, AR\, 72734\, United States
CATEGORIES:Shows and Festivals
ATTACH;FMTTYPE=image/webp:http://oldirongarage.com/wp-content/uploads/2025/05/qtq_95.webp
END:VEVENT
BEGIN:VEVENT
DTSTART;TZID=America/Chicago:20250905T080000
DTEND;TZID=America/Chicago:20250907T170000
DTSTAMP:20260422T041433
CREATED:20250530T164530Z
LAST-MODIFIED:20250530T164545Z
UID:10001612-1757059200-1757264400@oldirongarage.com
SUMMARY:44th Annual Old Threshers Group of Yuma Antique Machinery & Threshing Show
DESCRIPTION:44th Annual Show on Friday \nSaturday continues with more demonstrations\, tractor pulls\, the poker run\, Parade of Power\, auction and more \nSunday finishes out the show with breakfast and a church service. Then the last demonstrations and tractor pulls. \nContact: Chad Day\, 970-630-2220 \nemail: oldthreshersyuma@gmail.com \nJodi Hansen\, 785-672-2697 \nwww.oldthreshersyuma.com \nFacebook: Old Threshers Group of Yuma
URL:http://oldirongarage.com/event/44th-annual-old-threshers-group-of-yuma-antique-machinery-threshing-show/
LOCATION:Old Threshers Fairgrounds\, Old Threshers Lane\, Yuma\, CO\, 80759\, United States
CATEGORIES:Shows and Festivals
END:VEVENT
BEGIN:VEVENT
DTSTART;TZID=America/Chicago:20250907T090000
DTEND;TZID=America/Chicago:20250907T170000
DTSTAMP:20260422T041433
CREATED:20240522T161320Z
LAST-MODIFIED:20240522T161320Z
UID:10001294-1757235600-1757264400@oldirongarage.com
SUMMARY:Connecticut Antique Machinery Association Museum Annual Fall Festival
DESCRIPTION:Connecticut Antique Machinery Association Museum Annual Fall Festival\nWhen: September 27-29\, 2024\nWhere: 31B Kent-Cornwall Rd (Rt. 7) Kent\, CT\, 06757; 1 Mile North of town center\nContact: John Pawloski\, 860-354-0296; Email: j.a.pawloski@att.net; www.ctamachinery.com\, Facebook: Connecticut Antique Machinery Association
URL:http://oldirongarage.com/event/connecticut-antique-machinery-association-museum-annual-fall-festival-2/2025-09-07/
LOCATION:IL
END:VEVENT
BEGIN:VEVENT
DTSTART;TZID=America/Chicago:20250908T090000
DTEND;TZID=America/Chicago:20250908T170000
DTSTAMP:20260422T041433
CREATED:20240522T161320Z
LAST-MODIFIED:20240522T161320Z
UID:10001295-1757322000-1757350800@oldirongarage.com
SUMMARY:Connecticut Antique Machinery Association Museum Annual Fall Festival
DESCRIPTION:Connecticut Antique Machinery Association Museum Annual Fall Festival\nWhen: September 27-29\, 2024\nWhere: 31B Kent-Cornwall Rd (Rt. 7) Kent\, CT\, 06757; 1 Mile North of town center\nContact: John Pawloski\, 860-354-0296; Email: j.a.pawloski@att.net; www.ctamachinery.com\, Facebook: Connecticut Antique Machinery Association
URL:http://oldirongarage.com/event/connecticut-antique-machinery-association-museum-annual-fall-festival-2/2025-09-08/
LOCATION:IL
END:VEVENT
BEGIN:VEVENT
DTSTART;TZID=America/Chicago:20250909T090000
DTEND;TZID=America/Chicago:20250909T170000
DTSTAMP:20260422T041433
CREATED:20240522T161320Z
LAST-MODIFIED:20240522T161320Z
UID:10001296-1757408400-1757437200@oldirongarage.com
SUMMARY:Connecticut Antique Machinery Association Museum Annual Fall Festival
DESCRIPTION:Connecticut Antique Machinery Association Museum Annual Fall Festival\nWhen: September 27-29\, 2024\nWhere: 31B Kent-Cornwall Rd (Rt. 7) Kent\, CT\, 06757; 1 Mile North of town center\nContact: John Pawloski\, 860-354-0296; Email: j.a.pawloski@att.net; www.ctamachinery.com\, Facebook: Connecticut Antique Machinery Association
URL:http://oldirongarage.com/event/connecticut-antique-machinery-association-museum-annual-fall-festival-2/2025-09-09/
LOCATION:IL
END:VEVENT
BEGIN:VEVENT
DTSTART;TZID=America/Chicago:20250910T090000
DTEND;TZID=America/Chicago:20250910T170000
DTSTAMP:20260422T041433
CREATED:20240522T161320Z
LAST-MODIFIED:20240522T161320Z
UID:10001297-1757494800-1757523600@oldirongarage.com
SUMMARY:Connecticut Antique Machinery Association Museum Annual Fall Festival
DESCRIPTION:Connecticut Antique Machinery Association Museum Annual Fall Festival\nWhen: September 27-29\, 2024\nWhere: 31B Kent-Cornwall Rd (Rt. 7) Kent\, CT\, 06757; 1 Mile North of town center\nContact: John Pawloski\, 860-354-0296; Email: j.a.pawloski@att.net; www.ctamachinery.com\, Facebook: Connecticut Antique Machinery Association
URL:http://oldirongarage.com/event/connecticut-antique-machinery-association-museum-annual-fall-festival-2/2025-09-10/
LOCATION:IL
END:VEVENT
BEGIN:VEVENT
DTSTART;TZID=America/Chicago:20250911T090000
DTEND;TZID=America/Chicago:20250911T170000
DTSTAMP:20260422T041433
CREATED:20240522T161320Z
LAST-MODIFIED:20240522T161320Z
UID:10001298-1757581200-1757610000@oldirongarage.com
SUMMARY:Connecticut Antique Machinery Association Museum Annual Fall Festival
DESCRIPTION:Connecticut Antique Machinery Association Museum Annual Fall Festival\nWhen: September 27-29\, 2024\nWhere: 31B Kent-Cornwall Rd (Rt. 7) Kent\, CT\, 06757; 1 Mile North of town center\nContact: John Pawloski\, 860-354-0296; Email: j.a.pawloski@att.net; www.ctamachinery.com\, Facebook: Connecticut Antique Machinery Association
URL:http://oldirongarage.com/event/connecticut-antique-machinery-association-museum-annual-fall-festival-2/2025-09-11/
LOCATION:IL
END:VEVENT
BEGIN:VEVENT
DTSTART;TZID=America/Chicago:20250912T080000
DTEND;TZID=America/Chicago:20250913T170000
DTSTAMP:20260422T041433
CREATED:20250701T234808Z
LAST-MODIFIED:20250701T234808Z
UID:10001620-1757664000-1757782800@oldirongarage.com
SUMMARY:40th Anniversary Georgia Antique Engine Club Farm Days of Yesteryear
DESCRIPTION:Contact: Alan Proudfoot\, 561-723-4119 \nemail: swampones@etcmail.com \nA.J. Proudfoot\, 770-331-2740 \nFacebook: Georgia Antique Engine Club
URL:http://oldirongarage.com/event/40th-anniversary-georgia-antique-engine-club-farm-days-of-yesteryear/
LOCATION:Lee Newton Park\, 599 Stegall Dr\, Jasper\, GA\, 30143\, United States
CATEGORIES:Shows and Festivals
END:VEVENT
BEGIN:VEVENT
DTSTART;TZID=America/Chicago:20250912T090000
DTEND;TZID=America/Chicago:20250912T170000
DTSTAMP:20260422T041433
CREATED:20240522T161320Z
LAST-MODIFIED:20240522T161320Z
UID:10001299-1757667600-1757696400@oldirongarage.com
SUMMARY:Connecticut Antique Machinery Association Museum Annual Fall Festival
DESCRIPTION:Connecticut Antique Machinery Association Museum Annual Fall Festival\nWhen: September 27-29\, 2024\nWhere: 31B Kent-Cornwall Rd (Rt. 7) Kent\, CT\, 06757; 1 Mile North of town center\nContact: John Pawloski\, 860-354-0296; Email: j.a.pawloski@att.net; www.ctamachinery.com\, Facebook: Connecticut Antique Machinery Association
URL:http://oldirongarage.com/event/connecticut-antique-machinery-association-museum-annual-fall-festival-2/2025-09-12/
LOCATION:IL
END:VEVENT
BEGIN:VEVENT
DTSTART;TZID=America/Chicago:20250913T090000
DTEND;TZID=America/Chicago:20250913T170000
DTSTAMP:20260422T041433
CREATED:20240522T161320Z
LAST-MODIFIED:20240522T161320Z
UID:10001300-1757754000-1757782800@oldirongarage.com
SUMMARY:Connecticut Antique Machinery Association Museum Annual Fall Festival
DESCRIPTION:Connecticut Antique Machinery Association Museum Annual Fall Festival\nWhen: September 27-29\, 2024\nWhere: 31B Kent-Cornwall Rd (Rt. 7) Kent\, CT\, 06757; 1 Mile North of town center\nContact: John Pawloski\, 860-354-0296; Email: j.a.pawloski@att.net; www.ctamachinery.com\, Facebook: Connecticut Antique Machinery Association
URL:http://oldirongarage.com/event/connecticut-antique-machinery-association-museum-annual-fall-festival-2/2025-09-13/
LOCATION:IL
END:VEVENT
BEGIN:VEVENT
DTSTART;TZID=America/Chicago:20250914T090000
DTEND;TZID=America/Chicago:20250914T170000
DTSTAMP:20260422T041433
CREATED:20240522T161320Z
LAST-MODIFIED:20240522T161320Z
UID:10001301-1757840400-1757869200@oldirongarage.com
SUMMARY:Connecticut Antique Machinery Association Museum Annual Fall Festival
DESCRIPTION:Connecticut Antique Machinery Association Museum Annual Fall Festival\nWhen: September 27-29\, 2024\nWhere: 31B Kent-Cornwall Rd (Rt. 7) Kent\, CT\, 06757; 1 Mile North of town center\nContact: John Pawloski\, 860-354-0296; Email: j.a.pawloski@att.net; www.ctamachinery.com\, Facebook: Connecticut Antique Machinery Association
URL:http://oldirongarage.com/event/connecticut-antique-machinery-association-museum-annual-fall-festival-2/2025-09-14/
LOCATION:IL
END:VEVENT
BEGIN:VEVENT
DTSTART;TZID=America/Chicago:20250915T090000
DTEND;TZID=America/Chicago:20250915T170000
DTSTAMP:20260422T041433
CREATED:20240522T161320Z
LAST-MODIFIED:20240522T161320Z
UID:10001302-1757926800-1757955600@oldirongarage.com
SUMMARY:Connecticut Antique Machinery Association Museum Annual Fall Festival
DESCRIPTION:Connecticut Antique Machinery Association Museum Annual Fall Festival\nWhen: September 27-29\, 2024\nWhere: 31B Kent-Cornwall Rd (Rt. 7) Kent\, CT\, 06757; 1 Mile North of town center\nContact: John Pawloski\, 860-354-0296; Email: j.a.pawloski@att.net; www.ctamachinery.com\, Facebook: Connecticut Antique Machinery Association
URL:http://oldirongarage.com/event/connecticut-antique-machinery-association-museum-annual-fall-festival-2/2025-09-15/
LOCATION:IL
END:VEVENT
BEGIN:VEVENT
DTSTART;TZID=America/Chicago:20250916T090000
DTEND;TZID=America/Chicago:20250916T170000
DTSTAMP:20260422T041433
CREATED:20240522T161320Z
LAST-MODIFIED:20240522T161320Z
UID:10001303-1758013200-1758042000@oldirongarage.com
SUMMARY:Connecticut Antique Machinery Association Museum Annual Fall Festival
DESCRIPTION:Connecticut Antique Machinery Association Museum Annual Fall Festival\nWhen: September 27-29\, 2024\nWhere: 31B Kent-Cornwall Rd (Rt. 7) Kent\, CT\, 06757; 1 Mile North of town center\nContact: John Pawloski\, 860-354-0296; Email: j.a.pawloski@att.net; www.ctamachinery.com\, Facebook: Connecticut Antique Machinery Association
URL:http://oldirongarage.com/event/connecticut-antique-machinery-association-museum-annual-fall-festival-2/2025-09-16/
LOCATION:IL
END:VEVENT
BEGIN:VEVENT
DTSTART;TZID=America/Chicago:20250917T090000
DTEND;TZID=America/Chicago:20250917T170000
DTSTAMP:20260422T041433
CREATED:20240522T161320Z
LAST-MODIFIED:20240522T161320Z
UID:10001304-1758099600-1758128400@oldirongarage.com
SUMMARY:Connecticut Antique Machinery Association Museum Annual Fall Festival
DESCRIPTION:Connecticut Antique Machinery Association Museum Annual Fall Festival\nWhen: September 27-29\, 2024\nWhere: 31B Kent-Cornwall Rd (Rt. 7) Kent\, CT\, 06757; 1 Mile North of town center\nContact: John Pawloski\, 860-354-0296; Email: j.a.pawloski@att.net; www.ctamachinery.com\, Facebook: Connecticut Antique Machinery Association
URL:http://oldirongarage.com/event/connecticut-antique-machinery-association-museum-annual-fall-festival-2/2025-09-17/
LOCATION:IL
END:VEVENT
BEGIN:VEVENT
DTSTART;TZID=America/Chicago:20250918T090000
DTEND;TZID=America/Chicago:20250918T170000
DTSTAMP:20260422T041433
CREATED:20240522T161320Z
LAST-MODIFIED:20240522T161320Z
UID:10001305-1758186000-1758214800@oldirongarage.com
SUMMARY:Connecticut Antique Machinery Association Museum Annual Fall Festival
DESCRIPTION:Connecticut Antique Machinery Association Museum Annual Fall Festival\nWhen: September 27-29\, 2024\nWhere: 31B Kent-Cornwall Rd (Rt. 7) Kent\, CT\, 06757; 1 Mile North of town center\nContact: John Pawloski\, 860-354-0296; Email: j.a.pawloski@att.net; www.ctamachinery.com\, Facebook: Connecticut Antique Machinery Association
URL:http://oldirongarage.com/event/connecticut-antique-machinery-association-museum-annual-fall-festival-2/2025-09-18/
LOCATION:IL
END:VEVENT
BEGIN:VEVENT
DTSTART;TZID=America/Chicago:20250919T080000
DTEND;TZID=America/Chicago:20250920T170000
DTSTAMP:20260422T041433
CREATED:20250530T170136Z
LAST-MODIFIED:20250530T170136Z
UID:10001614-1758268800-1758387600@oldirongarage.com
SUMMARY:Tobacco Valley Flywheelers 45th Annual Antique Engine & Tractor Show
DESCRIPTION:Contact: Randall Root\, 860-301-6933 \nemail: tvflywheelers@gmail.com \nwww.tvflywheelers.org \nFacebook: Tobacco Valley Flywheelers \ntake exit 19 off CT-9 S\, turn right at the end of the exit ramp\, follow Route 154 for approximately 4 miles
URL:http://oldirongarage.com/event/tobacco-valley-flywheelers-45th-annual-antique-engine-tractor-show/
LOCATION:Haddam Meadows State Park\, 820 Saybrook Road\, Haddam\, CT\, 06438\, United States
CATEGORIES:Shows and Festivals
ATTACH;FMTTYPE=image/jpeg:http://oldirongarage.com/wp-content/uploads/2025/05/Logo4.jpg
END:VEVENT
BEGIN:VEVENT
DTSTART;TZID=America/Chicago:20250919T080000
DTEND;TZID=America/Chicago:20250921T170000
DTSTAMP:20260422T041433
CREATED:20250702T005937Z
LAST-MODIFIED:20250702T005937Z
UID:10001621-1758268800-1758474000@oldirongarage.com
SUMMARY:Inman Farm Heritage Days
DESCRIPTION:Contact: Stephanie Adamek\, 770-296-8360 \nemail: stephanie@mintersfarm.com \nwww.mintersfarm.com \nFacebook: Inman Farm
URL:http://oldirongarage.com/event/inman-farm-heritage-days/
LOCATION:Inman Farm\, 599 Stegall Dr\, Jasper\, GA\, 30143\, United States
CATEGORIES:Shows and Festivals
END:VEVENT
BEGIN:VEVENT
DTSTART;TZID=America/Chicago:20250919T090000
DTEND;TZID=America/Chicago:20250919T170000
DTSTAMP:20260422T041433
CREATED:20240522T161320Z
LAST-MODIFIED:20240522T161320Z
UID:10001306-1758272400-1758301200@oldirongarage.com
SUMMARY:Connecticut Antique Machinery Association Museum Annual Fall Festival
DESCRIPTION:Connecticut Antique Machinery Association Museum Annual Fall Festival\nWhen: September 27-29\, 2024\nWhere: 31B Kent-Cornwall Rd (Rt. 7) Kent\, CT\, 06757; 1 Mile North of town center\nContact: John Pawloski\, 860-354-0296; Email: j.a.pawloski@att.net; www.ctamachinery.com\, Facebook: Connecticut Antique Machinery Association
URL:http://oldirongarage.com/event/connecticut-antique-machinery-association-museum-annual-fall-festival-2/2025-09-19/
LOCATION:IL
END:VEVENT
BEGIN:VEVENT
DTSTART;TZID=America/Chicago:20250920T090000
DTEND;TZID=America/Chicago:20250920T170000
DTSTAMP:20260422T041433
CREATED:20240522T161320Z
LAST-MODIFIED:20240522T161320Z
UID:10001307-1758358800-1758387600@oldirongarage.com
SUMMARY:Connecticut Antique Machinery Association Museum Annual Fall Festival
DESCRIPTION:Connecticut Antique Machinery Association Museum Annual Fall Festival\nWhen: September 27-29\, 2024\nWhere: 31B Kent-Cornwall Rd (Rt. 7) Kent\, CT\, 06757; 1 Mile North of town center\nContact: John Pawloski\, 860-354-0296; Email: j.a.pawloski@att.net; www.ctamachinery.com\, Facebook: Connecticut Antique Machinery Association
URL:http://oldirongarage.com/event/connecticut-antique-machinery-association-museum-annual-fall-festival-2/2025-09-20/
LOCATION:IL
END:VEVENT
BEGIN:VEVENT
DTSTART;TZID=America/Chicago:20250921T090000
DTEND;TZID=America/Chicago:20250921T170000
DTSTAMP:20260422T041433
CREATED:20240522T161320Z
LAST-MODIFIED:20240522T161320Z
UID:10001308-1758445200-1758474000@oldirongarage.com
SUMMARY:Connecticut Antique Machinery Association Museum Annual Fall Festival
DESCRIPTION:Connecticut Antique Machinery Association Museum Annual Fall Festival\nWhen: September 27-29\, 2024\nWhere: 31B Kent-Cornwall Rd (Rt. 7) Kent\, CT\, 06757; 1 Mile North of town center\nContact: John Pawloski\, 860-354-0296; Email: j.a.pawloski@att.net; www.ctamachinery.com\, Facebook: Connecticut Antique Machinery Association
URL:http://oldirongarage.com/event/connecticut-antique-machinery-association-museum-annual-fall-festival-2/2025-09-21/
LOCATION:IL
END:VEVENT
BEGIN:VEVENT
DTSTART;TZID=America/Chicago:20250922T090000
DTEND;TZID=America/Chicago:20250922T170000
DTSTAMP:20260422T041433
CREATED:20240522T161320Z
LAST-MODIFIED:20240522T161320Z
UID:10001309-1758531600-1758560400@oldirongarage.com
SUMMARY:Connecticut Antique Machinery Association Museum Annual Fall Festival
DESCRIPTION:Connecticut Antique Machinery Association Museum Annual Fall Festival\nWhen: September 27-29\, 2024\nWhere: 31B Kent-Cornwall Rd (Rt. 7) Kent\, CT\, 06757; 1 Mile North of town center\nContact: John Pawloski\, 860-354-0296; Email: j.a.pawloski@att.net; www.ctamachinery.com\, Facebook: Connecticut Antique Machinery Association
URL:http://oldirongarage.com/event/connecticut-antique-machinery-association-museum-annual-fall-festival-2/2025-09-22/
LOCATION:IL
END:VEVENT
BEGIN:VEVENT
DTSTART;TZID=America/Chicago:20250923T090000
DTEND;TZID=America/Chicago:20250923T170000
DTSTAMP:20260422T041433
CREATED:20240522T161320Z
LAST-MODIFIED:20240522T161320Z
UID:10001310-1758618000-1758646800@oldirongarage.com
SUMMARY:Connecticut Antique Machinery Association Museum Annual Fall Festival
DESCRIPTION:Connecticut Antique Machinery Association Museum Annual Fall Festival\nWhen: September 27-29\, 2024\nWhere: 31B Kent-Cornwall Rd (Rt. 7) Kent\, CT\, 06757; 1 Mile North of town center\nContact: John Pawloski\, 860-354-0296; Email: j.a.pawloski@att.net; www.ctamachinery.com\, Facebook: Connecticut Antique Machinery Association
URL:http://oldirongarage.com/event/connecticut-antique-machinery-association-museum-annual-fall-festival-2/2025-09-23/
LOCATION:IL
END:VEVENT
BEGIN:VEVENT
DTSTART;TZID=America/Chicago:20250924T090000
DTEND;TZID=America/Chicago:20250924T170000
DTSTAMP:20260422T041433
CREATED:20240522T161320Z
LAST-MODIFIED:20240522T161320Z
UID:10001311-1758704400-1758733200@oldirongarage.com
SUMMARY:Connecticut Antique Machinery Association Museum Annual Fall Festival
DESCRIPTION:Connecticut Antique Machinery Association Museum Annual Fall Festival\nWhen: September 27-29\, 2024\nWhere: 31B Kent-Cornwall Rd (Rt. 7) Kent\, CT\, 06757; 1 Mile North of town center\nContact: John Pawloski\, 860-354-0296; Email: j.a.pawloski@att.net; www.ctamachinery.com\, Facebook: Connecticut Antique Machinery Association
URL:http://oldirongarage.com/event/connecticut-antique-machinery-association-museum-annual-fall-festival-2/2025-09-24/
LOCATION:IL
END:VEVENT
BEGIN:VEVENT
DTSTART;TZID=America/Chicago:20250925T090000
DTEND;TZID=America/Chicago:20250925T170000
DTSTAMP:20260422T041433
CREATED:20240522T161320Z
LAST-MODIFIED:20240522T161320Z
UID:10001312-1758790800-1758819600@oldirongarage.com
SUMMARY:Connecticut Antique Machinery Association Museum Annual Fall Festival
DESCRIPTION:Connecticut Antique Machinery Association Museum Annual Fall Festival\nWhen: September 27-29\, 2024\nWhere: 31B Kent-Cornwall Rd (Rt. 7) Kent\, CT\, 06757; 1 Mile North of town center\nContact: John Pawloski\, 860-354-0296; Email: j.a.pawloski@att.net; www.ctamachinery.com\, Facebook: Connecticut Antique Machinery Association
URL:http://oldirongarage.com/event/connecticut-antique-machinery-association-museum-annual-fall-festival-2/2025-09-25/
LOCATION:IL
END:VEVENT
BEGIN:VEVENT
DTSTART;TZID=America/Chicago:20250926T090000
DTEND;TZID=America/Chicago:20250926T170000
DTSTAMP:20260422T041433
CREATED:20240522T161320Z
LAST-MODIFIED:20240522T161320Z
UID:10001313-1758877200-1758906000@oldirongarage.com
SUMMARY:Connecticut Antique Machinery Association Museum Annual Fall Festival
DESCRIPTION:Connecticut Antique Machinery Association Museum Annual Fall Festival\nWhen: September 27-29\, 2024\nWhere: 31B Kent-Cornwall Rd (Rt. 7) Kent\, CT\, 06757; 1 Mile North of town center\nContact: John Pawloski\, 860-354-0296; Email: j.a.pawloski@att.net; www.ctamachinery.com\, Facebook: Connecticut Antique Machinery Association
URL:http://oldirongarage.com/event/connecticut-antique-machinery-association-museum-annual-fall-festival-2/2025-09-26/
LOCATION:IL
END:VEVENT
BEGIN:VEVENT
DTSTART;TZID=America/Chicago:20250927T090000
DTEND;TZID=America/Chicago:20250927T170000
DTSTAMP:20260422T041433
CREATED:20240522T161320Z
LAST-MODIFIED:20240522T161320Z
UID:10001314-1758963600-1758992400@oldirongarage.com
SUMMARY:Connecticut Antique Machinery Association Museum Annual Fall Festival
DESCRIPTION:Connecticut Antique Machinery Association Museum Annual Fall Festival\nWhen: September 27-29\, 2024\nWhere: 31B Kent-Cornwall Rd (Rt. 7) Kent\, CT\, 06757; 1 Mile North of town center\nContact: John Pawloski\, 860-354-0296; Email: j.a.pawloski@att.net; www.ctamachinery.com\, Facebook: Connecticut Antique Machinery Association
URL:http://oldirongarage.com/event/connecticut-antique-machinery-association-museum-annual-fall-festival-2/2025-09-27/
LOCATION:IL
END:VEVENT
BEGIN:VEVENT
DTSTART;TZID=America/Chicago:20250928T090000
DTEND;TZID=America/Chicago:20250928T170000
DTSTAMP:20260422T041433
CREATED:20240522T161320Z
LAST-MODIFIED:20240522T161320Z
UID:10001315-1759050000-1759078800@oldirongarage.com
SUMMARY:Connecticut Antique Machinery Association Museum Annual Fall Festival
DESCRIPTION:Connecticut Antique Machinery Association Museum Annual Fall Festival\nWhen: September 27-29\, 2024\nWhere: 31B Kent-Cornwall Rd (Rt. 7) Kent\, CT\, 06757; 1 Mile North of town center\nContact: John Pawloski\, 860-354-0296; Email: j.a.pawloski@att.net; www.ctamachinery.com\, Facebook: Connecticut Antique Machinery Association
URL:http://oldirongarage.com/event/connecticut-antique-machinery-association-museum-annual-fall-festival-2/2025-09-28/
LOCATION:IL
END:VEVENT
BEGIN:VEVENT
DTSTART;TZID=America/Chicago:20250929T090000
DTEND;TZID=America/Chicago:20250929T170000
DTSTAMP:20260422T041433
CREATED:20240522T161320Z
LAST-MODIFIED:20240522T161320Z
UID:10001316-1759136400-1759165200@oldirongarage.com
SUMMARY:Connecticut Antique Machinery Association Museum Annual Fall Festival
DESCRIPTION:Connecticut Antique Machinery Association Museum Annual Fall Festival\nWhen: September 27-29\, 2024\nWhere: 31B Kent-Cornwall Rd (Rt. 7) Kent\, CT\, 06757; 1 Mile North of town center\nContact: John Pawloski\, 860-354-0296; Email: j.a.pawloski@att.net; www.ctamachinery.com\, Facebook: Connecticut Antique Machinery Association
URL:http://oldirongarage.com/event/connecticut-antique-machinery-association-museum-annual-fall-festival-2/2025-09-29/
LOCATION:IL
END:VEVENT
BEGIN:VEVENT
DTSTART;TZID=America/Chicago:20251005T080000
DTEND;TZID=America/Chicago:20251005T170000
DTSTAMP:20260422T041433
CREATED:20250517T013214Z
LAST-MODIFIED:20250517T013214Z
UID:10001597-1759651200-1759683600@oldirongarage.com
SUMMARY:EDGE&TA Eastern Regional Show
DESCRIPTION:Contact: Darrell Suddeth\, 251-978-0662 \nemail: kathymsudduth@gmail.com
URL:http://oldirongarage.com/event/edgeta-eastern-regional-show/
LOCATION:Downtown Stockton\, Stockton\, AL\, United States
CATEGORIES:Shows and Festivals
END:VEVENT
BEGIN:VEVENT
DTSTART;TZID=America/Chicago:20251010T080000
DTEND;TZID=America/Chicago:20251011T170000
DTSTAMP:20260422T041433
CREATED:20250517T030757Z
LAST-MODIFIED:20250517T030757Z
UID:10001606-1760083200-1760202000@oldirongarage.com
SUMMARY:North Arkansas Rusty Wheels Old Engine Club Fall Show
DESCRIPTION:The featured tractor for this year is the John Deere and our engine is the Nova series.  ALL tractors and engines are welcome to be displayed for others to enjoy. \n​Other features include an old fashion saw mill\, shingle mill and other hit and miss working engines \nContact: Mickey Jones\, 870-429-5523 \nwww.rustywheelsusa.com \n 
URL:http://oldirongarage.com/event/north-arkansas-rusty-wheels-old-engine-club-fall-show-2/
LOCATION:Rusty Wheels\, 5722 Hwy 65 S\, harrison\, 72601\, United States
CATEGORIES:Shows and Festivals
ATTACH;FMTTYPE=image/jpeg:http://oldirongarage.com/wp-content/uploads/2025/05/th.jpg
END:VEVENT
END:VCALENDAR