BEGIN:VCALENDAR
VERSION:2.0
PRODID:-//Old Iron Garage - ECPv6.6.3//NONSGML v1.0//EN
CALSCALE:GREGORIAN
METHOD:PUBLISH
X-ORIGINAL-URL:http://oldirongarage.com
X-WR-CALDESC:Events for Old Iron Garage
REFRESH-INTERVAL;VALUE=DURATION:PT1H
X-Robots-Tag:noindex
X-PUBLISHED-TTL:PT1H
BEGIN:VTIMEZONE
TZID:America/Chicago
BEGIN:DAYLIGHT
TZOFFSETFROM:-0600
TZOFFSETTO:-0500
TZNAME:CDT
DTSTART:20250309T080000
END:DAYLIGHT
BEGIN:STANDARD
TZOFFSETFROM:-0500
TZOFFSETTO:-0600
TZNAME:CST
DTSTART:20251102T070000
END:STANDARD
END:VTIMEZONE
BEGIN:VEVENT
DTSTART;TZID=America/Chicago:20250606T080000
DTEND;TZID=America/Chicago:20250607T170000
DTSTAMP:20260421T010148
CREATED:20250517T024224Z
LAST-MODIFIED:20250517T024224Z
UID:10001602-1749196800-1749315600@oldirongarage.com
SUMMARY:25th Annual Arkansas Valley Antique Tractor Show & EDGETA Regional Show
DESCRIPTION:Feature: John Deere \nContact: Clyde Traylor\, 479-650-0768 \nemail: tractorhauler47@gmail.com \nBill Garner\, 479-206-0104 \nFacebook: Arkansas Valley Antique Tractor Club
URL:http://oldirongarage.com/event/25th-annual-arkansas-valley-antique-tractor-show-edgeta-regional-show/
LOCATION:North Franklin County Fairgrounds\, 724 N 29th St\, Ozark\, AR\, 72949\, United States
CATEGORIES:Shows and Festivals
END:VEVENT
BEGIN:VEVENT
DTSTART;TZID=America/Chicago:20250607T080000
DTEND;TZID=America/Chicago:20250607T140000
DTSTAMP:20260421T010148
CREATED:20250517T010515Z
LAST-MODIFIED:20250517T010515Z
UID:10001593-1749283200-1749304800@oldirongarage.com
SUMMARY:Lawrence County Tractor & Engine Club
DESCRIPTION:Lawrence County Antique Engine and Tractor Club Annual Show \nJune 7. 2025 Mt Hope Baptist Church Soccer Fields \n8am to 2 pm Rain or shine \ntractor games and fun times\, chain in a box\, bucket race\, slow drag\, ping pong ball on a cone\, barrel race\, blind man bluff\, skillet toss\, wagon backing\, pedal tractor races\, pedal tractor pulls\, (subject to participation) \nFood vendors will be available \nAll vendors welcome \nContact: Dwight Bowling\, 256-353-5167 \nTim Flannigan\, 256-303-1437 \nJonathan Henderson\, 256-280-6350 \nFacebook: Lawrence County Tractor Club
URL:http://oldirongarage.com/event/lawrence-county-tractor-engine-club/
LOCATION:Mount Hope Baptist Church\, 1771 Co Rd 23\, Mount Hope\, AL\, 35651\, United States
CATEGORIES:Shows and Festivals
ATTACH;FMTTYPE=image/jpeg:http://oldirongarage.com/wp-content/uploads/2025/05/492154572_10227304118219796_824138280810640522_n-1-e1747443829670.jpg
END:VEVENT
BEGIN:VEVENT
DTSTART;TZID=America/Chicago:20250607T080000
DTEND;TZID=America/Chicago:20250607T200000
DTSTAMP:20260421T010148
CREATED:20240522T145203Z
LAST-MODIFIED:20240522T145203Z
UID:10000866-1749283200-1749326400@oldirongarage.com
SUMMARY:Yesteryear Farm Show
DESCRIPTION:When: August 23-25\, 2024\nWhere: Dougherty Museum\, 8306 N. 107th St Longmont\, CO\, 80504\nContact: Bob McCarty\, 303-776-9859; Facebook: Yesteryear Farm Show\nThe Tractor Above will be auctioned off at the Farm Show!
URL:http://oldirongarage.com/event/yesteryear-farm-show/2025-06-07/
LOCATION:IL
END:VEVENT
BEGIN:VEVENT
DTSTART;TZID=America/Chicago:20250607T080000
DTEND;TZID=America/Chicago:20250608T170000
DTSTAMP:20260421T010148
CREATED:20250517T031729Z
LAST-MODIFIED:20250517T031729Z
UID:10001608-1749283200-1749402000@oldirongarage.com
SUMMARY:EDGE&TA Southwest Regional Show
DESCRIPTION:Contact: Casey Warner\, 530-990-6197 \nemail: caseywilmunder@yahoo.com
URL:http://oldirongarage.com/event/edgeta-southwest-regional-show/
LOCATION:HIstoric Patrick Ranch Museum\, 10381 Midway\, Durham\, CA\, 95938\, United States
CATEGORIES:Shows and Festivals
END:VEVENT
BEGIN:VEVENT
DTSTART;TZID=America/Chicago:20250607T090000
DTEND;TZID=America/Chicago:20250607T160000
DTSTAMP:20260421T010148
CREATED:20240522T144554Z
LAST-MODIFIED:20240522T144554Z
UID:10000490-1749286800-1749312000@oldirongarage.com
SUMMARY:Colorado State Fair Antique Equipment Display
DESCRIPTION:Colorado State Fair Antique Equipment Display\nWhen: August 23-September 2\, 2024\nWhere: 1001 Beulah Ave\, Pueblo\, CO 81004\nContact: Steve Stratton\, 719-250-7279; Email: stevestratman@yahoo.com; www\,frapausa.com; Facebook: Front Range Antique Power Assn.
URL:http://oldirongarage.com/event/colorado-state-fair-antique-equipment-display/2025-06-07/
LOCATION:IL
END:VEVENT
BEGIN:VEVENT
DTSTART;TZID=America/Chicago:20250607T090000
DTEND;TZID=America/Chicago:20250607T170000
DTSTAMP:20260421T010148
CREATED:20240522T161320Z
LAST-MODIFIED:20240522T161320Z
UID:10001202-1749286800-1749315600@oldirongarage.com
SUMMARY:Connecticut Antique Machinery Association Museum Annual Fall Festival
DESCRIPTION:Connecticut Antique Machinery Association Museum Annual Fall Festival\nWhen: September 27-29\, 2024\nWhere: 31B Kent-Cornwall Rd (Rt. 7) Kent\, CT\, 06757; 1 Mile North of town center\nContact: John Pawloski\, 860-354-0296; Email: j.a.pawloski@att.net; www.ctamachinery.com\, Facebook: Connecticut Antique Machinery Association
URL:http://oldirongarage.com/event/connecticut-antique-machinery-association-museum-annual-fall-festival-2/2025-06-07/
LOCATION:IL
END:VEVENT
BEGIN:VEVENT
DTSTART;TZID=America/Chicago:20250608T080000
DTEND;TZID=America/Chicago:20250608T200000
DTSTAMP:20260421T010148
CREATED:20240522T145203Z
LAST-MODIFIED:20240522T145203Z
UID:10000867-1749369600-1749412800@oldirongarage.com
SUMMARY:Yesteryear Farm Show
DESCRIPTION:When: August 23-25\, 2024\nWhere: Dougherty Museum\, 8306 N. 107th St Longmont\, CO\, 80504\nContact: Bob McCarty\, 303-776-9859; Facebook: Yesteryear Farm Show\nThe Tractor Above will be auctioned off at the Farm Show!
URL:http://oldirongarage.com/event/yesteryear-farm-show/2025-06-08/
LOCATION:IL
END:VEVENT
BEGIN:VEVENT
DTSTART;TZID=America/Chicago:20250608T090000
DTEND;TZID=America/Chicago:20250608T160000
DTSTAMP:20260421T010148
CREATED:20240522T144554Z
LAST-MODIFIED:20240522T144554Z
UID:10000491-1749373200-1749398400@oldirongarage.com
SUMMARY:Colorado State Fair Antique Equipment Display
DESCRIPTION:Colorado State Fair Antique Equipment Display\nWhen: August 23-September 2\, 2024\nWhere: 1001 Beulah Ave\, Pueblo\, CO 81004\nContact: Steve Stratton\, 719-250-7279; Email: stevestratman@yahoo.com; www\,frapausa.com; Facebook: Front Range Antique Power Assn.
URL:http://oldirongarage.com/event/colorado-state-fair-antique-equipment-display/2025-06-08/
LOCATION:IL
END:VEVENT
BEGIN:VEVENT
DTSTART;TZID=America/Chicago:20250608T090000
DTEND;TZID=America/Chicago:20250608T170000
DTSTAMP:20260421T010148
CREATED:20240522T161320Z
LAST-MODIFIED:20240522T161320Z
UID:10001203-1749373200-1749402000@oldirongarage.com
SUMMARY:Connecticut Antique Machinery Association Museum Annual Fall Festival
DESCRIPTION:Connecticut Antique Machinery Association Museum Annual Fall Festival\nWhen: September 27-29\, 2024\nWhere: 31B Kent-Cornwall Rd (Rt. 7) Kent\, CT\, 06757; 1 Mile North of town center\nContact: John Pawloski\, 860-354-0296; Email: j.a.pawloski@att.net; www.ctamachinery.com\, Facebook: Connecticut Antique Machinery Association
URL:http://oldirongarage.com/event/connecticut-antique-machinery-association-museum-annual-fall-festival-2/2025-06-08/
LOCATION:IL
END:VEVENT
BEGIN:VEVENT
DTSTART;TZID=America/Chicago:20250609T080000
DTEND;TZID=America/Chicago:20250609T200000
DTSTAMP:20260421T010148
CREATED:20240522T145203Z
LAST-MODIFIED:20240522T145203Z
UID:10000868-1749456000-1749499200@oldirongarage.com
SUMMARY:Yesteryear Farm Show
DESCRIPTION:When: August 23-25\, 2024\nWhere: Dougherty Museum\, 8306 N. 107th St Longmont\, CO\, 80504\nContact: Bob McCarty\, 303-776-9859; Facebook: Yesteryear Farm Show\nThe Tractor Above will be auctioned off at the Farm Show!
URL:http://oldirongarage.com/event/yesteryear-farm-show/2025-06-09/
LOCATION:IL
END:VEVENT
BEGIN:VEVENT
DTSTART;TZID=America/Chicago:20250609T090000
DTEND;TZID=America/Chicago:20250609T160000
DTSTAMP:20260421T010148
CREATED:20240522T144554Z
LAST-MODIFIED:20240522T144554Z
UID:10000492-1749459600-1749484800@oldirongarage.com
SUMMARY:Colorado State Fair Antique Equipment Display
DESCRIPTION:Colorado State Fair Antique Equipment Display\nWhen: August 23-September 2\, 2024\nWhere: 1001 Beulah Ave\, Pueblo\, CO 81004\nContact: Steve Stratton\, 719-250-7279; Email: stevestratman@yahoo.com; www\,frapausa.com; Facebook: Front Range Antique Power Assn.
URL:http://oldirongarage.com/event/colorado-state-fair-antique-equipment-display/2025-06-09/
LOCATION:IL
END:VEVENT
BEGIN:VEVENT
DTSTART;TZID=America/Chicago:20250609T090000
DTEND;TZID=America/Chicago:20250609T170000
DTSTAMP:20260421T010148
CREATED:20240522T161320Z
LAST-MODIFIED:20240522T161320Z
UID:10001204-1749459600-1749488400@oldirongarage.com
SUMMARY:Connecticut Antique Machinery Association Museum Annual Fall Festival
DESCRIPTION:Connecticut Antique Machinery Association Museum Annual Fall Festival\nWhen: September 27-29\, 2024\nWhere: 31B Kent-Cornwall Rd (Rt. 7) Kent\, CT\, 06757; 1 Mile North of town center\nContact: John Pawloski\, 860-354-0296; Email: j.a.pawloski@att.net; www.ctamachinery.com\, Facebook: Connecticut Antique Machinery Association
URL:http://oldirongarage.com/event/connecticut-antique-machinery-association-museum-annual-fall-festival-2/2025-06-09/
LOCATION:IL
END:VEVENT
BEGIN:VEVENT
DTSTART;TZID=America/Chicago:20250610T080000
DTEND;TZID=America/Chicago:20250610T200000
DTSTAMP:20260421T010148
CREATED:20240522T145203Z
LAST-MODIFIED:20240522T145203Z
UID:10000869-1749542400-1749585600@oldirongarage.com
SUMMARY:Yesteryear Farm Show
DESCRIPTION:When: August 23-25\, 2024\nWhere: Dougherty Museum\, 8306 N. 107th St Longmont\, CO\, 80504\nContact: Bob McCarty\, 303-776-9859; Facebook: Yesteryear Farm Show\nThe Tractor Above will be auctioned off at the Farm Show!
URL:http://oldirongarage.com/event/yesteryear-farm-show/2025-06-10/
LOCATION:IL
END:VEVENT
BEGIN:VEVENT
DTSTART;TZID=America/Chicago:20250610T090000
DTEND;TZID=America/Chicago:20250610T160000
DTSTAMP:20260421T010148
CREATED:20240522T144554Z
LAST-MODIFIED:20240522T144554Z
UID:10000493-1749546000-1749571200@oldirongarage.com
SUMMARY:Colorado State Fair Antique Equipment Display
DESCRIPTION:Colorado State Fair Antique Equipment Display\nWhen: August 23-September 2\, 2024\nWhere: 1001 Beulah Ave\, Pueblo\, CO 81004\nContact: Steve Stratton\, 719-250-7279; Email: stevestratman@yahoo.com; www\,frapausa.com; Facebook: Front Range Antique Power Assn.
URL:http://oldirongarage.com/event/colorado-state-fair-antique-equipment-display/2025-06-10/
LOCATION:IL
END:VEVENT
BEGIN:VEVENT
DTSTART;TZID=America/Chicago:20250610T090000
DTEND;TZID=America/Chicago:20250610T170000
DTSTAMP:20260421T010148
CREATED:20240522T161320Z
LAST-MODIFIED:20240522T161320Z
UID:10001205-1749546000-1749574800@oldirongarage.com
SUMMARY:Connecticut Antique Machinery Association Museum Annual Fall Festival
DESCRIPTION:Connecticut Antique Machinery Association Museum Annual Fall Festival\nWhen: September 27-29\, 2024\nWhere: 31B Kent-Cornwall Rd (Rt. 7) Kent\, CT\, 06757; 1 Mile North of town center\nContact: John Pawloski\, 860-354-0296; Email: j.a.pawloski@att.net; www.ctamachinery.com\, Facebook: Connecticut Antique Machinery Association
URL:http://oldirongarage.com/event/connecticut-antique-machinery-association-museum-annual-fall-festival-2/2025-06-10/
LOCATION:IL
END:VEVENT
BEGIN:VEVENT
DTSTART;TZID=America/Chicago:20250611T080000
DTEND;TZID=America/Chicago:20250611T200000
DTSTAMP:20260421T010148
CREATED:20240522T145203Z
LAST-MODIFIED:20240522T145203Z
UID:10000870-1749628800-1749672000@oldirongarage.com
SUMMARY:Yesteryear Farm Show
DESCRIPTION:When: August 23-25\, 2024\nWhere: Dougherty Museum\, 8306 N. 107th St Longmont\, CO\, 80504\nContact: Bob McCarty\, 303-776-9859; Facebook: Yesteryear Farm Show\nThe Tractor Above will be auctioned off at the Farm Show!
URL:http://oldirongarage.com/event/yesteryear-farm-show/2025-06-11/
LOCATION:IL
END:VEVENT
BEGIN:VEVENT
DTSTART;TZID=America/Chicago:20250611T090000
DTEND;TZID=America/Chicago:20250611T160000
DTSTAMP:20260421T010148
CREATED:20240522T144554Z
LAST-MODIFIED:20240522T144554Z
UID:10000494-1749632400-1749657600@oldirongarage.com
SUMMARY:Colorado State Fair Antique Equipment Display
DESCRIPTION:Colorado State Fair Antique Equipment Display\nWhen: August 23-September 2\, 2024\nWhere: 1001 Beulah Ave\, Pueblo\, CO 81004\nContact: Steve Stratton\, 719-250-7279; Email: stevestratman@yahoo.com; www\,frapausa.com; Facebook: Front Range Antique Power Assn.
URL:http://oldirongarage.com/event/colorado-state-fair-antique-equipment-display/2025-06-11/
LOCATION:IL
END:VEVENT
BEGIN:VEVENT
DTSTART;TZID=America/Chicago:20250611T090000
DTEND;TZID=America/Chicago:20250611T170000
DTSTAMP:20260421T010148
CREATED:20240522T161320Z
LAST-MODIFIED:20240522T161320Z
UID:10001206-1749632400-1749661200@oldirongarage.com
SUMMARY:Connecticut Antique Machinery Association Museum Annual Fall Festival
DESCRIPTION:Connecticut Antique Machinery Association Museum Annual Fall Festival\nWhen: September 27-29\, 2024\nWhere: 31B Kent-Cornwall Rd (Rt. 7) Kent\, CT\, 06757; 1 Mile North of town center\nContact: John Pawloski\, 860-354-0296; Email: j.a.pawloski@att.net; www.ctamachinery.com\, Facebook: Connecticut Antique Machinery Association
URL:http://oldirongarage.com/event/connecticut-antique-machinery-association-museum-annual-fall-festival-2/2025-06-11/
LOCATION:IL
END:VEVENT
BEGIN:VEVENT
DTSTART;TZID=America/Chicago:20250612T000000
DTEND;TZID=America/Chicago:20250614T000000
DTSTAMP:20260421T010148
CREATED:20250429T204623Z
LAST-MODIFIED:20250429T204623Z
UID:10001592-1749686400-1749859200@oldirongarage.com
SUMMARY:Antique Farm Power Club presents 34th annual tractor and engine show
DESCRIPTION:all tractors and engines welcome as well as old trucks\, featuring all models starting with the letter C case\, co-op\, cub\, etc parade\,farm equipment demonstrations\, flea market\, food available kids pedal pull on Saturday. See website for more details :http://www.antiquefarmpowerclub.biz
URL:http://oldirongarage.com/event/antique-farm-power-club-presents-34th-annual-tractor-and-engine-show/
LOCATION:IL
CATEGORIES:Shows and Festivals
END:VEVENT
BEGIN:VEVENT
DTSTART;TZID=America/Chicago:20250612T080000
DTEND;TZID=America/Chicago:20250612T200000
DTSTAMP:20260421T010148
CREATED:20240522T145203Z
LAST-MODIFIED:20240522T145203Z
UID:10000871-1749715200-1749758400@oldirongarage.com
SUMMARY:Yesteryear Farm Show
DESCRIPTION:When: August 23-25\, 2024\nWhere: Dougherty Museum\, 8306 N. 107th St Longmont\, CO\, 80504\nContact: Bob McCarty\, 303-776-9859; Facebook: Yesteryear Farm Show\nThe Tractor Above will be auctioned off at the Farm Show!
URL:http://oldirongarage.com/event/yesteryear-farm-show/2025-06-12/
LOCATION:IL
END:VEVENT
BEGIN:VEVENT
DTSTART;TZID=America/Chicago:20250612T090000
DTEND;TZID=America/Chicago:20250612T160000
DTSTAMP:20260421T010148
CREATED:20240522T144554Z
LAST-MODIFIED:20240522T144554Z
UID:10000495-1749718800-1749744000@oldirongarage.com
SUMMARY:Colorado State Fair Antique Equipment Display
DESCRIPTION:Colorado State Fair Antique Equipment Display\nWhen: August 23-September 2\, 2024\nWhere: 1001 Beulah Ave\, Pueblo\, CO 81004\nContact: Steve Stratton\, 719-250-7279; Email: stevestratman@yahoo.com; www\,frapausa.com; Facebook: Front Range Antique Power Assn.
URL:http://oldirongarage.com/event/colorado-state-fair-antique-equipment-display/2025-06-12/
LOCATION:IL
END:VEVENT
BEGIN:VEVENT
DTSTART;TZID=America/Chicago:20250612T090000
DTEND;TZID=America/Chicago:20250612T170000
DTSTAMP:20260421T010148
CREATED:20240522T161320Z
LAST-MODIFIED:20240522T161320Z
UID:10001207-1749718800-1749747600@oldirongarage.com
SUMMARY:Connecticut Antique Machinery Association Museum Annual Fall Festival
DESCRIPTION:Connecticut Antique Machinery Association Museum Annual Fall Festival\nWhen: September 27-29\, 2024\nWhere: 31B Kent-Cornwall Rd (Rt. 7) Kent\, CT\, 06757; 1 Mile North of town center\nContact: John Pawloski\, 860-354-0296; Email: j.a.pawloski@att.net; www.ctamachinery.com\, Facebook: Connecticut Antique Machinery Association
URL:http://oldirongarage.com/event/connecticut-antique-machinery-association-museum-annual-fall-festival-2/2025-06-12/
LOCATION:IL
END:VEVENT
BEGIN:VEVENT
DTSTART;TZID=America/Chicago:20250613T080000
DTEND;TZID=America/Chicago:20250613T200000
DTSTAMP:20260421T010148
CREATED:20240522T145203Z
LAST-MODIFIED:20240522T145203Z
UID:10000872-1749801600-1749844800@oldirongarage.com
SUMMARY:Yesteryear Farm Show
DESCRIPTION:When: August 23-25\, 2024\nWhere: Dougherty Museum\, 8306 N. 107th St Longmont\, CO\, 80504\nContact: Bob McCarty\, 303-776-9859; Facebook: Yesteryear Farm Show\nThe Tractor Above will be auctioned off at the Farm Show!
URL:http://oldirongarage.com/event/yesteryear-farm-show/2025-06-13/
LOCATION:IL
END:VEVENT
BEGIN:VEVENT
DTSTART;TZID=America/Chicago:20250613T080000
DTEND;TZID=America/Chicago:20250614T170000
DTSTAMP:20260421T010148
CREATED:20250517T024829Z
LAST-MODIFIED:20250517T025253Z
UID:10001603-1749801600-1749920400@oldirongarage.com
SUMMARY:North Arkansas Rusty Wheels Old Engine Club Spring Show
DESCRIPTION:7 miles south of town on U.S. 65 S \nThe featured tractor for this year is John Deere and our engine is the Nova series.  ALL tractors and engines are welcome to be displayed for others to enjoy. \n\n\n​Other features include an old fashion saw mill\, shingle mill and other hit and miss engines working. \nContact: Mickey Jones\, 870-429-5523 \nwww.rustywheelsusa.com
URL:http://oldirongarage.com/event/24371/
LOCATION:Rusty Wheels\, 5722 Hwy 65 S\, harrison\, 72601\, United States
CATEGORIES:Shows and Festivals
ATTACH;FMTTYPE=image/jpeg:http://oldirongarage.com/wp-content/uploads/2025/05/497449577_30381091384808452_3129463026277912796_n.jpg
END:VEVENT
BEGIN:VEVENT
DTSTART;TZID=America/Chicago:20250613T090000
DTEND;TZID=America/Chicago:20250613T160000
DTSTAMP:20260421T010148
CREATED:20240522T144554Z
LAST-MODIFIED:20240522T144554Z
UID:10000496-1749805200-1749830400@oldirongarage.com
SUMMARY:Colorado State Fair Antique Equipment Display
DESCRIPTION:Colorado State Fair Antique Equipment Display\nWhen: August 23-September 2\, 2024\nWhere: 1001 Beulah Ave\, Pueblo\, CO 81004\nContact: Steve Stratton\, 719-250-7279; Email: stevestratman@yahoo.com; www\,frapausa.com; Facebook: Front Range Antique Power Assn.
URL:http://oldirongarage.com/event/colorado-state-fair-antique-equipment-display/2025-06-13/
LOCATION:IL
END:VEVENT
BEGIN:VEVENT
DTSTART;TZID=America/Chicago:20250613T090000
DTEND;TZID=America/Chicago:20250613T170000
DTSTAMP:20260421T010148
CREATED:20240522T161320Z
LAST-MODIFIED:20240522T161320Z
UID:10001208-1749805200-1749834000@oldirongarage.com
SUMMARY:Connecticut Antique Machinery Association Museum Annual Fall Festival
DESCRIPTION:Connecticut Antique Machinery Association Museum Annual Fall Festival\nWhen: September 27-29\, 2024\nWhere: 31B Kent-Cornwall Rd (Rt. 7) Kent\, CT\, 06757; 1 Mile North of town center\nContact: John Pawloski\, 860-354-0296; Email: j.a.pawloski@att.net; www.ctamachinery.com\, Facebook: Connecticut Antique Machinery Association
URL:http://oldirongarage.com/event/connecticut-antique-machinery-association-museum-annual-fall-festival-2/2025-06-13/
LOCATION:IL
END:VEVENT
BEGIN:VEVENT
DTSTART;TZID=America/Chicago:20250614T080000
DTEND;TZID=America/Chicago:20250614T200000
DTSTAMP:20260421T010148
CREATED:20240522T145203Z
LAST-MODIFIED:20240522T145203Z
UID:10000873-1749888000-1749931200@oldirongarage.com
SUMMARY:Yesteryear Farm Show
DESCRIPTION:When: August 23-25\, 2024\nWhere: Dougherty Museum\, 8306 N. 107th St Longmont\, CO\, 80504\nContact: Bob McCarty\, 303-776-9859; Facebook: Yesteryear Farm Show\nThe Tractor Above will be auctioned off at the Farm Show!
URL:http://oldirongarage.com/event/yesteryear-farm-show/2025-06-14/
LOCATION:IL
END:VEVENT
BEGIN:VEVENT
DTSTART;TZID=America/Chicago:20250614T090000
DTEND;TZID=America/Chicago:20250614T133000
DTSTAMP:20260421T010148
CREATED:20250517T011348Z
LAST-MODIFIED:20250517T011348Z
UID:10001594-1749891600-1749907800@oldirongarage.com
SUMMARY:27th Annual Hanceville Antique Tractor & Engine Show
DESCRIPTION:Feature: International Harvester and John Deere \nSlow races\, skillet throwing contest\, best in show\, peddle tractor races\, parade of power \nHarley Marsh Homemade Ice Cream \nContact: Bonnie Brannan\, 256-590-2478 \nemail: bonnie.brannon@cullmanregional.com \nFacebook: Hanceville Antique Tractor & Engine Show
URL:http://oldirongarage.com/event/27th-annual-hanceville-antique-tractor-engine-show/
LOCATION:Wallace State Community College\, 801 Main St N. W.\, Hanceville\, AL\, 35077\, United States
CATEGORIES:Shows and Festivals
ATTACH;FMTTYPE=image/jpeg:http://oldirongarage.com/wp-content/uploads/2025/05/494399474_1122456289911721_31646814311783878_n-e1747444312958.jpg
END:VEVENT
BEGIN:VEVENT
DTSTART;TZID=America/Chicago:20250614T090000
DTEND;TZID=America/Chicago:20250614T160000
DTSTAMP:20260421T010148
CREATED:20240522T144554Z
LAST-MODIFIED:20240522T144554Z
UID:10000497-1749891600-1749916800@oldirongarage.com
SUMMARY:Colorado State Fair Antique Equipment Display
DESCRIPTION:Colorado State Fair Antique Equipment Display\nWhen: August 23-September 2\, 2024\nWhere: 1001 Beulah Ave\, Pueblo\, CO 81004\nContact: Steve Stratton\, 719-250-7279; Email: stevestratman@yahoo.com; www\,frapausa.com; Facebook: Front Range Antique Power Assn.
URL:http://oldirongarage.com/event/colorado-state-fair-antique-equipment-display/2025-06-14/
LOCATION:IL
END:VEVENT
BEGIN:VEVENT
DTSTART;TZID=America/Chicago:20250614T090000
DTEND;TZID=America/Chicago:20250614T170000
DTSTAMP:20260421T010148
CREATED:20240522T161320Z
LAST-MODIFIED:20240522T161320Z
UID:10001209-1749891600-1749920400@oldirongarage.com
SUMMARY:Connecticut Antique Machinery Association Museum Annual Fall Festival
DESCRIPTION:Connecticut Antique Machinery Association Museum Annual Fall Festival\nWhen: September 27-29\, 2024\nWhere: 31B Kent-Cornwall Rd (Rt. 7) Kent\, CT\, 06757; 1 Mile North of town center\nContact: John Pawloski\, 860-354-0296; Email: j.a.pawloski@att.net; www.ctamachinery.com\, Facebook: Connecticut Antique Machinery Association
URL:http://oldirongarage.com/event/connecticut-antique-machinery-association-museum-annual-fall-festival-2/2025-06-14/
LOCATION:IL
END:VEVENT
END:VCALENDAR