BEGIN:VCALENDAR
VERSION:2.0
PRODID:-//Old Iron Garage - ECPv6.6.3//NONSGML v1.0//EN
CALSCALE:GREGORIAN
METHOD:PUBLISH
X-ORIGINAL-URL:http://oldirongarage.com
X-WR-CALDESC:Events for Old Iron Garage
REFRESH-INTERVAL;VALUE=DURATION:PT1H
X-Robots-Tag:noindex
X-PUBLISHED-TTL:PT1H
BEGIN:VTIMEZONE
TZID:America/Chicago
BEGIN:DAYLIGHT
TZOFFSETFROM:-0600
TZOFFSETTO:-0500
TZNAME:CDT
DTSTART:20250309T080000
END:DAYLIGHT
BEGIN:STANDARD
TZOFFSETFROM:-0500
TZOFFSETTO:-0600
TZNAME:CST
DTSTART:20251102T070000
END:STANDARD
END:VTIMEZONE
BEGIN:VEVENT
DTSTART;TZID=America/Chicago:20250528T080000
DTEND;TZID=America/Chicago:20250528T200000
DTSTAMP:20260423T044322
CREATED:20240522T145203Z
LAST-MODIFIED:20240522T145203Z
UID:10000856-1748419200-1748462400@oldirongarage.com
SUMMARY:Yesteryear Farm Show
DESCRIPTION:When: August 23-25\, 2024\nWhere: Dougherty Museum\, 8306 N. 107th St Longmont\, CO\, 80504\nContact: Bob McCarty\, 303-776-9859; Facebook: Yesteryear Farm Show\nThe Tractor Above will be auctioned off at the Farm Show!
URL:http://oldirongarage.com/event/yesteryear-farm-show/2025-05-28/
LOCATION:IL
END:VEVENT
BEGIN:VEVENT
DTSTART;TZID=America/Chicago:20250528T090000
DTEND;TZID=America/Chicago:20250528T160000
DTSTAMP:20260423T044322
CREATED:20240522T144554Z
LAST-MODIFIED:20240522T144554Z
UID:10000480-1748422800-1748448000@oldirongarage.com
SUMMARY:Colorado State Fair Antique Equipment Display
DESCRIPTION:Colorado State Fair Antique Equipment Display\nWhen: August 23-September 2\, 2024\nWhere: 1001 Beulah Ave\, Pueblo\, CO 81004\nContact: Steve Stratton\, 719-250-7279; Email: stevestratman@yahoo.com; www\,frapausa.com; Facebook: Front Range Antique Power Assn.
URL:http://oldirongarage.com/event/colorado-state-fair-antique-equipment-display/2025-05-28/
LOCATION:IL
END:VEVENT
BEGIN:VEVENT
DTSTART;TZID=America/Chicago:20250528T090000
DTEND;TZID=America/Chicago:20250528T170000
DTSTAMP:20260423T044322
CREATED:20240522T161320Z
LAST-MODIFIED:20240522T161320Z
UID:10001192-1748422800-1748451600@oldirongarage.com
SUMMARY:Connecticut Antique Machinery Association Museum Annual Fall Festival
DESCRIPTION:Connecticut Antique Machinery Association Museum Annual Fall Festival\nWhen: September 27-29\, 2024\nWhere: 31B Kent-Cornwall Rd (Rt. 7) Kent\, CT\, 06757; 1 Mile North of town center\nContact: John Pawloski\, 860-354-0296; Email: j.a.pawloski@att.net; www.ctamachinery.com\, Facebook: Connecticut Antique Machinery Association
URL:http://oldirongarage.com/event/connecticut-antique-machinery-association-museum-annual-fall-festival-2/2025-05-28/
LOCATION:IL
END:VEVENT
BEGIN:VEVENT
DTSTART;TZID=America/Chicago:20250529T080000
DTEND;TZID=America/Chicago:20250529T200000
DTSTAMP:20260423T044322
CREATED:20240522T145203Z
LAST-MODIFIED:20240522T145203Z
UID:10000857-1748505600-1748548800@oldirongarage.com
SUMMARY:Yesteryear Farm Show
DESCRIPTION:When: August 23-25\, 2024\nWhere: Dougherty Museum\, 8306 N. 107th St Longmont\, CO\, 80504\nContact: Bob McCarty\, 303-776-9859; Facebook: Yesteryear Farm Show\nThe Tractor Above will be auctioned off at the Farm Show!
URL:http://oldirongarage.com/event/yesteryear-farm-show/2025-05-29/
LOCATION:IL
END:VEVENT
BEGIN:VEVENT
DTSTART;TZID=America/Chicago:20250529T090000
DTEND;TZID=America/Chicago:20250529T160000
DTSTAMP:20260423T044322
CREATED:20240522T144554Z
LAST-MODIFIED:20240522T144554Z
UID:10000481-1748509200-1748534400@oldirongarage.com
SUMMARY:Colorado State Fair Antique Equipment Display
DESCRIPTION:Colorado State Fair Antique Equipment Display\nWhen: August 23-September 2\, 2024\nWhere: 1001 Beulah Ave\, Pueblo\, CO 81004\nContact: Steve Stratton\, 719-250-7279; Email: stevestratman@yahoo.com; www\,frapausa.com; Facebook: Front Range Antique Power Assn.
URL:http://oldirongarage.com/event/colorado-state-fair-antique-equipment-display/2025-05-29/
LOCATION:IL
END:VEVENT
BEGIN:VEVENT
DTSTART;TZID=America/Chicago:20250529T090000
DTEND;TZID=America/Chicago:20250529T170000
DTSTAMP:20260423T044322
CREATED:20240522T161320Z
LAST-MODIFIED:20240522T161320Z
UID:10001193-1748509200-1748538000@oldirongarage.com
SUMMARY:Connecticut Antique Machinery Association Museum Annual Fall Festival
DESCRIPTION:Connecticut Antique Machinery Association Museum Annual Fall Festival\nWhen: September 27-29\, 2024\nWhere: 31B Kent-Cornwall Rd (Rt. 7) Kent\, CT\, 06757; 1 Mile North of town center\nContact: John Pawloski\, 860-354-0296; Email: j.a.pawloski@att.net; www.ctamachinery.com\, Facebook: Connecticut Antique Machinery Association
URL:http://oldirongarage.com/event/connecticut-antique-machinery-association-museum-annual-fall-festival-2/2025-05-29/
LOCATION:IL
END:VEVENT
BEGIN:VEVENT
DTSTART;TZID=America/Chicago:20250530T080000
DTEND;TZID=America/Chicago:20250530T200000
DTSTAMP:20260423T044322
CREATED:20240522T145203Z
LAST-MODIFIED:20240522T145203Z
UID:10000858-1748592000-1748635200@oldirongarage.com
SUMMARY:Yesteryear Farm Show
DESCRIPTION:When: August 23-25\, 2024\nWhere: Dougherty Museum\, 8306 N. 107th St Longmont\, CO\, 80504\nContact: Bob McCarty\, 303-776-9859; Facebook: Yesteryear Farm Show\nThe Tractor Above will be auctioned off at the Farm Show!
URL:http://oldirongarage.com/event/yesteryear-farm-show/2025-05-30/
LOCATION:IL
END:VEVENT
BEGIN:VEVENT
DTSTART;TZID=America/Chicago:20250530T090000
DTEND;TZID=America/Chicago:20250530T160000
DTSTAMP:20260423T044322
CREATED:20240522T144554Z
LAST-MODIFIED:20240522T144554Z
UID:10000482-1748595600-1748620800@oldirongarage.com
SUMMARY:Colorado State Fair Antique Equipment Display
DESCRIPTION:Colorado State Fair Antique Equipment Display\nWhen: August 23-September 2\, 2024\nWhere: 1001 Beulah Ave\, Pueblo\, CO 81004\nContact: Steve Stratton\, 719-250-7279; Email: stevestratman@yahoo.com; www\,frapausa.com; Facebook: Front Range Antique Power Assn.
URL:http://oldirongarage.com/event/colorado-state-fair-antique-equipment-display/2025-05-30/
LOCATION:IL
END:VEVENT
BEGIN:VEVENT
DTSTART;TZID=America/Chicago:20250530T090000
DTEND;TZID=America/Chicago:20250530T170000
DTSTAMP:20260423T044323
CREATED:20240522T161320Z
LAST-MODIFIED:20240522T161320Z
UID:10001194-1748595600-1748624400@oldirongarage.com
SUMMARY:Connecticut Antique Machinery Association Museum Annual Fall Festival
DESCRIPTION:Connecticut Antique Machinery Association Museum Annual Fall Festival\nWhen: September 27-29\, 2024\nWhere: 31B Kent-Cornwall Rd (Rt. 7) Kent\, CT\, 06757; 1 Mile North of town center\nContact: John Pawloski\, 860-354-0296; Email: j.a.pawloski@att.net; www.ctamachinery.com\, Facebook: Connecticut Antique Machinery Association
URL:http://oldirongarage.com/event/connecticut-antique-machinery-association-museum-annual-fall-festival-2/2025-05-30/
LOCATION:IL
END:VEVENT
BEGIN:VEVENT
DTSTART;TZID=America/Chicago:20250531T080000
DTEND;TZID=America/Chicago:20250531T200000
DTSTAMP:20260423T044323
CREATED:20240522T145203Z
LAST-MODIFIED:20240522T145203Z
UID:10000859-1748678400-1748721600@oldirongarage.com
SUMMARY:Yesteryear Farm Show
DESCRIPTION:When: August 23-25\, 2024\nWhere: Dougherty Museum\, 8306 N. 107th St Longmont\, CO\, 80504\nContact: Bob McCarty\, 303-776-9859; Facebook: Yesteryear Farm Show\nThe Tractor Above will be auctioned off at the Farm Show!
URL:http://oldirongarage.com/event/yesteryear-farm-show/2025-05-31/
LOCATION:IL
END:VEVENT
BEGIN:VEVENT
DTSTART;TZID=America/Chicago:20250531T090000
DTEND;TZID=America/Chicago:20250531T160000
DTSTAMP:20260423T044323
CREATED:20240522T144554Z
LAST-MODIFIED:20240522T144554Z
UID:10000483-1748682000-1748707200@oldirongarage.com
SUMMARY:Colorado State Fair Antique Equipment Display
DESCRIPTION:Colorado State Fair Antique Equipment Display\nWhen: August 23-September 2\, 2024\nWhere: 1001 Beulah Ave\, Pueblo\, CO 81004\nContact: Steve Stratton\, 719-250-7279; Email: stevestratman@yahoo.com; www\,frapausa.com; Facebook: Front Range Antique Power Assn.
URL:http://oldirongarage.com/event/colorado-state-fair-antique-equipment-display/2025-05-31/
LOCATION:IL
END:VEVENT
BEGIN:VEVENT
DTSTART;TZID=America/Chicago:20250531T090000
DTEND;TZID=America/Chicago:20250531T170000
DTSTAMP:20260423T044323
CREATED:20240522T161320Z
LAST-MODIFIED:20240522T161320Z
UID:10001195-1748682000-1748710800@oldirongarage.com
SUMMARY:Connecticut Antique Machinery Association Museum Annual Fall Festival
DESCRIPTION:Connecticut Antique Machinery Association Museum Annual Fall Festival\nWhen: September 27-29\, 2024\nWhere: 31B Kent-Cornwall Rd (Rt. 7) Kent\, CT\, 06757; 1 Mile North of town center\nContact: John Pawloski\, 860-354-0296; Email: j.a.pawloski@att.net; www.ctamachinery.com\, Facebook: Connecticut Antique Machinery Association
URL:http://oldirongarage.com/event/connecticut-antique-machinery-association-museum-annual-fall-festival-2/2025-05-31/
LOCATION:IL
END:VEVENT
BEGIN:VEVENT
DTSTART;TZID=America/Chicago:20250601T080000
DTEND;TZID=America/Chicago:20250601T200000
DTSTAMP:20260423T044323
CREATED:20240522T145203Z
LAST-MODIFIED:20240522T145203Z
UID:10000860-1748764800-1748808000@oldirongarage.com
SUMMARY:Yesteryear Farm Show
DESCRIPTION:When: August 23-25\, 2024\nWhere: Dougherty Museum\, 8306 N. 107th St Longmont\, CO\, 80504\nContact: Bob McCarty\, 303-776-9859; Facebook: Yesteryear Farm Show\nThe Tractor Above will be auctioned off at the Farm Show!
URL:http://oldirongarage.com/event/yesteryear-farm-show/2025-06-01/
LOCATION:IL
END:VEVENT
BEGIN:VEVENT
DTSTART;TZID=America/Chicago:20250601T090000
DTEND;TZID=America/Chicago:20250601T160000
DTSTAMP:20260423T044323
CREATED:20240522T144554Z
LAST-MODIFIED:20240522T144554Z
UID:10000484-1748768400-1748793600@oldirongarage.com
SUMMARY:Colorado State Fair Antique Equipment Display
DESCRIPTION:Colorado State Fair Antique Equipment Display\nWhen: August 23-September 2\, 2024\nWhere: 1001 Beulah Ave\, Pueblo\, CO 81004\nContact: Steve Stratton\, 719-250-7279; Email: stevestratman@yahoo.com; www\,frapausa.com; Facebook: Front Range Antique Power Assn.
URL:http://oldirongarage.com/event/colorado-state-fair-antique-equipment-display/2025-06-01/
LOCATION:IL
END:VEVENT
BEGIN:VEVENT
DTSTART;TZID=America/Chicago:20250601T090000
DTEND;TZID=America/Chicago:20250601T170000
DTSTAMP:20260423T044323
CREATED:20240522T161320Z
LAST-MODIFIED:20240522T161320Z
UID:10001196-1748768400-1748797200@oldirongarage.com
SUMMARY:Connecticut Antique Machinery Association Museum Annual Fall Festival
DESCRIPTION:Connecticut Antique Machinery Association Museum Annual Fall Festival\nWhen: September 27-29\, 2024\nWhere: 31B Kent-Cornwall Rd (Rt. 7) Kent\, CT\, 06757; 1 Mile North of town center\nContact: John Pawloski\, 860-354-0296; Email: j.a.pawloski@att.net; www.ctamachinery.com\, Facebook: Connecticut Antique Machinery Association
URL:http://oldirongarage.com/event/connecticut-antique-machinery-association-museum-annual-fall-festival-2/2025-06-01/
LOCATION:IL
END:VEVENT
BEGIN:VEVENT
DTSTART;TZID=America/Chicago:20250602T080000
DTEND;TZID=America/Chicago:20250602T200000
DTSTAMP:20260423T044323
CREATED:20240522T145203Z
LAST-MODIFIED:20240522T145203Z
UID:10000861-1748851200-1748894400@oldirongarage.com
SUMMARY:Yesteryear Farm Show
DESCRIPTION:When: August 23-25\, 2024\nWhere: Dougherty Museum\, 8306 N. 107th St Longmont\, CO\, 80504\nContact: Bob McCarty\, 303-776-9859; Facebook: Yesteryear Farm Show\nThe Tractor Above will be auctioned off at the Farm Show!
URL:http://oldirongarage.com/event/yesteryear-farm-show/2025-06-02/
LOCATION:IL
END:VEVENT
BEGIN:VEVENT
DTSTART;TZID=America/Chicago:20250602T090000
DTEND;TZID=America/Chicago:20250602T160000
DTSTAMP:20260423T044323
CREATED:20240522T144554Z
LAST-MODIFIED:20240522T144554Z
UID:10000485-1748854800-1748880000@oldirongarage.com
SUMMARY:Colorado State Fair Antique Equipment Display
DESCRIPTION:Colorado State Fair Antique Equipment Display\nWhen: August 23-September 2\, 2024\nWhere: 1001 Beulah Ave\, Pueblo\, CO 81004\nContact: Steve Stratton\, 719-250-7279; Email: stevestratman@yahoo.com; www\,frapausa.com; Facebook: Front Range Antique Power Assn.
URL:http://oldirongarage.com/event/colorado-state-fair-antique-equipment-display/2025-06-02/
LOCATION:IL
END:VEVENT
BEGIN:VEVENT
DTSTART;TZID=America/Chicago:20250602T090000
DTEND;TZID=America/Chicago:20250602T170000
DTSTAMP:20260423T044323
CREATED:20240522T161320Z
LAST-MODIFIED:20240522T161320Z
UID:10001197-1748854800-1748883600@oldirongarage.com
SUMMARY:Connecticut Antique Machinery Association Museum Annual Fall Festival
DESCRIPTION:Connecticut Antique Machinery Association Museum Annual Fall Festival\nWhen: September 27-29\, 2024\nWhere: 31B Kent-Cornwall Rd (Rt. 7) Kent\, CT\, 06757; 1 Mile North of town center\nContact: John Pawloski\, 860-354-0296; Email: j.a.pawloski@att.net; www.ctamachinery.com\, Facebook: Connecticut Antique Machinery Association
URL:http://oldirongarage.com/event/connecticut-antique-machinery-association-museum-annual-fall-festival-2/2025-06-02/
LOCATION:IL
END:VEVENT
BEGIN:VEVENT
DTSTART;TZID=America/Chicago:20250603T080000
DTEND;TZID=America/Chicago:20250603T200000
DTSTAMP:20260423T044323
CREATED:20240522T145203Z
LAST-MODIFIED:20240522T145203Z
UID:10000862-1748937600-1748980800@oldirongarage.com
SUMMARY:Yesteryear Farm Show
DESCRIPTION:When: August 23-25\, 2024\nWhere: Dougherty Museum\, 8306 N. 107th St Longmont\, CO\, 80504\nContact: Bob McCarty\, 303-776-9859; Facebook: Yesteryear Farm Show\nThe Tractor Above will be auctioned off at the Farm Show!
URL:http://oldirongarage.com/event/yesteryear-farm-show/2025-06-03/
LOCATION:IL
END:VEVENT
BEGIN:VEVENT
DTSTART;TZID=America/Chicago:20250603T090000
DTEND;TZID=America/Chicago:20250603T160000
DTSTAMP:20260423T044323
CREATED:20240522T144554Z
LAST-MODIFIED:20240522T144554Z
UID:10000486-1748941200-1748966400@oldirongarage.com
SUMMARY:Colorado State Fair Antique Equipment Display
DESCRIPTION:Colorado State Fair Antique Equipment Display\nWhen: August 23-September 2\, 2024\nWhere: 1001 Beulah Ave\, Pueblo\, CO 81004\nContact: Steve Stratton\, 719-250-7279; Email: stevestratman@yahoo.com; www\,frapausa.com; Facebook: Front Range Antique Power Assn.
URL:http://oldirongarage.com/event/colorado-state-fair-antique-equipment-display/2025-06-03/
LOCATION:IL
END:VEVENT
BEGIN:VEVENT
DTSTART;TZID=America/Chicago:20250603T090000
DTEND;TZID=America/Chicago:20250603T170000
DTSTAMP:20260423T044323
CREATED:20240522T161320Z
LAST-MODIFIED:20240522T161320Z
UID:10001198-1748941200-1748970000@oldirongarage.com
SUMMARY:Connecticut Antique Machinery Association Museum Annual Fall Festival
DESCRIPTION:Connecticut Antique Machinery Association Museum Annual Fall Festival\nWhen: September 27-29\, 2024\nWhere: 31B Kent-Cornwall Rd (Rt. 7) Kent\, CT\, 06757; 1 Mile North of town center\nContact: John Pawloski\, 860-354-0296; Email: j.a.pawloski@att.net; www.ctamachinery.com\, Facebook: Connecticut Antique Machinery Association
URL:http://oldirongarage.com/event/connecticut-antique-machinery-association-museum-annual-fall-festival-2/2025-06-03/
LOCATION:IL
END:VEVENT
BEGIN:VEVENT
DTSTART;TZID=America/Chicago:20250604T080000
DTEND;TZID=America/Chicago:20250604T200000
DTSTAMP:20260423T044323
CREATED:20240522T145203Z
LAST-MODIFIED:20240522T145203Z
UID:10000863-1749024000-1749067200@oldirongarage.com
SUMMARY:Yesteryear Farm Show
DESCRIPTION:When: August 23-25\, 2024\nWhere: Dougherty Museum\, 8306 N. 107th St Longmont\, CO\, 80504\nContact: Bob McCarty\, 303-776-9859; Facebook: Yesteryear Farm Show\nThe Tractor Above will be auctioned off at the Farm Show!
URL:http://oldirongarage.com/event/yesteryear-farm-show/2025-06-04/
LOCATION:IL
END:VEVENT
BEGIN:VEVENT
DTSTART;TZID=America/Chicago:20250604T090000
DTEND;TZID=America/Chicago:20250604T160000
DTSTAMP:20260423T044323
CREATED:20240522T144554Z
LAST-MODIFIED:20240522T144554Z
UID:10000487-1749027600-1749052800@oldirongarage.com
SUMMARY:Colorado State Fair Antique Equipment Display
DESCRIPTION:Colorado State Fair Antique Equipment Display\nWhen: August 23-September 2\, 2024\nWhere: 1001 Beulah Ave\, Pueblo\, CO 81004\nContact: Steve Stratton\, 719-250-7279; Email: stevestratman@yahoo.com; www\,frapausa.com; Facebook: Front Range Antique Power Assn.
URL:http://oldirongarage.com/event/colorado-state-fair-antique-equipment-display/2025-06-04/
LOCATION:IL
END:VEVENT
BEGIN:VEVENT
DTSTART;TZID=America/Chicago:20250604T090000
DTEND;TZID=America/Chicago:20250604T170000
DTSTAMP:20260423T044323
CREATED:20240522T161320Z
LAST-MODIFIED:20240522T161320Z
UID:10001199-1749027600-1749056400@oldirongarage.com
SUMMARY:Connecticut Antique Machinery Association Museum Annual Fall Festival
DESCRIPTION:Connecticut Antique Machinery Association Museum Annual Fall Festival\nWhen: September 27-29\, 2024\nWhere: 31B Kent-Cornwall Rd (Rt. 7) Kent\, CT\, 06757; 1 Mile North of town center\nContact: John Pawloski\, 860-354-0296; Email: j.a.pawloski@att.net; www.ctamachinery.com\, Facebook: Connecticut Antique Machinery Association
URL:http://oldirongarage.com/event/connecticut-antique-machinery-association-museum-annual-fall-festival-2/2025-06-04/
LOCATION:IL
END:VEVENT
BEGIN:VEVENT
DTSTART;TZID=America/Chicago:20250605T080000
DTEND;TZID=America/Chicago:20250605T200000
DTSTAMP:20260423T044323
CREATED:20240522T145203Z
LAST-MODIFIED:20240522T145203Z
UID:10000864-1749110400-1749153600@oldirongarage.com
SUMMARY:Yesteryear Farm Show
DESCRIPTION:When: August 23-25\, 2024\nWhere: Dougherty Museum\, 8306 N. 107th St Longmont\, CO\, 80504\nContact: Bob McCarty\, 303-776-9859; Facebook: Yesteryear Farm Show\nThe Tractor Above will be auctioned off at the Farm Show!
URL:http://oldirongarage.com/event/yesteryear-farm-show/2025-06-05/
LOCATION:IL
END:VEVENT
BEGIN:VEVENT
DTSTART;TZID=America/Chicago:20250605T090000
DTEND;TZID=America/Chicago:20250605T160000
DTSTAMP:20260423T044323
CREATED:20240522T144554Z
LAST-MODIFIED:20240522T144554Z
UID:10000488-1749114000-1749139200@oldirongarage.com
SUMMARY:Colorado State Fair Antique Equipment Display
DESCRIPTION:Colorado State Fair Antique Equipment Display\nWhen: August 23-September 2\, 2024\nWhere: 1001 Beulah Ave\, Pueblo\, CO 81004\nContact: Steve Stratton\, 719-250-7279; Email: stevestratman@yahoo.com; www\,frapausa.com; Facebook: Front Range Antique Power Assn.
URL:http://oldirongarage.com/event/colorado-state-fair-antique-equipment-display/2025-06-05/
LOCATION:IL
END:VEVENT
BEGIN:VEVENT
DTSTART;TZID=America/Chicago:20250605T090000
DTEND;TZID=America/Chicago:20250605T170000
DTSTAMP:20260423T044323
CREATED:20240522T161320Z
LAST-MODIFIED:20240522T161320Z
UID:10001200-1749114000-1749142800@oldirongarage.com
SUMMARY:Connecticut Antique Machinery Association Museum Annual Fall Festival
DESCRIPTION:Connecticut Antique Machinery Association Museum Annual Fall Festival\nWhen: September 27-29\, 2024\nWhere: 31B Kent-Cornwall Rd (Rt. 7) Kent\, CT\, 06757; 1 Mile North of town center\nContact: John Pawloski\, 860-354-0296; Email: j.a.pawloski@att.net; www.ctamachinery.com\, Facebook: Connecticut Antique Machinery Association
URL:http://oldirongarage.com/event/connecticut-antique-machinery-association-museum-annual-fall-festival-2/2025-06-05/
LOCATION:IL
END:VEVENT
BEGIN:VEVENT
DTSTART;TZID=America/Chicago:20250606T080000
DTEND;TZID=America/Chicago:20250606T200000
DTSTAMP:20260423T044323
CREATED:20240522T145203Z
LAST-MODIFIED:20240522T145203Z
UID:10000865-1749196800-1749240000@oldirongarage.com
SUMMARY:Yesteryear Farm Show
DESCRIPTION:When: August 23-25\, 2024\nWhere: Dougherty Museum\, 8306 N. 107th St Longmont\, CO\, 80504\nContact: Bob McCarty\, 303-776-9859; Facebook: Yesteryear Farm Show\nThe Tractor Above will be auctioned off at the Farm Show!
URL:http://oldirongarage.com/event/yesteryear-farm-show/2025-06-06/
LOCATION:IL
END:VEVENT
BEGIN:VEVENT
DTSTART;TZID=America/Chicago:20250606T080000
DTEND;TZID=America/Chicago:20250607T170000
DTSTAMP:20260423T044323
CREATED:20250517T024224Z
LAST-MODIFIED:20250517T024224Z
UID:10001602-1749196800-1749315600@oldirongarage.com
SUMMARY:25th Annual Arkansas Valley Antique Tractor Show & EDGETA Regional Show
DESCRIPTION:Feature: John Deere \nContact: Clyde Traylor\, 479-650-0768 \nemail: tractorhauler47@gmail.com \nBill Garner\, 479-206-0104 \nFacebook: Arkansas Valley Antique Tractor Club
URL:http://oldirongarage.com/event/25th-annual-arkansas-valley-antique-tractor-show-edgeta-regional-show/
LOCATION:North Franklin County Fairgrounds\, 724 N 29th St\, Ozark\, AR\, 72949\, United States
CATEGORIES:Shows and Festivals
END:VEVENT
BEGIN:VEVENT
DTSTART;TZID=America/Chicago:20250606T090000
DTEND;TZID=America/Chicago:20250606T160000
DTSTAMP:20260423T044323
CREATED:20240522T144554Z
LAST-MODIFIED:20240522T144554Z
UID:10000489-1749200400-1749225600@oldirongarage.com
SUMMARY:Colorado State Fair Antique Equipment Display
DESCRIPTION:Colorado State Fair Antique Equipment Display\nWhen: August 23-September 2\, 2024\nWhere: 1001 Beulah Ave\, Pueblo\, CO 81004\nContact: Steve Stratton\, 719-250-7279; Email: stevestratman@yahoo.com; www\,frapausa.com; Facebook: Front Range Antique Power Assn.
URL:http://oldirongarage.com/event/colorado-state-fair-antique-equipment-display/2025-06-06/
LOCATION:IL
END:VEVENT
END:VCALENDAR