BEGIN:VCALENDAR
VERSION:2.0
PRODID:-//Old Iron Garage - ECPv6.6.3//NONSGML v1.0//EN
CALSCALE:GREGORIAN
METHOD:PUBLISH
X-ORIGINAL-URL:http://oldirongarage.com
X-WR-CALDESC:Events for Old Iron Garage
REFRESH-INTERVAL;VALUE=DURATION:PT1H
X-Robots-Tag:noindex
X-PUBLISHED-TTL:PT1H
BEGIN:VTIMEZONE
TZID:America/Chicago
BEGIN:DAYLIGHT
TZOFFSETFROM:-0600
TZOFFSETTO:-0500
TZNAME:CDT
DTSTART:20250309T080000
END:DAYLIGHT
BEGIN:STANDARD
TZOFFSETFROM:-0500
TZOFFSETTO:-0600
TZNAME:CST
DTSTART:20251102T070000
END:STANDARD
END:VTIMEZONE
BEGIN:VEVENT
DTSTART;TZID=America/Chicago:20251024T080000
DTEND;TZID=America/Chicago:20251102T170000
DTSTAMP:20260424T211509
CREATED:20250517T022745Z
LAST-MODIFIED:20250517T022745Z
UID:10001599-1761292800-1762102800@oldirongarage.com
SUMMARY:Good 'Ole Days Goes to Town at the Greater Gulf State Fair
DESCRIPTION:Feature: International Harvester\, Case\, John Deere \nContact: Danny Clark\, 601-337-3136 \nemail: dc5823@gmail.com \nFacebook: Danny L Clark
URL:http://oldirongarage.com/event/good-ole-days-goes-to-town-at-the-greater-gulf-state-fair/
LOCATION:Gulf State Fair\, 1035 Cody Road N\, Mobile\, AL\, 36608\, United States
CATEGORIES:Shows and Festivals
END:VEVENT
BEGIN:VEVENT
DTSTART;VALUE=DATE:20251025
DTEND;VALUE=DATE:20251026
DTSTAMP:20260424T211509
CREATED:20250517T023146Z
LAST-MODIFIED:20250517T023146Z
UID:10001600-1761350400-1761436799@oldirongarage.com
SUMMARY:Southland Flywheelers' Fall Festival & Harvest Exhibits
DESCRIPTION:Feature: Allis-Chalmers tractors and Stickney engines \nDirections: 1715 Hwy 36 E. I-65 exit 328\, east 3-1/2 miles\, showgrounds on right \nContact: Larry Lemmond\, 256-566-2737 \nemail: larrylemmond@aol.com
URL:http://oldirongarage.com/event/southland-flywheelers-fall-festival-harvest-exhibits/
LOCATION:showgrounds\, 1715 Hwy 36 E\, Hartselle\, AL\, 35640\, United States
CATEGORIES:Shows and Festivals
END:VEVENT
BEGIN:VEVENT
DTSTART;VALUE=DATE:20251025
DTEND;VALUE=DATE:20251026
DTSTAMP:20260424T211509
CREATED:20250517T031231Z
LAST-MODIFIED:20250517T031231Z
UID:10001607-1761350400-1761436799@oldirongarage.com
SUMMARY:Corning Harvest Festival
DESCRIPTION:Since 1987\, the Corning Harvest Festival Committee has been hosting the Harvest Festival\, a celebration of the harvest season – past and present. The festival always falls on the 4th Saturday in October at Wynn Park on Highway 67 West. \nThe Harvest Festival brings in antique farm machinery\, automobiles and many other features\, as we celebrate another year’s harvest and showcase those of the past. Young and old alike will enjoy the day and we invite you to come and spend the day and see why we are proud of our agricultural community. \nFree Entry\, arts & crafts\, live music\, games\, 5K\, Car show\, antiques & more! \nContact: Daniel Moore\, 870-857-3931 \nemail: info@haroldimplement.com \nFacebook: Corning Harvest Festival
URL:http://oldirongarage.com/event/corning-harvest-festival/
LOCATION:Wynn Park\, Hwy 68 W\, Corning\, AR\, 72422\, United States
CATEGORIES:Shows and Festivals
ATTACH;FMTTYPE=image/jpeg:http://oldirongarage.com/wp-content/uploads/2025/05/494181819_1093308509497386_4137947462479466047_n.jpg
END:VEVENT
BEGIN:VEVENT
DTSTART;VALUE=DATE:20251025
DTEND;VALUE=DATE:20251026
DTSTAMP:20260424T211509
CREATED:20250702T011339Z
LAST-MODIFIED:20250702T011339Z
UID:10001623-1761350400-1761436799@oldirongarage.com
SUMMARY:Chickamauga Antique Tractor Club Fall Colors Tractor Ride
DESCRIPTION:Contact: Michael Wallace\, 423-316-3708 \nemail: ihman70@yahoo.com \nMelvin Dawnson\, 423-991-9637
URL:http://oldirongarage.com/event/chickamauga-antique-tractor-club-fall-colors-tractor-ride-2/
LOCATION:Chickamauga Antique Tractor Club\, 5146 E. Broomtown Road\, Trion\, GA\, 30753\, United States
CATEGORIES:Shows and Festivals
END:VEVENT
END:VCALENDAR