BEGIN:VCALENDAR
VERSION:2.0
PRODID:-//Old Iron Garage - ECPv6.6.3//NONSGML v1.0//EN
CALSCALE:GREGORIAN
METHOD:PUBLISH
X-WR-CALNAME:Old Iron Garage
X-ORIGINAL-URL:http://oldirongarage.com
X-WR-CALDESC:Events for Old Iron Garage
REFRESH-INTERVAL;VALUE=DURATION:PT1H
X-Robots-Tag:noindex
X-PUBLISHED-TTL:PT1H
BEGIN:VTIMEZONE
TZID:America/Chicago
BEGIN:DAYLIGHT
TZOFFSETFROM:-0600
TZOFFSETTO:-0500
TZNAME:CDT
DTSTART:20250309T080000
END:DAYLIGHT
BEGIN:STANDARD
TZOFFSETFROM:-0500
TZOFFSETTO:-0600
TZNAME:CST
DTSTART:20251102T070000
END:STANDARD
END:VTIMEZONE
BEGIN:VEVENT
DTSTART;TZID=America/Chicago:20250822T080000
DTEND;TZID=America/Chicago:20250901T170000
DTSTAMP:20260421T164727
CREATED:20250517T170547Z
LAST-MODIFIED:20250517T170547Z
UID:10001611-1755849600-1756746000@oldirongarage.com
SUMMARY:Colorado State Fair Antique Equipment Display
DESCRIPTION:Contact: Steve Stratman\, 719-250-7279 \nemail: stevestratman@state.co.us \nwww.frapausa.com \nFacebook: Front Range Antique Power Assn.
URL:http://oldirongarage.com/event/colorado-state-fair-antique-equipment-display-2/
LOCATION:Colorado State Fair\, 1001 Beulah Ave\, Pueblo\, CO\, 81004\, United States
CATEGORIES:Shows and Festivals
END:VEVENT
BEGIN:VEVENT
DTSTART;TZID=America/Chicago:20250831T090000
DTEND;TZID=America/Chicago:20250831T160000
DTSTAMP:20260421T164727
CREATED:20240522T144554Z
LAST-MODIFIED:20240522T144554Z
UID:10000575-1756630800-1756656000@oldirongarage.com
SUMMARY:Colorado State Fair Antique Equipment Display
DESCRIPTION:Colorado State Fair Antique Equipment Display\nWhen: August 23-September 2\, 2024\nWhere: 1001 Beulah Ave\, Pueblo\, CO 81004\nContact: Steve Stratton\, 719-250-7279; Email: stevestratman@yahoo.com; www\,frapausa.com; Facebook: Front Range Antique Power Assn.
URL:http://oldirongarage.com/event/colorado-state-fair-antique-equipment-display/2025-08-31/
LOCATION:IL
END:VEVENT
BEGIN:VEVENT
DTSTART;TZID=America/Chicago:20250831T090000
DTEND;TZID=America/Chicago:20250831T170000
DTSTAMP:20260421T164727
CREATED:20240522T161320Z
LAST-MODIFIED:20240522T161320Z
UID:10001287-1756630800-1756659600@oldirongarage.com
SUMMARY:Connecticut Antique Machinery Association Museum Annual Fall Festival
DESCRIPTION:Connecticut Antique Machinery Association Museum Annual Fall Festival\nWhen: September 27-29\, 2024\nWhere: 31B Kent-Cornwall Rd (Rt. 7) Kent\, CT\, 06757; 1 Mile North of town center\nContact: John Pawloski\, 860-354-0296; Email: j.a.pawloski@att.net; www.ctamachinery.com\, Facebook: Connecticut Antique Machinery Association
URL:http://oldirongarage.com/event/connecticut-antique-machinery-association-museum-annual-fall-festival-2/2025-08-31/
LOCATION:IL
END:VEVENT
END:VCALENDAR