BEGIN:VCALENDAR
VERSION:2.0
PRODID:-//Old Iron Garage - ECPv6.6.3//NONSGML v1.0//EN
CALSCALE:GREGORIAN
METHOD:PUBLISH
X-WR-CALNAME:Old Iron Garage
X-ORIGINAL-URL:http://oldirongarage.com
X-WR-CALDESC:Events for Old Iron Garage
REFRESH-INTERVAL;VALUE=DURATION:PT1H
X-Robots-Tag:noindex
X-PUBLISHED-TTL:PT1H
BEGIN:VTIMEZONE
TZID:America/Chicago
BEGIN:DAYLIGHT
TZOFFSETFROM:-0600
TZOFFSETTO:-0500
TZNAME:CDT
DTSTART:20250309T080000
END:DAYLIGHT
BEGIN:STANDARD
TZOFFSETFROM:-0500
TZOFFSETTO:-0600
TZNAME:CST
DTSTART:20251102T070000
END:STANDARD
END:VTIMEZONE
BEGIN:VEVENT
DTSTART;TZID=America/Chicago:20250606T080000
DTEND;TZID=America/Chicago:20250607T170000
DTSTAMP:20260421T005912
CREATED:20250517T024224Z
LAST-MODIFIED:20250517T024224Z
UID:10001602-1749196800-1749315600@oldirongarage.com
SUMMARY:25th Annual Arkansas Valley Antique Tractor Show & EDGETA Regional Show
DESCRIPTION:Feature: John Deere \nContact: Clyde Traylor\, 479-650-0768 \nemail: tractorhauler47@gmail.com \nBill Garner\, 479-206-0104 \nFacebook: Arkansas Valley Antique Tractor Club
URL:http://oldirongarage.com/event/25th-annual-arkansas-valley-antique-tractor-show-edgeta-regional-show/
LOCATION:North Franklin County Fairgrounds\, 724 N 29th St\, Ozark\, AR\, 72949\, United States
CATEGORIES:Shows and Festivals
END:VEVENT
BEGIN:VEVENT
DTSTART;TZID=America/Chicago:20250607T080000
DTEND;TZID=America/Chicago:20250607T140000
DTSTAMP:20260421T005912
CREATED:20250517T010515Z
LAST-MODIFIED:20250517T010515Z
UID:10001593-1749283200-1749304800@oldirongarage.com
SUMMARY:Lawrence County Tractor & Engine Club
DESCRIPTION:Lawrence County Antique Engine and Tractor Club Annual Show \nJune 7. 2025 Mt Hope Baptist Church Soccer Fields \n8am to 2 pm Rain or shine \ntractor games and fun times\, chain in a box\, bucket race\, slow drag\, ping pong ball on a cone\, barrel race\, blind man bluff\, skillet toss\, wagon backing\, pedal tractor races\, pedal tractor pulls\, (subject to participation) \nFood vendors will be available \nAll vendors welcome \nContact: Dwight Bowling\, 256-353-5167 \nTim Flannigan\, 256-303-1437 \nJonathan Henderson\, 256-280-6350 \nFacebook: Lawrence County Tractor Club
URL:http://oldirongarage.com/event/lawrence-county-tractor-engine-club/
LOCATION:Mount Hope Baptist Church\, 1771 Co Rd 23\, Mount Hope\, AL\, 35651\, United States
CATEGORIES:Shows and Festivals
ATTACH;FMTTYPE=image/jpeg:http://oldirongarage.com/wp-content/uploads/2025/05/492154572_10227304118219796_824138280810640522_n-1-e1747443829670.jpg
END:VEVENT
BEGIN:VEVENT
DTSTART;TZID=America/Chicago:20250607T080000
DTEND;TZID=America/Chicago:20250607T200000
DTSTAMP:20260421T005912
CREATED:20240522T145203Z
LAST-MODIFIED:20240522T145203Z
UID:10000866-1749283200-1749326400@oldirongarage.com
SUMMARY:Yesteryear Farm Show
DESCRIPTION:When: August 23-25\, 2024\nWhere: Dougherty Museum\, 8306 N. 107th St Longmont\, CO\, 80504\nContact: Bob McCarty\, 303-776-9859; Facebook: Yesteryear Farm Show\nThe Tractor Above will be auctioned off at the Farm Show!
URL:http://oldirongarage.com/event/yesteryear-farm-show/2025-06-07/
LOCATION:IL
END:VEVENT
BEGIN:VEVENT
DTSTART;TZID=America/Chicago:20250607T080000
DTEND;TZID=America/Chicago:20250608T170000
DTSTAMP:20260421T005912
CREATED:20250517T031729Z
LAST-MODIFIED:20250517T031729Z
UID:10001608-1749283200-1749402000@oldirongarage.com
SUMMARY:EDGE&TA Southwest Regional Show
DESCRIPTION:Contact: Casey Warner\, 530-990-6197 \nemail: caseywilmunder@yahoo.com
URL:http://oldirongarage.com/event/edgeta-southwest-regional-show/
LOCATION:HIstoric Patrick Ranch Museum\, 10381 Midway\, Durham\, CA\, 95938\, United States
CATEGORIES:Shows and Festivals
END:VEVENT
BEGIN:VEVENT
DTSTART;TZID=America/Chicago:20250607T090000
DTEND;TZID=America/Chicago:20250607T160000
DTSTAMP:20260421T005912
CREATED:20240522T144554Z
LAST-MODIFIED:20240522T144554Z
UID:10000490-1749286800-1749312000@oldirongarage.com
SUMMARY:Colorado State Fair Antique Equipment Display
DESCRIPTION:Colorado State Fair Antique Equipment Display\nWhen: August 23-September 2\, 2024\nWhere: 1001 Beulah Ave\, Pueblo\, CO 81004\nContact: Steve Stratton\, 719-250-7279; Email: stevestratman@yahoo.com; www\,frapausa.com; Facebook: Front Range Antique Power Assn.
URL:http://oldirongarage.com/event/colorado-state-fair-antique-equipment-display/2025-06-07/
LOCATION:IL
END:VEVENT
BEGIN:VEVENT
DTSTART;TZID=America/Chicago:20250607T090000
DTEND;TZID=America/Chicago:20250607T170000
DTSTAMP:20260421T005912
CREATED:20240522T161320Z
LAST-MODIFIED:20240522T161320Z
UID:10001202-1749286800-1749315600@oldirongarage.com
SUMMARY:Connecticut Antique Machinery Association Museum Annual Fall Festival
DESCRIPTION:Connecticut Antique Machinery Association Museum Annual Fall Festival\nWhen: September 27-29\, 2024\nWhere: 31B Kent-Cornwall Rd (Rt. 7) Kent\, CT\, 06757; 1 Mile North of town center\nContact: John Pawloski\, 860-354-0296; Email: j.a.pawloski@att.net; www.ctamachinery.com\, Facebook: Connecticut Antique Machinery Association
URL:http://oldirongarage.com/event/connecticut-antique-machinery-association-museum-annual-fall-festival-2/2025-06-07/
LOCATION:IL
END:VEVENT
END:VCALENDAR